BEGIN:VCALENDAR
VERSION:2.0
PRODID:-//SBT Tourism - Turismo San Benedetto del Tronto - ECPv6.15.11//NONSGML v1.0//EN
CALSCALE:GREGORIAN
METHOD:PUBLISH
X-ORIGINAL-URL:https://turismo.comunesbt.it
X-WR-CALDESC:Eventi per SBT Tourism - Turismo San Benedetto del Tronto
REFRESH-INTERVAL;VALUE=DURATION:PT1H
X-Robots-Tag:noindex
X-PUBLISHED-TTL:PT1H
BEGIN:VTIMEZONE
TZID:Europe/Rome
BEGIN:DAYLIGHT
TZOFFSETFROM:+0100
TZOFFSETTO:+0200
TZNAME:CEST
DTSTART:20230326T010000
END:DAYLIGHT
BEGIN:STANDARD
TZOFFSETFROM:+0200
TZOFFSETTO:+0100
TZNAME:CET
DTSTART:20231029T010000
END:STANDARD
BEGIN:DAYLIGHT
TZOFFSETFROM:+0100
TZOFFSETTO:+0200
TZNAME:CEST
DTSTART:20240331T010000
END:DAYLIGHT
BEGIN:STANDARD
TZOFFSETFROM:+0200
TZOFFSETTO:+0100
TZNAME:CET
DTSTART:20241027T010000
END:STANDARD
BEGIN:DAYLIGHT
TZOFFSETFROM:+0100
TZOFFSETTO:+0200
TZNAME:CEST
DTSTART:20250330T010000
END:DAYLIGHT
BEGIN:STANDARD
TZOFFSETFROM:+0200
TZOFFSETTO:+0100
TZNAME:CET
DTSTART:20251026T010000
END:STANDARD
END:VTIMEZONE
BEGIN:VEVENT
DTSTART;VALUE=DATE:20240624
DTEND;VALUE=DATE:20240901
DTSTAMP:20260426T022707
CREATED:20240611T150343Z
LAST-MODIFIED:20240611T150343Z
UID:10000036-1719187200-1725148799@turismo.comunesbt.it
SUMMARY:Sport al Parco
DESCRIPTION:Attività sportiva gratuita nei parchi cittadini. Un’occasione per praticare sport all’aria aperta\, migliorare il benessere fisico e sociale\, e godere degli spazi verdi della città. Un’iniziativa aperta a tutte le età e livelli di preparazione\, che si svolge in vari parchi della città\, in differenti orari. Scarica il programma completo per tutti i dettagli.\nA cura di: Assessorato allo Sport.\nScarica il programma completo 2024
URL:https://turismo.comunesbt.it/evento/sport-al-parco/
LOCATION:Parchi della città
CATEGORIES:Sport
ATTACH;FMTTYPE=image/jpeg:https://turismo.comunesbt.it/wp-content/uploads/2024/06/64-1.jpg
END:VEVENT
BEGIN:VEVENT
DTSTART;VALUE=DATE:20240701
DTEND;VALUE=DATE:20240826
DTSTAMP:20260426T022707
CREATED:20240710T072242Z
LAST-MODIFIED:20240710T072242Z
UID:10000236-1719792000-1724630399@turismo.comunesbt.it
SUMMARY:Estate al Museo del Mare
DESCRIPTION:Un ricco programma di appuntamenti estivi\, che animeranno il Museo del Mare e daranno l’occasione a grandi e piccoli di scoprire nuove cose e nuovi luoghi\, di conoscere e di divertirsi con la cultura. Dai laboratori al trekking notturno\, dalla caccia al tesoro alle visite guidate: quella al Museo del Mare è un’estate da non perdere! \nPROGRAMMA DELLE INIZIATIVE\nScoprendo il Museo del Mare\nData: Ogni giorno dal 1 luglio all’8 settembre\nOra: 18:00\nDescrizione: Sarà possibile prenotare una visita guidata all’intero polo museale.\nCosto: €4\,00 in aggiunta al costo del biglietto. \nMuseo del Mare Young\nData: Ogni giovedì dal 4 luglio al 5 settembre\nOra: 17:00\nDescrizione: Attività didattiche per bambini dai 5 ai 10 anni dedicate alle sezioni del Museo del Mare: laboratori scientifici\, artistici e di archeologia\, esperimenti\, visite animate\, attività ludiche e tante sorprese.\nCosto: €7\,00 \nUn Borgo di Storia\nData: Venerdì 12 e 26 luglio\, 9 e 23 agosto\nOra: 21:30\nDescrizione: Visita guidata alla Pinacoteca del Mare\, al cunicolo romano\, allo studio della poetessa Bice Piacentini Rinaldi e alla Villa Marittima sita in Piazza Sacconi. La visita sarà scandita dalle poesie in vernacolo sambenedettese.\nCosto: Adulti €7\,00; Bambini €3\,00 \nTrekking Notturno Sambenedettese\nData: Domenica 21 luglio\nOra: 21:15\nDescrizione: Alla scoperta delle aree più suggestive e caratteristiche di San Benedetto: partenza con visita al Museo della Civiltà Marinara\, passando per l’area portuale fino a raggiungere il Museo d’Arte sul Mare e concludere presso la storica Via Laberinto (con guida turistica).\nCosto: €10\,00 \nTour Guidati all’Asta del Pesce\nData: Ogni martedì dal 23 luglio al 13 agosto\nOra: 4:00\nDescrizione: Una visita speciale per vivere le ore di maggiore produttività del mercato ittico. A conclusione dell’asta colazione vista porto aspettando l’alba e visita al Museo Ittico “Augusto Capriotti”.\nCosto: Adulti €25\,00; Bambini €15\,00 \nUn Mare da Vivere\nData: 16 e 17 agosto\nOra: 18:00\nDescrizione: Tour guidato al Museo del Mare e all’area portuale alla scoperta della biodiversità marina e delle diverse tipologie di pesci accompagnati dallo staff del museo e dalla biologa marina della cooperativa Argo. A seguire degustazione presso gli stand del Festival.\nCosto: Adulti €14\,00; Bambini €8\,00 \nCaccia Ittica (Speciale Famiglie)\nData: Domenica 25 agosto\nOra: 18:30\nDescrizione: Una mappa del tesoro\, prove da superare\, un mercato ittico da esplorare: prestate attenzione agli indizi dei pirati e tuffatevi in una travolgente caccia al tesoro. La squadra vincitrice si aggiudicherà un gustoso premio!\nCosto: Adulti €10\,00; Bambini €5\,00 \nDettagli di contatto e prenotazione\nPrenotazione obbligatoria: 353 4109069\nSito web: museodelmaresbt.it\nIndirizzo: Viale G. Colombo 94\, San Benedetto del Tronto\nEmail: info@museodelmaresbt.it \nScarica la locandina con il programma completo degli eventi estivi al Museo del Mare. \n 
URL:https://turismo.comunesbt.it/evento/estate-al-museo-del-mare/
LOCATION:Museo del Mare
CATEGORIES:Culture
ATTACH;FMTTYPE=image/jpeg:https://turismo.comunesbt.it/wp-content/uploads/2024/07/estate-museo-mare-1.jpg
END:VEVENT
BEGIN:VEVENT
DTSTART;VALUE=DATE:20240703
DTEND;VALUE=DATE:20240829
DTSTAMP:20260426T022707
CREATED:20240710T070523Z
LAST-MODIFIED:20240710T070523Z
UID:10000235-1719964800-1724889599@turismo.comunesbt.it
SUMMARY:Effetto Notte - Rassegna Cinematografica
DESCRIPTION:Effetto Notte è una rassegna cinematografica che propone una serie di proiezioni di film d’autore. Dai grandi classici internazionali restaurati alle opere del panorama italiano contemporaneo\, la rassegna offre una programmazione da non perdere per gli amanti del grande schermo\, che potranno godersi gli spettacoli nella rilassante atmosfera del Parco Wojitila.\nA cura di: Cineforum SBT Baster Keaton \nProgramma delle proiezioni \nCLASSICI RESTAURATI\nMercoledì 3 luglio\nLA SIGNORA DELLA PORTA ACCANTO di François Truffaut \nMercoledì 10 luglio\nPERSEPOLIS di Marjane Satrapi e Vincent Paronnaud \nMercoledì 17 luglio\nIL GIARDINO DELLE VERGINE SUICIDE di Sofia Coppola \nMercoledì 24 luglio\nL’ODIO di Mathieu Kassovitz \nCONTEMPORANEO ITALIANO\nMercoledì 31 luglio\nEL PARAISO di Enrico Maria Artale \nMercoledì 7 agosto\nDALL’ALTO DI UNA FREDDA TORRE di Francesco Frangipane \nMercoledì 14 agosto\nLA BELLA ESTATE di Laura Luchetti \nGiovedì 22 agosto\nCOME PECORE IN MEZZO AI LUPI di Lyda Patitucci \nMercoledì 28 agosto\nIO E IL SECCO di Gianluca Santoni \nBiglietto intero € 6\,50 – Ridotto € 5\,00 (per tesserati Cineforum 2023/2024). \nScarica la locandina dell’evento con tutte le info per prenotazione e biglietti. \n 
URL:https://turismo.comunesbt.it/evento/effetto-notte-rassegna-cinematografica/
LOCATION:Parco Wojtyla
CATEGORIES:Culture
ATTACH;FMTTYPE=image/jpeg:https://turismo.comunesbt.it/wp-content/uploads/2024/07/effetto-notte-cinema-aperto-1.jpg
END:VEVENT
BEGIN:VEVENT
DTSTART;TZID=Europe/Rome:20240704T170000
DTEND;TZID=Europe/Rome:20240905T200000
DTSTAMP:20260426T022707
CREATED:20240627T154250Z
LAST-MODIFIED:20240627T154250Z
UID:10000068-1720112400-1725566400@turismo.comunesbt.it
SUMMARY:Museo del Mare Young
DESCRIPTION:Dal 4 luglio al 5 settembre\, il Museo del Mare ospita attività didattiche per bambini dai 5 ai 10 anni. In programma laboratori scientifici\, artistici e archeologici\, visite animate\, giochi e tante sorprese. Gli appuntamenti si terranno ogni giovedì alle ore 17:00.\nA cura di: Consorzio Il Picchio.\nIngresso a € 7\,00 con prenotazione obbligatoria al 353 4109069.  \n 
URL:https://turismo.comunesbt.it/evento/museo-del-mare-young/
LOCATION:Museo del Mare
CATEGORIES:Culture
ATTACH;FMTTYPE=image/jpeg:https://turismo.comunesbt.it/wp-content/uploads/2024/06/museo-mare-young-1.jpg
END:VEVENT
BEGIN:VEVENT
DTSTART;VALUE=DATE:20240718
DTEND;VALUE=DATE:20240930
DTSTAMP:20260426T022707
CREATED:20240630T191230Z
LAST-MODIFIED:20240630T191230Z
UID:10000106-1721260800-1727654399@turismo.comunesbt.it
SUMMARY:Michelangelo Pistoletto "Sub Rosa". Il segreto di Venere".
DESCRIPTION:La Palazzina Azzurra ospita dal 18 luglio al 29 settembre 2024 l’esposizione Sub Rosa. Il segreto di Venere. Mostra di Michelangelo Pistoletto e Mary Zygouri.\nL’evento è organizzato dall’Associazione Endeca Agitatore Culturale in collaborazione con la Fondazione Plart.\nLa mostra si avvale del Patrocinio del Comune di San Benedetto del Tronto e della Fondazione Pistoletto Cittadellarte ed è a cura di Rosalba Rossi. \nL’elegante Palazzina Azzurra ospiterà negli spazi esterni la grande scultura in marmo bianco di Carrara e acciaio di Michelangelo Pistoletto “Rosa trafitta” (1982-83)\, mentre all’interno verrà esposto un ritratto di donna della celebre serie dei Quadri specchianti degli stessi anni. \nContestualmente\, Mary Zygouri\, artista visiva nata ad Atene che vive e lavora tra la Grecia e l’Italia\, proporrà in grande sinergia “Venus of the rags/In Transit/Eleusis”\, video della performance site-specific che racconta una processione ibrida\, in parte litania\, in parte dimostrazione itinerante\, nella quale Zygouri percorre le strade della città trainando su un carretto la statua di Venere e il mucchio di stracci in lungo e in largo\, fra terreni incolti\, siti industriali abbandonati e cantieri edili lasciati incompiuti. Il corteo vede la partecipazione della comunità locale e quella straordinaria dello stesso Pistoletto.\nA cura di: Rosalba Rossi.\nProgetto grafico e catalogo: arch. Franco Mercuri\nCollaborazione scientifica e allestimento: Francesca Amadio\nTesti in catalogo: Tommaso Strinati\, Marino Capretti\, Cesare Mariotti\, Rossella Paliotto\, Rosalba Rossi.\nCura redazionale: Anna Petrazzuolo (Fondazione Plart)\nSegreteria organizzativa: Pina Di Pasqua (Fondazione Plart)\nLogistica: Nunzio Tarallo (Fondazione Plart) \nINFORMAZIONI\nPeriodo: 18 luglio – 29 settembre 2024\nInaugurazione: giovedì 18 luglio 2024 ore 19.00\nOrario 18/07 – 15/09: dalle 18:00 alle 24:00\nOrario 16/09 al 29/09\, dal mercoledì alla domenica: dalle 10.00 alle 13.00 – dalle 17.00 alle 20.00\nIngresso gratuito\nPer informazioni: tel. +39 0735 581139 \n 
URL:https://turismo.comunesbt.it/evento/michelangelo-pistoletto-sub-rosa-il-segreto-di-venere/
LOCATION:Palazzina Azzurra
CATEGORIES:Culture
ATTACH;FMTTYPE=image/jpeg:https://turismo.comunesbt.it/wp-content/uploads/2024/06/pistoletto-1.jpg
END:VEVENT
BEGIN:VEVENT
DTSTART;VALUE=DATE:20240801
DTEND;VALUE=DATE:20240805
DTSTAMP:20260426T022707
CREATED:20240717T105016Z
LAST-MODIFIED:20240717T105016Z
UID:10000486-1722470400-1722815999@turismo.comunesbt.it
SUMMARY:Mostra di Arti e Mestieri in bicicletta e della Tradizione del Mare
DESCRIPTION:Un evento in più giorni che celebra le arti e i mestieri tradizionali\, con un tocco speciale: i mestieranti in costume si sposteranno in bicicletta per le vie della città\, offrendo uno spettacolo itinerante. Durante la giornata\, sarà possibile assistere a scenette in vernacolo sambenedettese e degustare pregiati vini locali. Un’occasione per riscoprire le radici culturali e artigianali del territorio\, immergendosi nell’atmosfera autentica e conviviale di una volta.\nA cura di: Associazione Kronos Turismo Collettivo APS e Ribalta Picena. \nPROGRAMMA\n1 AGOSTO\nore 18:00 – Inaugurazione mostra \n2 AGOSTO\nore 18:00 – Visita guidata del Museo del Mare\, con degustazione di vini del territorio. Prenotazione obbligatoria: 353 4109069. \n3 AGOSTO\nore 16:30 – Dal Museo del Mare\, una variopinta carovana di mestieranti in abiti d’epoca si dirigerà verso il centro storico in sella alle bici dei mestieri. Il percorso attraverserà Piazza Giorgini\, proseguendo per Viale Secondo Moretti fino al Monumento ai Marinai: qui\, ad attendere la carovana\, ci sarà uno spettacolo che racconta la vita e la tradizione legata al mare: Il Luogo della Retara. Poi i figuranti torneranno verso il Museo del Mare. \n4 AGOSTO\nore 18:00 – L’associazione teatrale Ribalta Picena rappresenterà in vernacolo sambenedettese alcune scene di vita legate ai mestieri e al borgo marinaro:\n– L’améche de canténe (L’amico di cantina)\, con Francesco Casagrande e Massimo Spinozzi;\n– Ass’ha murte Cellò! (E’ morto Cellò!)\, con Cristina Marucci e Paola Marcelli;\n– Na sfurtòne me ggéra attorne… (Una sfortuna mi gira attorno…)\, con Chiara Bollettini e Francesco Casagrande;\n– Jé vuije lu marenare! (Io voglio il marinaio!)\, con Vittoria Giuliani;\n– Lu maestre (Il maestro)\, con Francesco Casagrande e Piero Di Salvatore;\n– Ha rrevate i frastire… (Sono arrivati i forestieri)\, con Nicoletta Catalini\, Lorella Ruggeri\, Maria Baldini\, Alessandra Ricci\, Vittoriana Mattioli;\n– Lu sugne de la bbzzòcche (Il sogno della bigotta)\, con Idalia Marzetti e Piero Di Salvatore. \nIntermezzi musicali con l’organetto\ndel m° Guido Napoletani \nAl termine degustazione di vini. \nScarica il programma della manifestazione. \n 
URL:https://turismo.comunesbt.it/evento/le-bici-dei-mestieri/
LOCATION:Museo del Mare
CATEGORIES:Music & Fun
ATTACH;FMTTYPE=image/jpeg:https://turismo.comunesbt.it/wp-content/uploads/2024/07/bici-mestieri-1.jpg
END:VEVENT
BEGIN:VEVENT
DTSTART;TZID=Europe/Rome:20240802T210000
DTEND;TZID=Europe/Rome:20240803T233000
DTSTAMP:20260426T022707
CREATED:20240703T063155Z
LAST-MODIFIED:20240703T063155Z
UID:10000163-1722632400-1722727800@turismo.comunesbt.it
SUMMARY:Teatro in Porto - Moby Dick
DESCRIPTION:Un’emozionante rappresentazione teatrale ispirata al celebre romanzo “Moby Dick” di Herman Melville. Un viaggio epico che esplora i temi della determinazione\, della natura e del destino\, rivisitato in chiave teatrale per offrire un’esperienza unica e coinvolgente.\nA cura di: AMAT. \n 
URL:https://turismo.comunesbt.it/evento/teatro-al-porto-moby-dick/
LOCATION:Area Portuale
CATEGORIES:Culture
ATTACH;FMTTYPE=image/jpeg:https://turismo.comunesbt.it/wp-content/uploads/2024/07/moby-dick-teatro-1.jpg
END:VEVENT
BEGIN:VEVENT
DTSTART;TZID=Europe/Rome:20240803T180000
DTEND;TZID=Europe/Rome:20240803T233000
DTSTAMP:20260426T022707
CREATED:20240703T065318Z
LAST-MODIFIED:20240703T065318Z
UID:10000167-1722708000-1722727800@turismo.comunesbt.it
SUMMARY:Notte Bianco-Rosa dei Bambini
DESCRIPTION:Una lunga serata dedicata ai bambini con una varietà di attività pensate per loro. Spettacoli coinvolgenti e laboratori creativi offriranno ai più piccoli momenti di puro divertimento. Un’occasione speciale per far vivere ai bambini esperienze uniche e stimolanti in un ambiente sicuro e accogliente.\nA cura di: Associazione Culturale APAT. \nBus navetta gratuito dallo Stadio “Riviera delle Palme”\, attivo dalle ore 17:00 alle ore 02:00. \nScarica la locandina dell’evento. \n \n  \n  \n  \n  \n  \n  \n  \nSPONSOR DELL’EVENTO \n \n \n 
URL:https://turismo.comunesbt.it/evento/notte-bianco-rosa-dei-bambini/
LOCATION:Centro Città
CATEGORIES:Music & Fun
ATTACH;FMTTYPE=image/jpeg:https://turismo.comunesbt.it/wp-content/uploads/2024/07/Notte-dei-bambini-1.jpg
END:VEVENT
BEGIN:VEVENT
DTSTART;TZID=Europe/Rome:20240803T210000
DTEND;TZID=Europe/Rome:20240818T233000
DTSTAMP:20260426T022707
CREATED:20240703T063656Z
LAST-MODIFIED:20240703T063656Z
UID:10000164-1722718800-1724023800@turismo.comunesbt.it
SUMMARY:Poetica Dentro
DESCRIPTION:“Poetica Dentro – Inquietudine e Armonia” è una mostra d’arte contemporanea che esplora il delicato equilibrio tra serenità e turbamento attraverso opere di artisti contemporanei\, con riflessioni e versi della poetessa Stefania Pasquali.\nInaugurazione della mostra: 3 agosto\, ore 19:00.\nLa mostra resterà chiusa il 15 agosto. \nESPOSIZIONI\nAbart\nDaniela Acciarri\nGiorgio Baldoni\nFrancesco Buscaini\nAngelo De Maio\nGiovanna Germani\nMichele Nave\nAntonella Spinelli\nGiorgina Violoni \nA cura di: Giorgio Baldoni. \n 
URL:https://turismo.comunesbt.it/evento/linquietudine-dellarmonia/
LOCATION:Torre dei Gualtieri
CATEGORIES:Culture
ATTACH;FMTTYPE=image/jpeg:https://turismo.comunesbt.it/wp-content/uploads/2024/07/mostra-arte-inquietudine-1.jpg
END:VEVENT
BEGIN:VEVENT
DTSTART;TZID=Europe/Rome:20240803T213000
DTEND;TZID=Europe/Rome:20240803T230000
DTSTAMP:20260426T022707
CREATED:20240703T064807Z
LAST-MODIFIED:20240703T064807Z
UID:10000166-1722720600-1722726000@turismo.comunesbt.it
SUMMARY:Incontri con l'autore - Misa Urbano
DESCRIPTION:Misa Urbano presenta il libro “Barbie”\, edito da Diarkos. Un’opportunità per scoprire la storia e l’evoluzione della famosa bambola attraverso le parole dell’autrice. Un viaggio affascinante nel mondo di Barbie\, tra curiosità e aneddoti\, che svela il suo impatto culturale e sociale nel corso degli anni.\nIn caso di pioggia l’evento si terrà presso l’Auditorium Comunale “G. Tebaldini”.\nA cura di: Associazione I Luoghi della Scrittura. \n 
URL:https://turismo.comunesbt.it/evento/incontri-con-lautore-misa-urbano/
LOCATION:Chalet da Luigi
CATEGORIES:Culture
ATTACH;FMTTYPE=image/jpeg:https://turismo.comunesbt.it/wp-content/uploads/2024/07/barbie-misa-urbano-1.jpg
END:VEVENT
END:VCALENDAR