BEGIN:VCALENDAR
VERSION:2.0
PRODID:-//SBT Tourism - Turismo San Benedetto del Tronto - ECPv6.15.11//NONSGML v1.0//EN
CALSCALE:GREGORIAN
METHOD:PUBLISH
X-WR-CALNAME:SBT Tourism - Turismo San Benedetto del Tronto
X-ORIGINAL-URL:https://turismo.comunesbt.it
X-WR-CALDESC:Eventi per SBT Tourism - Turismo San Benedetto del Tronto
REFRESH-INTERVAL;VALUE=DURATION:PT1H
X-Robots-Tag:noindex
X-PUBLISHED-TTL:PT1H
BEGIN:VTIMEZONE
TZID:Europe/Rome
BEGIN:DAYLIGHT
TZOFFSETFROM:+0100
TZOFFSETTO:+0200
TZNAME:CEST
DTSTART:20230326T010000
END:DAYLIGHT
BEGIN:STANDARD
TZOFFSETFROM:+0200
TZOFFSETTO:+0100
TZNAME:CET
DTSTART:20231029T010000
END:STANDARD
BEGIN:DAYLIGHT
TZOFFSETFROM:+0100
TZOFFSETTO:+0200
TZNAME:CEST
DTSTART:20240331T010000
END:DAYLIGHT
BEGIN:STANDARD
TZOFFSETFROM:+0200
TZOFFSETTO:+0100
TZNAME:CET
DTSTART:20241027T010000
END:STANDARD
BEGIN:DAYLIGHT
TZOFFSETFROM:+0100
TZOFFSETTO:+0200
TZNAME:CEST
DTSTART:20250330T010000
END:DAYLIGHT
BEGIN:STANDARD
TZOFFSETFROM:+0200
TZOFFSETTO:+0100
TZNAME:CET
DTSTART:20251026T010000
END:STANDARD
END:VTIMEZONE
BEGIN:VEVENT
DTSTART;VALUE=DATE:20240718
DTEND;VALUE=DATE:20240930
DTSTAMP:20260426T005702
CREATED:20240630T191230Z
LAST-MODIFIED:20240630T191230Z
UID:10000106-1721260800-1727654399@turismo.comunesbt.it
SUMMARY:Michelangelo Pistoletto "Sub Rosa". Il segreto di Venere".
DESCRIPTION:La Palazzina Azzurra ospita dal 18 luglio al 29 settembre 2024 l’esposizione Sub Rosa. Il segreto di Venere. Mostra di Michelangelo Pistoletto e Mary Zygouri.\nL’evento è organizzato dall’Associazione Endeca Agitatore Culturale in collaborazione con la Fondazione Plart.\nLa mostra si avvale del Patrocinio del Comune di San Benedetto del Tronto e della Fondazione Pistoletto Cittadellarte ed è a cura di Rosalba Rossi. \nL’elegante Palazzina Azzurra ospiterà negli spazi esterni la grande scultura in marmo bianco di Carrara e acciaio di Michelangelo Pistoletto “Rosa trafitta” (1982-83)\, mentre all’interno verrà esposto un ritratto di donna della celebre serie dei Quadri specchianti degli stessi anni. \nContestualmente\, Mary Zygouri\, artista visiva nata ad Atene che vive e lavora tra la Grecia e l’Italia\, proporrà in grande sinergia “Venus of the rags/In Transit/Eleusis”\, video della performance site-specific che racconta una processione ibrida\, in parte litania\, in parte dimostrazione itinerante\, nella quale Zygouri percorre le strade della città trainando su un carretto la statua di Venere e il mucchio di stracci in lungo e in largo\, fra terreni incolti\, siti industriali abbandonati e cantieri edili lasciati incompiuti. Il corteo vede la partecipazione della comunità locale e quella straordinaria dello stesso Pistoletto.\nA cura di: Rosalba Rossi.\nProgetto grafico e catalogo: arch. Franco Mercuri\nCollaborazione scientifica e allestimento: Francesca Amadio\nTesti in catalogo: Tommaso Strinati\, Marino Capretti\, Cesare Mariotti\, Rossella Paliotto\, Rosalba Rossi.\nCura redazionale: Anna Petrazzuolo (Fondazione Plart)\nSegreteria organizzativa: Pina Di Pasqua (Fondazione Plart)\nLogistica: Nunzio Tarallo (Fondazione Plart) \nINFORMAZIONI\nPeriodo: 18 luglio – 29 settembre 2024\nInaugurazione: giovedì 18 luglio 2024 ore 19.00\nOrario 18/07 – 15/09: dalle 18:00 alle 24:00\nOrario 16/09 al 29/09\, dal mercoledì alla domenica: dalle 10.00 alle 13.00 – dalle 17.00 alle 20.00\nIngresso gratuito\nPer informazioni: tel. +39 0735 581139 \n 
URL:https://turismo.comunesbt.it/evento/michelangelo-pistoletto-sub-rosa-il-segreto-di-venere/
LOCATION:Palazzina Azzurra
CATEGORIES:Culture
ATTACH;FMTTYPE=image/jpeg:https://turismo.comunesbt.it/wp-content/uploads/2024/06/pistoletto-1.jpg
END:VEVENT
BEGIN:VEVENT
DTSTART;VALUE=DATE:20240906
DTEND;VALUE=DATE:20240909
DTSTAMP:20260426T005702
CREATED:20240611T162136Z
LAST-MODIFIED:20240611T162136Z
UID:10000046-1725580800-1725839999@turismo.comunesbt.it
SUMMARY:Cinema all'aperto
DESCRIPTION:Proiezioni cinematografiche sotto le stelle in un’atmosfera estiva e rilassata. L’evento prevede una selezione di film per tutte le età. Le serate offrono un’occasione per godere del cinema in un grande parco al centro della città.\nA cura di: Niche srl. \nPROGRAMMA 06-08 SETTEMBRE \nApertura biglietteria dalle ore 20:30 \, orario inizio film ore 21:00 !!!\nRicordiamo che non sono previste prevendite o vendite online.\nIL BIGLIETTO È ACQUISTABILE SOLO ED UNICAMENTE IN PRESENZA FISICA DELLO SPETTATORE . \nVenerdì 06\nUN MONDO A PARTE\nCosto biglietto per tutti €3\,50 . \nSabato 07\nINSIDE OUT 2\nCosto biglietto per tutti €5\,00 . \nDomenica 08\nLA ZONA D’INTERESSE\nCosto biglietto per tutti €3\,50 . \nPer altre info: whatsapp al numero 350 0894284. \n 
URL:https://turismo.comunesbt.it/evento/cinema-allaperto/
LOCATION:Parco Wojtyla
CATEGORIES:Culture
ATTACH;FMTTYPE=image/jpeg:https://turismo.comunesbt.it/wp-content/uploads/2024/06/Cinema-aperto-1.jpg
END:VEVENT
BEGIN:VEVENT
DTSTART;VALUE=DATE:20240906
DTEND;VALUE=DATE:20240910
DTSTAMP:20260426T005702
CREATED:20240821T082624Z
LAST-MODIFIED:20240821T082624Z
UID:10000502-1725580800-1725926399@turismo.comunesbt.it
SUMMARY:Mercatino Regionale Francese
DESCRIPTION:Il Mercatino Regionale Francese\, con i suoi profumi\, sapori e colori d’oltralpe torna a San Benedetto del Tronto.\nTante le prelibatezze enogastronomiche presenti\, tutte rigorosamente di qualità e tradizione francese. \nOltre ottanta i tipi di formaggi\, i quali potranno essere abbinati ad un’ampia gamma di vini provenienti dalle più importanti regioni vinicole d’Oltralpe. Per i più golosi le “degustazioni dolci” potranno contare sui biscotti bretoni\, con oltre venti varietà di ripieno\, su un gran numero di cioccolatini dai gusti raffinati\, fino ad arrivare ai dolci preferiti da Re ed Imperatori: i macarons. \nUna grande tavolozza di colori è rappresentata dallo stand delle spezie e\, a completamento dell’offerta enogastronomica\, non mancheranno baguettes e croissants appena sfornati nello spazio della Boulangerie. \nIn questo piccolo angolo di Francia che si presenta nella tua città troverai anche l’artigianato\, con un’ampia gamma di prodotti provenienti da diverse regioni: lavanda\, saponi\, profumi\, tovaglie provenzali e tanto altro ancora… ti aspettiamo! \nSabato e domenica: dalle 9:00 alle 23:00.\nLunedì: dalle 9:00 alle 21:00. \nA cura di: Confcommercio e Paq Organisation. \n 
URL:https://turismo.comunesbt.it/evento/mercatino-regionale-francese/
LOCATION:Viale Buozzi
CATEGORIES:Market
ATTACH;FMTTYPE=image/jpeg:https://turismo.comunesbt.it/wp-content/uploads/2024/08/mercatino-francese-1-1.jpg
END:VEVENT
BEGIN:VEVENT
DTSTART;TZID=Europe/Rome:20240906T213000
DTEND;TZID=Europe/Rome:20240907T213000
DTSTAMP:20260426T005702
CREATED:20240904T133344Z
LAST-MODIFIED:20240904T133344Z
UID:10000519-1725658200-1725744600@turismo.comunesbt.it
SUMMARY:Risate in Palazzina
DESCRIPTION:Rassegna di cabaret e magia\, con l’esibizione\, venerdì 6 settembre\, del comico Marko Tana e\, a seguire\, del Mago Ares\, che proporrà uno spettacolo adatto a tutte le fasce d’età in un’atmosfera magica e fantastica. Presenterà la serata Chiara Zappacosta. \nSabato 7 settembre\, si esibiranno\, coordinati dal comico Angelo Carestia\, Gianfranco Phino – considerato fra i maggiori artisti nel campo del musical\, oltre a essere un autore di testi di cabaret – e Mago Mancini – un abile prestigiatore\, un simpatico comico\, un bravo attore\, un elegante presentatore\, un fine autore. \nIngresso è gratuito.\nA cura di: Associazione Lido degli Aranci.\nPalazzina Azzurra \n 
URL:https://turismo.comunesbt.it/evento/risate-in-palazzina/
LOCATION:Palazzina Azzurra
CATEGORIES:Music & Fun
ATTACH;FMTTYPE=image/jpeg:https://turismo.comunesbt.it/wp-content/uploads/2024/09/ristae-palazzini-1.jpg
END:VEVENT
END:VCALENDAR