BEGIN:VCALENDAR
VERSION:2.0
PRODID:-//SBT Tourism - Turismo San Benedetto del Tronto - ECPv6.15.11//NONSGML v1.0//EN
CALSCALE:GREGORIAN
METHOD:PUBLISH
X-WR-CALNAME:SBT Tourism - Turismo San Benedetto del Tronto
X-ORIGINAL-URL:https://turismo.comunesbt.it
X-WR-CALDESC:Eventi per SBT Tourism - Turismo San Benedetto del Tronto
REFRESH-INTERVAL;VALUE=DURATION:PT1H
X-Robots-Tag:noindex
X-PUBLISHED-TTL:PT1H
BEGIN:VTIMEZONE
TZID:Europe/Rome
BEGIN:DAYLIGHT
TZOFFSETFROM:+0100
TZOFFSETTO:+0200
TZNAME:CEST
DTSTART:20230326T010000
END:DAYLIGHT
BEGIN:STANDARD
TZOFFSETFROM:+0200
TZOFFSETTO:+0100
TZNAME:CET
DTSTART:20231029T010000
END:STANDARD
BEGIN:DAYLIGHT
TZOFFSETFROM:+0100
TZOFFSETTO:+0200
TZNAME:CEST
DTSTART:20240331T010000
END:DAYLIGHT
BEGIN:STANDARD
TZOFFSETFROM:+0200
TZOFFSETTO:+0100
TZNAME:CET
DTSTART:20241027T010000
END:STANDARD
BEGIN:DAYLIGHT
TZOFFSETFROM:+0100
TZOFFSETTO:+0200
TZNAME:CEST
DTSTART:20250330T010000
END:DAYLIGHT
BEGIN:STANDARD
TZOFFSETFROM:+0200
TZOFFSETTO:+0100
TZNAME:CET
DTSTART:20251026T010000
END:STANDARD
BEGIN:DAYLIGHT
TZOFFSETFROM:+0100
TZOFFSETTO:+0200
TZNAME:CEST
DTSTART:20260329T010000
END:DAYLIGHT
BEGIN:STANDARD
TZOFFSETFROM:+0200
TZOFFSETTO:+0100
TZNAME:CET
DTSTART:20261025T010000
END:STANDARD
END:VTIMEZONE
BEGIN:VEVENT
DTSTART;VALUE=DATE:20241031
DTEND;VALUE=DATE:20250403
DTSTAMP:20260425T202743
CREATED:20240920T104906Z
LAST-MODIFIED:20240920T104906Z
UID:10000521-1730332800-1743638399@turismo.comunesbt.it
SUMMARY:Teatro Concordia - Stagione 24/25
DESCRIPTION:Diciassette appuntamenti per dieci spettacoli da ottobre ad aprile: è un viaggio all’insegna del divertimento intelligente\, della riflessione e delle emozioni quello che propone la stagione 2024-25 del Teatro Concordia di San Benedetto del Tronto promossa dal Comune con l’AMAT\, il contributo della Regione Marche e del MiC e il sostegno di BIM Tronto.\nIl cartellone è un invito a vivere la magia dello spettacolo dal vivo nelle sue diverse declinazioni per un’esperienza a 360 gradi e si compone delle due tradizionali sezioni della Prosa e Domenica in famiglia\, rassegna per un pubblico anche di bambini. \nLucrezia Lante della Rovere e Arcangelo Iannace diretti da Francesco Zecca inaugurano il programma il 31 ottobre e 1 novembre con Non si fa così di Audrey Schebat. Francesca e Giulio\, in apparenza\, sembrano una coppia stabile e solida fino a quando Francesca\, pianista di fama mondiale\, tornata inaspettatamente da un viaggio di lavoro scopre che Giulio\, affermato psicanalista\, si prepara a commettere l’irreparabile. \nVeronica Cruciani dirige Lodo Guenzi e Sara Putignano il 19 e 20 novembre in Molto rumore per nulla\, uno dei testi più conosciuti di William Shakespeare. Come in molte delle commedie del Bardo\, si tratta di una storia giocata su scambi di persona\, intrighi\, duelli e giochi di parole. E proprio i giochi di parole vengono ad assumere in questa vicenda un significato fondamentale: tutta l’opera si articola infatti su equivoci originati in prima battuta da quello che i protagonisti dicono. Tutti i personaggi vengono ingannati\, truffati dalle parole che loro stessi pronunciano o ascoltano. \nIl drammaturgo e regista spagnolo Pablo Remón\, già celebrato in patria con il Premio Nacional de Literatura Dramàtica e il Premio Lope de Vega per il Teatro\, porta in scena il 17 e 18 dicembre la sua esilarante commedia Ciarlatani affidandosi al talento di Silvio Orlando\, nel ruolo del protagonista. Tradotta dal drammaturgo Davide Carnevali\, questa è una pièce in dieci capitoli per quattro attori\, che viaggiano attraverso decine di personaggi\, spazi e tempi\, per dare vita ad una satira sul mondo del teatro e del cinema\, ma anche a una riflessione sul successo\, sul fallimento e sui ruoli che ricopriamo. \nNel mese di gennaio il Teatro Concordia accoglie la compagnia capitanata da Lunetta Savino e diretta da Marcello Cotugno per la residenza di riallestimento de La madre\, prima del debutto previsto il 10 e 11 gennaio. Florian Zeller nel testo indaga con estrema acutezza il tema dell’amore materno e le possibili derive patologiche a cui può condurre. La partenza del figlio\, ormai adulto\, viene vissuta dalla donna come un vero e proprio tradimento\, come abbandono del nido\, a cui si aggiunge una decadenza dell’amore coniugale in atto da tempo. Il tono da black comedy iniziale lascia scappare più di un sorriso\, per le situazioni descritte e il meccanismo delle ripetizioni che Zeller instaura nel testo. \nLa morte improvvisa del re d’Inghilterra mostra tutta la debolezza della monarchia\, quando la corona finisce nelle mani del principe ereditario\, un ragazzo sciocco e sprovveduto. Tra il potere e il nuovo re\, un medico veterinario pronto a cogliere un’occasione che forse\, poi\, non si rivelerà tale. Questo in sintesi il plot narrativo de Il medico dei maiali in scena il 1 e 2 febbraio grazie all’interpretazione di una inedita e curiosa coppia di straordinari artisti come Luca Bizzarri e Francesco Montanari\, regia di Davide Sacco autore anche del testo. \nAmbra Angiolini\, diretta da Giorgio Gallione\, grazie alla scrittura limpida\, poetica\, teatralissima e immaginifica di Viola Ardone\, in Oliva Denaro porta in scena il 13 e 14 marzo la storia di tutte le donne che ancora oggi pensano e temono di non aver scelta\, costrette da una legge arcaica e indecente ad accettare un aguzzino e un violentatore tra le mura di casa. Una storia di ieri e di oggi\, che parla di libertà\, civiltà e riscatto. \nLa stagione in abbonamento del Teatro Concordia volge al termine (1 e 2 aprile) con Elena Bucci\, Monica Piseddu e Woody Neri in Il Golem. «L’opera – racconta il regista Jacopo Gassmann – è forse la più importante che Juan Mayorga abbia scritto in questi anni duri\, complessi\, per molti versi imperscrutabili. È un testo a sua volta straordinariamente denso\, enigmatico e stratificato. Mayorga me lo ha spedito e rispedito più volte nel corso del tempo – meticolosamente riscritto\, ripensato\, riformulato – come se l’autore si fosse risvegliato da un incubo dalle infinite varianti\, come se i costanti cortocircuiti e gli sconvolgimenti di questi ultimi anni (dalla pandemia all’emergenza climatica\, dalle guerre alla conseguente crisi economico-sociale) lo avessero portato a mettere il testo stesso in uno stato di crisi continua. Partendo dalla grande leggenda ebraica del Golem\, la pièce racconta la storia di una donna che\, per tentare di salvare suo marito da una malattia incurabile si affida ad un’organizzazione segreta che promette di curare l’uomo\, a patto che la donna impari tre nuove parole al giorno». \nDomenica in famiglia torna al Teatro Concordia con tre appuntamenti per i più piccoli. Si inizia il 1 dicembre con Peter Pan di Factory Compagnia Transadriatica e Fondazione Sipario Toscana e si prosegue il 26 gennaio con In fondo al mare di Teatro Verde e Histoire D’eux e il 23 febbraio con Tuttatesta di Fontemaggiore e 7-8 chili. \nNuovi abbonamenti (dopo la fase di prelazione dei rinnovi) dal 19 al 27 ottobre presso biglietteria del Teatro Concordia\nInfo 0735 588246\nInfo AMAT 071 2072439 – www.amatmarche.net \nScarica il programma completo della stagione 24/25. \n 
URL:https://turismo.comunesbt.it/evento/teatro-concordia-stagione-24-25/
LOCATION:Teatro Concordia
CATEGORIES:Culture
ATTACH;FMTTYPE=image/jpeg:https://turismo.comunesbt.it/wp-content/uploads/2024/09/teatro-concordia-1.jpg
END:VEVENT
BEGIN:VEVENT
DTSTART;VALUE=DATE:20241130
DTEND;VALUE=DATE:20250330
DTSTAMP:20260425T202743
CREATED:20241118T150943Z
LAST-MODIFIED:20241118T150943Z
UID:10000532-1732924800-1743292799@turismo.comunesbt.it
SUMMARY:Esseri Umani - Stagione teatrale 24/25 Cineteatro San Filippo Neri
DESCRIPTION:Nella stagione teatrale 2024/2025 del Cineteatro San Filippo Neri\, Caleidoscopio invita a riscoprirsi parte di un tutto e a non rimanere indifferenti rispetto a ciò che ci circonda. \n“Essere umani”\, significa mantenere la propria interezza\, come individui ma anche come collettività\, senza chiuderci in noi stessi\, senza lasciare indietro gli altri\, accogliendo e avendo cura delle fragilità di ognuno. Scegliere di “Essere umani”\, in un mondo che ci spinge a badare solo alla nostra sopravvivenza\, vuol dire schierarsi dalla parte degli ultimi\, dei dimenticati\, non voltare le spalle al dolore e all’ingiustizia\, ma rimanere attenti\, proteggersi l’un l’altro\, se necessario arrabbiarsi insieme. \nLa IX stagione del Cineteatro San Filippo Neri vuole fare del palcoscenico un punto di incontro e riflessione\, uno spazio dove ascoltare voci spesso sovrastate dall’individualismo che ci viene imposto. Affinché il teatro sia un luogo di resistenza alla divisione e all’isolamento\, con la consapevolezza che non possiamo essere pienamente umani senza mantenere il contatto con gli altri. \nA cura di: Caleidoscopio APS \nScopri e acquista gli spettacoli sul sito ufficiale \nScarica la borchure con il programma della stagione 24/25 \n 
URL:https://turismo.comunesbt.it/evento/esseri-umani-stagione-teatrale-24-25-cineteatro-san-filippo-neri/
LOCATION:Cineteatro San Filippo Neri
CATEGORIES:Culture
ATTACH;FMTTYPE=image/png:https://turismo.comunesbt.it/wp-content/uploads/2024/11/cineteatro-SFN-2425-1.png
END:VEVENT
BEGIN:VEVENT
DTSTART;VALUE=DATE:20241207
DTEND;VALUE=DATE:20250120
DTSTAMP:20260425T202743
CREATED:20241129T155635Z
LAST-MODIFIED:20241129T155635Z
UID:10000536-1733529600-1737331199@turismo.comunesbt.it
SUMMARY:Bestiario Prossimo
DESCRIPTION:Una mostra tagliente sul passato e sul futuro del rapporto tra l’umanità e il regno animale. Aprirà le porte alla Palazzina Azzurra la mostra “Bestiario Prossimo” di Cesare D’Antonio. Affascinante esplorazione del legame tra umanità e regno animale\, l’allestimento propone al pubblico un viaggio attraverso una varietà di tecniche artistiche\, da quadri a stampe\, da ceramiche a installazioni. \nD’Antonio propone una selezione di suoi lavori che si distingue per il suo approccio ironico. La rappresentazione degli animali umanizzati è la celebrazione della loro bellezza\, ma anche una critica sottile e provocatoria al desiderio propriamente umano di appropriarci della loro essenza. \nLa mostra attraversa rappresentazioni degli animali ispirate a passati lontani\, dal sapore mitologico\, e futuri probabili nei quali gli animali si umanizzano\, trattando il tema del rapporto tra l’umanità e il regno animale con un’ironia tagliente\, divertente e al contempo d’incentivo alla riflessione su quale futuro attenda il rapporto tra le nostre specie. \nL’esposizione potrà essere visitata gratuitamente dal mercoledì alla domenica\, dalle 10:00 alle 13:00 e dalle 16:00 alle 19:00 fino al 19 gennaio 2025. \nA cura di: Studio d’Arte MISOUL \n﻿
URL:https://turismo.comunesbt.it/evento/bestiario-prossimo/
LOCATION:Palazzina Azzurra
CATEGORIES:Culture
ATTACH;FMTTYPE=image/png:https://turismo.comunesbt.it/wp-content/uploads/2024/11/bestiario-prossimo-1.png
END:VEVENT
BEGIN:VEVENT
DTSTART;VALUE=DATE:20241209
DTEND;VALUE=DATE:20241225
DTSTAMP:20260425T202743
CREATED:20241129T170043Z
LAST-MODIFIED:20241129T170043Z
UID:10000542-1733702400-1735084799@turismo.comunesbt.it
SUMMARY:Animazioni natalizie itineranti
DESCRIPTION:Tutta la magia del Natale per le vie di San Benedetto e Porto d’Ascoli. Zampognari\, Babbo Natale e Nataline\, trampolieri e tanto divertimento allieteranno i pomeriggi di grandi e piccoli\, creando con suoni e colori l’atmosfera irripetibile di questo periodo.\nLa animazioni si volgeranno ogni giorno presso il centro cittadino\, Via Laureati e Via del Mare\, a partire dalle ore 16:30 circa.
URL:https://turismo.comunesbt.it/evento/animazioni-natalizie-itineranti/
CATEGORIES:Music & Fun
ATTACH;FMTTYPE=image/png:https://turismo.comunesbt.it/wp-content/uploads/2024/11/animazione-itinerante-1.png
END:VEVENT
BEGIN:VEVENT
DTSTART;VALUE=DATE:20241221
DTEND;VALUE=DATE:20241223
DTSTAMP:20260425T202743
CREATED:20241130T173921Z
LAST-MODIFIED:20241130T173921Z
UID:10000550-1734739200-1734911999@turismo.comunesbt.it
SUMMARY:Delizie e Gioie delle Feste
DESCRIPTION:Mercatino artigianale lungo le vie del centro (Via Montebello e Viale Secondo Moretti)\, per scoprire nuove tecniche di lavorazione e conoscere storie\, gusti e profumi di prodotti tipici. Il mercatino è attivo dalle ore 9:00 alle ore 21:00.\nA cura di Confcommercio. \n﻿
URL:https://turismo.comunesbt.it/evento/delizie-e-gioie-delle-feste-3/
LOCATION:Viale Secondo Moretti
CATEGORIES:Market
ATTACH;FMTTYPE=image/png:https://turismo.comunesbt.it/wp-content/uploads/2024/11/gioie-feste-1.png
END:VEVENT
BEGIN:VEVENT
DTSTART;VALUE=DATE:20241222
DTEND;VALUE=DATE:20241223
DTSTAMP:20260425T202743
CREATED:20241201T073057Z
LAST-MODIFIED:20241201T073057Z
UID:10000560-1734825600-1734911999@turismo.comunesbt.it
SUMMARY:Babbo Natale in moto
DESCRIPTION:Babbo Natale arriva anche in moto! Per bambini e adulti il personaggio più atteso del Natale farà il suo ingresso nel centro cittadino sulle due ruote\, dalle 10:00 alle 13:00 e dalle 15:30 alle 18:30.\nIniziativa a cura di Kawalieri di Akashi.
URL:https://turismo.comunesbt.it/evento/babbo-natale-in-moto/
LOCATION:Centro Città
CATEGORIES:Music & Fun
ATTACH;FMTTYPE=image/png:https://turismo.comunesbt.it/wp-content/uploads/2024/12/natale-in-moto-1.png
END:VEVENT
BEGIN:VEVENT
DTSTART;TZID=Europe/Rome:20241222T143000
DTEND;TZID=Europe/Rome:20241222T193000
DTSTAMP:20260425T202743
CREATED:20241201T071225Z
LAST-MODIFIED:20241201T071225Z
UID:10000559-1734877800-1734895800@turismo.comunesbt.it
SUMMARY:Festa dello sport e dell'amicizia
DESCRIPTION:Un’intera giornata dedicata allo sport e all’amicizia\, per condividere momenti di divertimento e coltivare valori fondamentali per bambini\, ragazzi e adulti.\nA cura dell’Assessorato allo Sport.
URL:https://turismo.comunesbt.it/evento/festa-dello-sport-e-dellamicizia/
LOCATION:Palazzetto dello Sport B. Speca
CATEGORIES:Sport
ATTACH;FMTTYPE=image/png:https://turismo.comunesbt.it/wp-content/uploads/2024/12/festa-amicizia-1.png
END:VEVENT
BEGIN:VEVENT
DTSTART;TZID=Europe/Rome:20241222T153000
DTEND;TZID=Europe/Rome:20241222T183000
DTSTAMP:20260425T202743
CREATED:20241201T073854Z
LAST-MODIFIED:20241201T073854Z
UID:10000561-1734881400-1734892200@turismo.comunesbt.it
SUMMARY:Villaggio di Babbo Natale
DESCRIPTION:Il villaggio di Babbo Natale! Un villaggio ludico ricreativo\, con la presenza di teatrino a tema natalizio\, postazione Babbo Natale con trono e cassetta letterine\, spettacoli\, laboratori\, truccabimbi.\nA cura di Gli Amici di Babbo Natale.
URL:https://turismo.comunesbt.it/evento/villaggio-di-babbo-natale/
LOCATION:Parco Eleonora
CATEGORIES:Music & Fun
ATTACH;FMTTYPE=image/png:https://turismo.comunesbt.it/wp-content/uploads/2024/12/christmas-village-2.png
END:VEVENT
BEGIN:VEVENT
DTSTART;TZID=Europe/Rome:20241222T163000
DTEND;TZID=Europe/Rome:20241222T190000
DTSTAMP:20260425T202743
CREATED:20241201T070420Z
LAST-MODIFIED:20241201T070420Z
UID:10000558-1734885000-1734894000@turismo.comunesbt.it
SUMMARY:Babbo Natale viene dal mare
DESCRIPTION:L’evento giunto al decimo anno si terrà\, come da consuetudine\, all’interno dell’area portuale di san Benedetto del Tronto\, nella fascia oraria 16:30 – 19:00.\nLa manifestazione rappresenta il festoso omaggio che l’Associazione\, a chiusura della propria programmazione annuale\, dedica ai bambini e alle bambine della città.\nLa Lega Navale Italiana invita bambini e famiglie a partecipare numerosi alla Festa di Babbo Natale Marinaio con appuntamento domenica pomeriggio presso il Piazzale Pinguino della Darsena turistica.\nSarà possibile imbucare la propria letterina per Babbo Natale e saranno estratte in premio 3 settimane di campus estivo di vela\, canoa e pesca sportiva.\nVi aspettiamo numerosi\, domenica 22 dicembre dalle ore 16\,30.\nA cura di Lega Navale.
URL:https://turismo.comunesbt.it/evento/babbo-natale-viene-dal-mare/
LOCATION:Piazzale Pinguino
CATEGORIES:Music & Fun
ATTACH;FMTTYPE=image/png:https://turismo.comunesbt.it/wp-content/uploads/2024/12/babbo-natale-mare-1.png
END:VEVENT
BEGIN:VEVENT
DTSTART;TZID=Europe/Rome:20241222T163000
DTEND;TZID=Europe/Rome:20241222T200000
DTSTAMP:20260425T202743
CREATED:20241218T092658Z
LAST-MODIFIED:20241218T092658Z
UID:10000595-1734885000-1734897600@turismo.comunesbt.it
SUMMARY:Christmas Music Fest
DESCRIPTION:Una domenica natalizia caratterizzata dal divertimento\, dalla musica e dallo spettacolo. Tra Piazza Cesare Battisti e via XX Settembre si susseguiranno live band e performers\, per allietare i presenti e gioire pienamente dell’atmosfera natalizia. \nScarica la locandina dell’evento. \n﻿
URL:https://turismo.comunesbt.it/evento/christmas-music-fest/
LOCATION:Via XX Settembre
CATEGORIES:Music & Fun
ATTACH;FMTTYPE=image/png:https://turismo.comunesbt.it/wp-content/uploads/2024/12/xmas-music-fest-1.png
END:VEVENT
BEGIN:VEVENT
DTSTART;TZID=Europe/Rome:20241222T213000
DTEND;TZID=Europe/Rome:20241222T233000
DTSTAMP:20260425T202743
CREATED:20241218T084252Z
LAST-MODIFIED:20241218T084252Z
UID:10000594-1734903000-1734910200@turismo.comunesbt.it
SUMMARY:Oro\, incenso e mirra - Gran Concerto di Natale
DESCRIPTION:“Oro\, incenso e mirra” è il Gran Concerto di Natale per soli\, coro e organo\, che si terrà presso la Chiesa di Sant’Antonio da Padova. Un’occasione per godere dell’atmosfera natalizia immersi nelle suggestioni della musica dal vivo. \nScarica la locandina dell’evento. \n﻿
URL:https://turismo.comunesbt.it/evento/oro-incenso-e-mirra-gran-concerto-di-natale/
LOCATION:Chisa S. Antonio da Padova
CATEGORIES:Music & Fun
ATTACH;FMTTYPE=image/png:https://turismo.comunesbt.it/wp-content/uploads/2024/12/gran-concerto-natale-1.png
END:VEVENT
END:VCALENDAR