BEGIN:VCALENDAR
VERSION:2.0
PRODID:-//SBT Tourism - Turismo San Benedetto del Tronto - ECPv6.15.11//NONSGML v1.0//EN
CALSCALE:GREGORIAN
METHOD:PUBLISH
X-ORIGINAL-URL:https://turismo.comunesbt.it
X-WR-CALDESC:Eventi per SBT Tourism - Turismo San Benedetto del Tronto
REFRESH-INTERVAL;VALUE=DURATION:PT1H
X-Robots-Tag:noindex
X-PUBLISHED-TTL:PT1H
BEGIN:VTIMEZONE
TZID:Europe/Rome
BEGIN:DAYLIGHT
TZOFFSETFROM:+0100
TZOFFSETTO:+0200
TZNAME:CEST
DTSTART:20240331T010000
END:DAYLIGHT
BEGIN:STANDARD
TZOFFSETFROM:+0200
TZOFFSETTO:+0100
TZNAME:CET
DTSTART:20241027T010000
END:STANDARD
BEGIN:DAYLIGHT
TZOFFSETFROM:+0100
TZOFFSETTO:+0200
TZNAME:CEST
DTSTART:20250330T010000
END:DAYLIGHT
BEGIN:STANDARD
TZOFFSETFROM:+0200
TZOFFSETTO:+0100
TZNAME:CET
DTSTART:20251026T010000
END:STANDARD
BEGIN:DAYLIGHT
TZOFFSETFROM:+0100
TZOFFSETTO:+0200
TZNAME:CEST
DTSTART:20260329T010000
END:DAYLIGHT
BEGIN:STANDARD
TZOFFSETFROM:+0200
TZOFFSETTO:+0100
TZNAME:CET
DTSTART:20261025T010000
END:STANDARD
END:VTIMEZONE
BEGIN:VEVENT
DTSTART;VALUE=DATE:20250221
DTEND;VALUE=DATE:20250531
DTSTAMP:20260425T125056
CREATED:20250220T085600Z
LAST-MODIFIED:20250220T085600Z
UID:10000637-1740096000-1748649599@turismo.comunesbt.it
SUMMARY:I Venerdì del Circolo dei Sambenedettesi
DESCRIPTION:Il Circolo dei Sambenedettesi presenta una nuova serie di incontri culturali che si terranno da febbraio a maggio 2025. Un’occasione per esplorare la storia\, l’arte\, la tradizione e il dialetto della città attraverso conferenze e approfondimenti curati da esperti del settore. \nGli eventi sono gratuiti e aperti a tutti\, un’opportunità per appassionati\, studiosi e cittadini di scoprire il ricco patrimonio storico e culturale di San Benedetto del Tronto. \nEcco il calendario degli appuntamenti: \nVenerdì 21 febbraio 2025\, ore 17:00\nIn ricordo di Gabriele Cavezzi: per una bibliografia completa di un protagonista della ricerca storica\nLuogo: Biblioteca Comunale “G. Lesca”\nInterventi: Roberta Spinelli\, Stefano Cavezzi\, Barbara Domini\, Giancarlo Brandimarti\, Giuseppe Merlini\, Gino Troli \nVenerdì 7 marzo 2025\, ore 17:30\nSeguendo la cometa: uno sguardo alla poesia vernacolare sambenedettese\nLuogo: Sala della Poesia\, Palazzo Piacentini\nA cura di: Giancarlo Brandimarti \nVenerdì 14 marzo 2025\, ore 17:00\nI 90 anni del Mercato Ittico di San Benedetto (1935-2025)\nLuogo: Biblioteca Comunale “G. Lesca”\nA cura di: Giuseppe Merlini e Gino Troli \nVenerdì 21 marzo 2025\, ore 17:30\nArchivi della memoria: l’Archivio Storico Comunale e gli altri archivi pubblici di San Benedetto del Tronto\nLuogo: Sala della Poesia\, Palazzo Piacentini\nA cura di: Giuseppe Merlini \nVenerdì 28 marzo 2025\, ore 17:30\nPer variopinti cieli: Giuseppe Pauri (1882-1949)\, pittore sambenedettese tra Liberty e Art Déco\nLuogo: Museo del Mare\nA cura di: Massimo Papetti \nVenerdì 4 aprile 2025\, ore 17:30\nPer non perdere la nostra lingua: fondazione di un’Accademia Popolare di Dialetto Sambenedettese\nLuogo: Associazione Pescatori Sambenedettesi\, Piazzale Caduti del Mare\, 6\nEvento speciale: Presentazione del progetto di scuola di dialetto \nVenerdì 11 aprile 2025\, ore 17:30\nTra etnografia e antropologia: usi e costumi della marineria sambenedettese\nLuogo: Sala della Poesia\, Palazzo Piacentini\nA cura di: Giuseppe Merlini \nVenerdì 16 maggio 2025\, ore 17:30\nUna vita culturale tra arte e cinema: Lectio di Paolo Consorti\nLuogo: Museo del Mare \nVenerdì 30 maggio 2025\, ore 17:30\nLu Campanò e la stampa periodica sambenedettese: mezzo secolo di storia attraverso le pagine del nostro giornale\nLuogo: Museo del Mare\nA cura di: Patrizio Patrizi \nUn viaggio tra passato e presente per riscoprire le radici della nostra città.\nPer maggiori informazioni: www.circolodeisambenedettesi.eu \nScarica il programma completo degli incontri.
URL:https://turismo.comunesbt.it/evento/i-venerdi-del-circolo-dei-sambenedettesi/
LOCATION:Vari luoghi
CATEGORIES:Culture
ATTACH;FMTTYPE=image/png:https://turismo.comunesbt.it/wp-content/uploads/2025/02/venerdi-del-circolo-1.png
END:VEVENT
BEGIN:VEVENT
DTSTART;VALUE=DATE:20250312
DTEND;VALUE=DATE:20250512
DTSTAMP:20260425T125056
CREATED:20250316T105910Z
LAST-MODIFIED:20250316T105910Z
UID:10000646-1741737600-1747007999@turismo.comunesbt.it
SUMMARY:Riabitare il Paese Alto. La riqualificazione attraverso la cultura e il sociale.
DESCRIPTION:Una serie di eventi ed iniziative in programma tra marzo e aprile\, che vedono la valorizzazione costante di spazi e luoghi del Paese Alto per raccontare – attraverso appuntamenti fissi e tutti gratuiti – le diverse anime e le tante memorie della cultura del mare e non solo. \nTra conferenze\, laboratori per grandi e piccoli\, incontri di storytelling\, video\, attività ludiche e teatrali\, visite guidate e approfondimenti tematici\, spettacoli di circo sociale\, mostre all’aperto\, installazioni sonore e luminose\, “Riabitare il Paese Alto. La riqualificazione attraverso la cultura e il sociale” vuole coinvolgere tutta la comunità e chiamarla a partecipare alle esperienze così da toccare con mano il patrimonio immateriale e materiale del Paese Alto di San Benedetto del Tronto. \nScarica la locandina del progetto. \nSegui i nostri canali per conoscere tutti gli eventi in programma.
URL:https://turismo.comunesbt.it/evento/riabitare-il-paese-alto/
LOCATION:Paese Alto
CATEGORIES:Culture
ATTACH;FMTTYPE=image/png:https://turismo.comunesbt.it/wp-content/uploads/2025/03/Riabitare-paese_alto-1.png
END:VEVENT
BEGIN:VEVENT
DTSTART;TZID=Europe/Rome:20250323T173000
DTEND;TZID=Europe/Rome:20250602T233000
DTSTAMP:20260425T125056
CREATED:20250310T091615Z
LAST-MODIFIED:20250310T091615Z
UID:10000642-1742751000-1748907000@turismo.comunesbt.it
SUMMARY:Mostra fotografica – Il bacio del mare
DESCRIPTION:Dal 23 marzo al 2 giugno 2025\, la suggestiva cornice di Piazza Sacconi nel Paese Alto di San Benedetto del Tronto ospiterà “Il bacio del mare\, memoria e memorie nella fotografia del XX secolo“. \nCurata da Giuseppe Merlini\, in collaborazione con Elisa Mori e Giorgia Berardinelli\, l’esposizione all’aperto racconta il legame tra il mare e l’identità del territorio attraverso immagini iconiche e rappresentative del patrimonio immateriale e identitario della città. \n \nL’inaugurazione si terrà domenica 23 marzo alle ore 17:30 (in caso di maltempo\, presso Degusteria del Gigante).\nL’evento si inserisce nel progetto “Riabitare il Paese Alto – La riqualificazione attraverso la cultura e il sociale”. \nScarica la locandina dell’evento.
URL:https://turismo.comunesbt.it/evento/mostra-fotografica-il-bacio-del-mare/
LOCATION:Piazza Sacconi
CATEGORIES:Culture
ATTACH;FMTTYPE=image/jpeg:https://turismo.comunesbt.it/wp-content/uploads/2025/03/mostra-fotografica-755x400-1-1.jpg
END:VEVENT
BEGIN:VEVENT
DTSTART;VALUE=DATE:20250401
DTEND;VALUE=DATE:20250621
DTSTAMP:20260425T125056
CREATED:20250410T073135Z
LAST-MODIFIED:20250410T073135Z
UID:10000683-1743465600-1750463999@turismo.comunesbt.it
SUMMARY:“Raccont-Arti”: arte e teatro per un dialogo interculturale
DESCRIPTION:Un laboratorio teatrale che è anche un viaggio tra culture\, memorie e storie di vita. È partito al Cineteatro San Filippo Neri di San Benedetto del Tronto il progetto Raccont-Arti – dialogo interculturale attraverso l’arte\, promosso da Caleidoscopio APS in collaborazione con la Cooperativa Sociale On the Road e finanziato dalla Fondazione Nazionale delle Comunicazioni nell’ambito del bando “Welfare di Comunità Start up 2”. \nIl progetto coinvolge giovani migranti e italiani in un percorso di narrazione teatrale\, in cui lingue\, ritmi\, musiche e vissuti diversi diventano materia creativa e occasione di incontro. Il laboratorio\, attivo fino a giugno 2025\, prevede incontri settimanali e si concluderà con una restituzione pubblica\, frutto del lavoro collettivo. \n“Raccont-Arti” è molto più di un semplice laboratorio: è uno spazio in cui si intrecciano generazioni\, arti e sensibilità. Accanto al teatro\, trovano posto anche il cinema\, la letteratura\, la legatoria e il cucito\, dando vita a un vero e proprio cantiere di comunità. Il progetto coinvolge anche l’Oratorio\, l’Unitalsi e altri gruppi della parrocchia San Filippo Neri\, favorendo un prezioso dialogo intergenerazionale. \nPer seguire il progetto e ascoltare le voci dei protagonisti\, è possibile visitare i canali social di Caleidoscopio. \nINFO\nTEL 389 1463537\ncaleidoteatro@gmail.com\nwww.caleidoteatro.com\nIG: @caleidoteatro\nFB: Caleidoscopio
URL:https://turismo.comunesbt.it/evento/raccont-arti-arte-e-teatro-per-un-dialogo-interculturale/
LOCATION:Cineteatro San Filippo Neri
CATEGORIES:Culture
ATTACH;FMTTYPE=image/png:https://turismo.comunesbt.it/wp-content/uploads/2025/04/raccontarti-1.png
END:VEVENT
BEGIN:VEVENT
DTSTART;VALUE=DATE:20250501
DTEND;VALUE=DATE:20250818
DTSTAMP:20260425T125056
CREATED:20250523T090552Z
LAST-MODIFIED:20250523T090552Z
UID:10000695-1746057600-1755475199@turismo.comunesbt.it
SUMMARY:EcoFestival della Cucina Marinara e del Brodetto Sambenedettese
DESCRIPTION:Si accendono i riflettori sull’EcoFestival della Cucina Marinara e del Brodetto Sambenedettese\, che entra ufficialmente nel vivo con i primi due appuntamenti aperti al pubblico\, gratuiti e pensati per coinvolgere l’intera comunità. \nSan Benedetto del Tronto si trasforma in un laboratorio a cielo aperto\, dove la cultura marinara incontra la sostenibilità\, il gusto e la tradizione. Un’occasione unica per scoprire – e riscoprire – il valore del mare e di chi lo vive ogni giorno: pescatori\, chef\, studenti\, musei\, scienziati e operatori turistici sono i protagonisti di un ricco programma di eventi\, incontri\, degustazioni e attività divulgative. \nL’invito è aperto a tutti: residenti\, turisti\, studenti\, famiglie e appassionati di cucina e di mare. Un viaggio autentico tra sapori\, storie e saperi\, alla scoperta della pesca sostenibile e della grande tradizione del brodetto sambenedettese\, rivisitato con uno sguardo rivolto al futuro. \nL’EcoFestival è promosso dal Comune di San Benedetto del Tronto e cofinanziato dalla Regione Marche\, nell’ambito del Programma Nazionale del Fondo Europeo per gli Affari Marittimi\, la Pesca e l’Acquacoltura – Reg. (UE) 2021/1139 – Priorità 2\, Azione 4 – Codice Intervento 222402 – Promozione. \nInfo e aggiornamenti\nTELEFONO: 3516380479\nSITO WEB→ ecofestivalsbt.it\nINSTAGRAM\nFACEBOOK 
URL:https://turismo.comunesbt.it/evento/ecofestival-della-cucina-marinara-e-del-brodetto-sambenedettese/
LOCATION:Vari luoghi
CATEGORIES:Food & Drink
ATTACH;FMTTYPE=image/png:https://turismo.comunesbt.it/wp-content/uploads/2025/05/ecofestival-1.png
END:VEVENT
BEGIN:VEVENT
DTSTART;TZID=Europe/Rome:20250510T180000
DTEND;TZID=Europe/Rome:20250510T200000
DTSTAMP:20260425T125056
CREATED:20250413T053348Z
LAST-MODIFIED:20250413T053348Z
UID:10000686-1746900000-1746907200@turismo.comunesbt.it
SUMMARY:Il bel canto nei generi musicali
DESCRIPTION:Sabato 10 maggio 2025 alle ore 18.00\, il Giardino di Palazzo Piacentini si riempie delle note più intense e suggestive del repertorio lirico italiano\, con l’appuntamento “Il bel canto nei generi musicali”\, a cura dell’Istituto Musicale Antonio Vivaldi. \nProtagonisti della serata saranno il soprano Romina Assenti e il pianista Daniele Di Teodoro\, per un viaggio emozionale tra le arie più celebri di Bellini\, Verdi\, Puccini\, fino alle atmosfere evocative delle colonne sonore di Ennio Morricone. \nUn’occasione per riscoprire\, attraverso l’intensità della voce e la delicatezza del pianoforte\, il fascino senza tempo del bel canto e la sua capacità di attraversare epoche e generi. \nIl concerto è parte del progetto “Riabitare il Paese Alto – La riqualificazione attraverso la cultura e il sociale”\, che anima il centro storico con proposte culturali aperte a tutti. \nEvento a cura dell’Istituto Musicale “Antonio Vivaldi”.\nIngresso gratuito\, fino ad esaurimento posti.\nIn caso di maltempo\, l’evento si terrà all’interno di Palazzo Piacentini. \nScarica la locandina dell’evento.
URL:https://turismo.comunesbt.it/evento/il-bel-canto-nei-generi-musicali/
LOCATION:Giardino di Palazzo Piacentini
CATEGORIES:Music & Fun
ATTACH;FMTTYPE=image/jpeg:https://turismo.comunesbt.it/wp-content/uploads/2025/04/bel-canto-755x400-1-1.jpg
END:VEVENT
END:VCALENDAR