BEGIN:VCALENDAR
VERSION:2.0
PRODID:-//SBT Tourism - Turismo San Benedetto del Tronto - ECPv6.15.11//NONSGML v1.0//EN
CALSCALE:GREGORIAN
METHOD:PUBLISH
X-ORIGINAL-URL:https://turismo.comunesbt.it
X-WR-CALDESC:Eventi per SBT Tourism - Turismo San Benedetto del Tronto
REFRESH-INTERVAL;VALUE=DURATION:PT1H
X-Robots-Tag:noindex
X-PUBLISHED-TTL:PT1H
BEGIN:VTIMEZONE
TZID:Europe/Rome
BEGIN:DAYLIGHT
TZOFFSETFROM:+0100
TZOFFSETTO:+0200
TZNAME:CEST
DTSTART:20240331T010000
END:DAYLIGHT
BEGIN:STANDARD
TZOFFSETFROM:+0200
TZOFFSETTO:+0100
TZNAME:CET
DTSTART:20241027T010000
END:STANDARD
BEGIN:DAYLIGHT
TZOFFSETFROM:+0100
TZOFFSETTO:+0200
TZNAME:CEST
DTSTART:20250330T010000
END:DAYLIGHT
BEGIN:STANDARD
TZOFFSETFROM:+0200
TZOFFSETTO:+0100
TZNAME:CET
DTSTART:20251026T010000
END:STANDARD
BEGIN:DAYLIGHT
TZOFFSETFROM:+0100
TZOFFSETTO:+0200
TZNAME:CEST
DTSTART:20260329T010000
END:DAYLIGHT
BEGIN:STANDARD
TZOFFSETFROM:+0200
TZOFFSETTO:+0100
TZNAME:CET
DTSTART:20261025T010000
END:STANDARD
END:VTIMEZONE
BEGIN:VEVENT
DTSTART;VALUE=DATE:20250501
DTEND;VALUE=DATE:20250818
DTSTAMP:20260425T112133
CREATED:20250523T090552Z
LAST-MODIFIED:20250523T090552Z
UID:10000695-1746057600-1755475199@turismo.comunesbt.it
SUMMARY:EcoFestival della Cucina Marinara e del Brodetto Sambenedettese
DESCRIPTION:Si accendono i riflettori sull’EcoFestival della Cucina Marinara e del Brodetto Sambenedettese\, che entra ufficialmente nel vivo con i primi due appuntamenti aperti al pubblico\, gratuiti e pensati per coinvolgere l’intera comunità. \nSan Benedetto del Tronto si trasforma in un laboratorio a cielo aperto\, dove la cultura marinara incontra la sostenibilità\, il gusto e la tradizione. Un’occasione unica per scoprire – e riscoprire – il valore del mare e di chi lo vive ogni giorno: pescatori\, chef\, studenti\, musei\, scienziati e operatori turistici sono i protagonisti di un ricco programma di eventi\, incontri\, degustazioni e attività divulgative. \nL’invito è aperto a tutti: residenti\, turisti\, studenti\, famiglie e appassionati di cucina e di mare. Un viaggio autentico tra sapori\, storie e saperi\, alla scoperta della pesca sostenibile e della grande tradizione del brodetto sambenedettese\, rivisitato con uno sguardo rivolto al futuro. \nL’EcoFestival è promosso dal Comune di San Benedetto del Tronto e cofinanziato dalla Regione Marche\, nell’ambito del Programma Nazionale del Fondo Europeo per gli Affari Marittimi\, la Pesca e l’Acquacoltura – Reg. (UE) 2021/1139 – Priorità 2\, Azione 4 – Codice Intervento 222402 – Promozione. \nInfo e aggiornamenti\nTELEFONO: 3516380479\nSITO WEB→ ecofestivalsbt.it\nINSTAGRAM\nFACEBOOK 
URL:https://turismo.comunesbt.it/evento/ecofestival-della-cucina-marinara-e-del-brodetto-sambenedettese/
LOCATION:Vari luoghi
CATEGORIES:Food & Drink
ATTACH;FMTTYPE=image/png:https://turismo.comunesbt.it/wp-content/uploads/2025/05/ecofestival-1.png
END:VEVENT
BEGIN:VEVENT
DTSTART;VALUE=DATE:20250529
DTEND;VALUE=DATE:20250818
DTSTAMP:20260425T112133
CREATED:20250326T185201Z
LAST-MODIFIED:20250326T185201Z
UID:10000675-1748476800-1755475199@turismo.comunesbt.it
SUMMARY:La cultura del cibo dalla costa ai borghi
DESCRIPTION:“La cultura del cibo tra costa e borghi del Piceno” è un’iniziativa che celebra l’autenticità e le eccellenze gastronomiche della Riviera delle Palme e del suo entroterra. Un viaggio che unisce mare e colline\, tradizione e innovazione\, comunità e visitatori\, attraverso un ricco calendario di eventi e attività culturali e di promozione. \nIl progetto mette al centro la relazione profonda tra cibo e cultura\, valorizzando i prodotti locali\, i luoghi simbolici\, le memorie collettive e la creatività di chi ogni giorno fa vivere il patrimonio enogastronomico del nostro territorio.\nIn particolare\, le finalità ultime del progetto\, oltre che valorizzare i prodotti tipici come attrattori culturali e turistici\, sono quelle di coinvolgere comunità locali\, produttori\, chef e ristoratori per rafforzare l’identità del territorio attraverso la narrazione del cibo e promuovere – di conseguenza – forme di turismo autentico\, esperienziale e sostenibile. \nIl programma degli appuntamenti si articola su più livelli\, con un impianto ben definito e distribuito nel corso dei mesi\, in grado di offrire un panorama di esperienze varie e coinvolgenti. \nLe conferenze con degustazione\nGli appuntamenti sono dedicati al racconto dei prodotti e delle tradizioni culinarie locali\, arricchiti da degustazioni guidate. Gli incontri si tengono in luoghi emblematici\, che hanno un legame reale e simbolico con i temi trattati. \nLe anteprime degli eventi\nLe anteprime del Festival del Pesce Azzurro\, del Tartufo d’Amare e del Benedetto Brodetto consistono in eventi esclusivi e a numero limitato\, che anticipano i festival principali e si svolgono in location selezionate come ristoranti e spazi dedicati. \nGli eventi principali\nLe manifestazioni principali del progetto\, aperte al pubblico e ospitate nelle piazze più rappresentative della città\, rappresentano il culmine dell’esperienza enogastronomica. \n\nFestival del Pesce Azzurro\nDal 29 maggio al 2 giugno\, in Piazza Giorgini e Viale Buozzi\, un tuffo nel gusto del pesce del nostro mare.\nTartufo d’Amare\nDal 10 al 13 luglio\, in Piazza Salvo D’Acquisto\, per assaporare l’originale connubio tra i sapori che mare e montagna sanno regalare.\nBenedetto Brodetto\nDal 13 al 17 agosto\, in Piazza Giorgini e Viale Buozzi\, si celebrano le tradizioni e l’eccellenza nostrane\, attraverso un piatto che parla di mare\, di terra e di storia.\n\n  \nIn queste occasioni\, showcooking\, degustazioni\, musica e laboratori animeranno il cuore delle città\, trasformandole in veri e propri palcoscenici del gusto. \nLe azioni di promozione \nA corredo\, nell’ottica di valorizzare e far conoscere il progetto a una più ampia platea\, è stata prevista la partecipazioni a eventi di carattere nazionali. La presenza a Fritto Misto (Ascoli Piceno\, 24 aprile – 4 maggio) e Vinòforum (Roma\, 8 – 14 settembre) rappresenta infatti una scelta strategica per raccontare e promuovere il nostro patrimonio gastronomico \nIniziative di Educational Tour con blogger\nImportante azioni di comunicazione esperienziale coinvolgono travel blogger e food blogger italiani\, che vivranno il territorio in prima persona e lo racconteranno attraverso i propri canali: il 15 marzo\, 29 marzo e 12 aprile le tappe previste riguardano i musei e le location culturali della nostra città\, mentre – durante i festival principali – i creator testimonieranno le loro esperienze “sul campo”. \nScarica la locandina dell’evento.
URL:https://turismo.comunesbt.it/evento/la-cultura-del-cibo-dalla-costa-ai-borghi/
LOCATION:Vari luoghi
CATEGORIES:Food & Drink
ATTACH;FMTTYPE=image/png:https://turismo.comunesbt.it/wp-content/uploads/2025/03/cultura-cibo-1.png
END:VEVENT
BEGIN:VEVENT
DTSTART;VALUE=DATE:20250606
DTEND;VALUE=DATE:20250701
DTSTAMP:20260425T112133
CREATED:20250503T150532Z
LAST-MODIFIED:20250503T150532Z
UID:10000691-1749168000-1751327999@turismo.comunesbt.it
SUMMARY:29° Festival dell’Arte sul Mare
DESCRIPTION:Dal 6 al 30 giugno torna il Festival dell’Arte sul Mare\, simposio internazionale di scultura e pittura murale organizzato dall’associazione L’AltraArte. Tema dell’edizione 2025: “Poesia”\, ispirazione per opere e incontri tra artisti e pubblico al molo sud e alla Palazzina Azzurra. \nDue le sezioni principali: \nScultura Viva – “La poesia del bassorilievo” (6–14 giugno) \nPittura Viva – “La poesia del segno e colore” (6–14 giugno) \nSaranno presenti diversi artisti internazionali: Sarah Atzeni\, Nicola Fucci\, Anna Multone\, Arianna Palmieri\, Donald Sufka\, Domenico Chiola\, Vincenzo Lopardo\, Victoria Stewart\, Giorgio Piunti. \nEventi da non perdere: \n7 giugno\, ore 17 | Palazzina Azzurra – Mostra di Paolo Gubinelli e conferenza “Poesia nell’Arte” di Andrea Viozzi. \n11 giugno\, ore 21:30 | Molo sud – Concerto “La poesia del jazz e rock” con Percorsi Obliqui Jazz Quartet e Doctor Vic. \n14 giugno\, ore 12 | Molo sud – Conclusione lavori di Scultura e Pittura Viva. \n14 giugno\, ore 18:30 | Presentazione delle opere al pubblico e alle autorità. \nEvento realizzato con il sostegno del Comune di San Benedetto e numerosi partner locali.\nCatalogo gratuito in distribuzione durante il Festival. \nScarica la locandina del Festival dell’Arte sul Mare.
URL:https://turismo.comunesbt.it/evento/29-festival-dellarte-sul-mare/
LOCATION:Molo Sud e Palazzina Azzurra
CATEGORIES:Culture
ATTACH;FMTTYPE=image/png:https://turismo.comunesbt.it/wp-content/uploads/2025/05/arte-sul-mare-1.png
END:VEVENT
BEGIN:VEVENT
DTSTART;VALUE=DATE:20250612
DTEND;VALUE=DATE:20250701
DTSTAMP:20260425T112133
CREATED:20250612T065944Z
LAST-MODIFIED:20250612T065944Z
UID:10000713-1749686400-1751327999@turismo.comunesbt.it
SUMMARY:Incontri con l'Autore - Appuntamenti di giugno 2025
DESCRIPTION:“Incontri con l’Autore” è una rassegna letteraria organizzato dall’Associazione I Luoghi della Scrittura\, giunta alla 44° edizione. Gli incontri si svolgono nei luoghi più suggestivi della città\, con scrittori di fama nazionale ed internazionale che presentano le loro opere. Un’occasione per immergersi nella scrittura che racconta il mondo contemporaneo e riflettere sulle parole del nostro tempo. \nTutti gli eventi sono gratuiti e a ingresso libero ed hanno inizio alle 21:30.\nIn caso di maltempo\, gli appuntamenti si svolgono presso l’Auditorium Comunale “G. Tebaldini”. \nProgramma di giugno 2025 \n13 giugno – h 21:30\nAlessandro Bertante presenta E TUTTI DANZARONO (La Nave di Teseo)\nPresso Circolo Nautico Sambenedettese \n18 giugno – h 21:30\nGiuseppe Romani presenta LA STORIA DIMENTICATA (Affinità elettive)\nPresso Palazzina Azzurra\nIn collaborazione con il Circolo dei Sambenedettesi \n19 giugno – h 21:30\nMarianna Aprile e Luca Telese presentano MATERIALI RESISTENTI. FARE LA COSA GIUSTA IN UN PAESE CHE SBAGLIA (Piemme)\nPresso Palazzina Azzurra\nIn collaborazione con Club Incorreggibili Ottimisti \n22 giugno – h 21:30\nPaolo Regina presenta I COLLEZIONISTI (Neri Pozza)\nPresso Circolo Nautico Sambenedettese \n23 giugno – h 21:30\nFinalisti del Premio Strega 2025\nFabio Mini presenta LA NATO IN GUERRA. DAL PATTO DI DIFESA ALLA FRENESIA BELLICA (Dedalo)\nPresso Palazzina Azzurra\nIn collaborazione con Club Incorreggibili Ottimisti \n26 giugno – h 21:30\nMaurizio Mannoni presenta QUELLA NOTTE A SAXA RUBRA (La Nave di Teseo)\nPresso Circolo Nautico Sambenedettese\nIn collaborazione con Club Incorreggibili Ottimisti \n30 giugno – h 21:30\nFrancesco Specchia presenta COMPLIMENTI PER LA TRASMISSIONE. UN IMPAVIDO TELEBESTIARIO DELLA TV ITALIANA (Baldini + Castoldi)\nPresso Chalet Da Luigi \nInfo: 335 700 0773 – info@iluoghidellascrittura.it \nScarica il programma completo degli appuntamento estivi.
URL:https://turismo.comunesbt.it/evento/incontri-con-lautore-appuntamenti-di-giugno-2025/
LOCATION:Vari luoghi
CATEGORIES:Culture
ATTACH;FMTTYPE=image/jpeg:https://turismo.comunesbt.it/wp-content/uploads/2025/06/Incontri-con-lautore-1-1.jpg
END:VEVENT
BEGIN:VEVENT
DTSTART;VALUE=DATE:20250616
DTEND;VALUE=DATE:20250905
DTSTAMP:20260425T112133
CREATED:20250616T120422Z
LAST-MODIFIED:20250621T060005Z
UID:10000828-1750032000-1757030399@turismo.comunesbt.it
SUMMARY:Parliamone! - Presentazioni e incontri con autori ed editori
DESCRIPTION:Torna Parliamone!\, la rassegna letteraria in più appuntamenti giunta alla VI edizione\, a cura della Libreria Nave Cervo\, con il focus su pagine\, pensieri e voci del panorama editoriale italiano. \nGli incontri si svolgono nella suggestiva cornice della Palazzina Azzurra di San Benedetto del Tronto e prevedono la partecipazione di un autore o un’autrice ospite.\nDi seguito il programma degli incontri. \nGiovedì 26 giugno\nAlessia Roselli “Piantala” – CARTHUSIA\nore 18:00 – LETTURE NATI PER LEGGERE E PRESENTAZIONE DEL LIBRO\nore 21:15 – INCONTRO DI FORMAZIONE SUI SILENT BOOKS\nDIALOGA CON L’AUTRICE: VALERIA ROMANO (Un villaggio per crescere SBT\, Ass. Michelepertutti) \nGiovedì 03 luglio\nore 21:15 – MATTEO CARDILLO – “AMARSI IN UNA CASA INFESTATA” – MERCURIO BOOKS\nDIALOGA CON L’AUTORE: MATTEO TREVISANI (Scrittore ed editore) \nGiovedì 10 luglio\nore 21:15 – ALCIDE PIERANTOZZI – “LO SBILICO” – EINAUDI \nGiovedì 17 luglio\nore 21:15 – MARIO DI VITO – “IL NERO DEI GIORNI. STORIA DEL GIUDICE AMATO\, DELLE SUE INDAGINI E DEL SUO OMICIDIO” – LATERZA\nDIALOGA CON L’AUTORE: UMBERTO MONTI (procuratore Ascoli Piceno e presidente ANM Marche)\nMODERA: TERESA VALIANI (giornalista) \nGiovedì 31 luglio\nMARIA POLITA – “101 LIBRI DA LEGGERE PRIMA DEI SETTE ANNI. UNA GUIDA PER ORIENTARSI NELLA LETTERATURA PER L’INFANZIA” – SOLFERINO\nore 18:00 – LETTURE NATI PER LEGGERE\nore 21:15 – PRESENTAZIONE DEL LIBRO\nDIALOGA CON L’AUTRICE: BARBARA DOMINI (responsabile della biblioteca “G. Lesca” di San\nBenedetto del Tronto) \nVenerdì 08 agosto\nore 21:15 – GIUSEPPE ROMANI – “LA STORIA DIMENTICATA” – AFFINITÀ ELETTIVE\nDIALOGANO CON L’AUTORE: DON VINCENZO CATANI (ARCHIVISTA DIOCESANO) E MARIA GRAZIA BIANCO (PROF. EMERITO DI LETTERATURA CRISTIANA ANTICA)\nMODERA: DON GIANLUCA ROSATI\nPresso la pinetina adiacente alla Chiesta di Cristo Re – Porto d’Ascoli  \nMercoledì 13 agosto\nore 21:15 – SILVIA BALLESTRA – “UNA NOTTE NELLA CASA DELLE FIABE” – LATERZA\nDIALOGA CON L’AUTRICE: MICHELE ORTORE (linguista e docente) \nGiovedì 21 agosto\nore 21:15 – ALESSANDRO ROBECCHI – “IL TALLONE DA KILLER” – SELLERIO\nDIALOGA CON L’AUTORE: MARIO DI VITO (scrittore e giornalista) \nGiovedì 04 settembre\nore 21:15 – NADIA TERRANOVA – “QUELLO CHE SO DI TE” – GUANDA\nDIALOGA CON L’AUTRICE: SILVIA BALLESTRA (scrittrice)\nMODERA: CLAUDIA FULVI (psicoterapeuta e libroterapeuta) \nUn’occasione per dialogare direttamente con chi scrive\, ascoltare storie e condividere riflessioni sul mondo dei libri\, dell’editoria e dell’attualità. \nIn sintesi\nEvento: Parliamone! – Presentazioni e incontri con autori ed editori\nQuando: diversi incontri a partire da 26 giugno e fino al 4 settembre\nDove: Palazzina Azzurra (salvo diversamente indicato)\nA cura di: Libreria Nave Cervo\nInfo: 0735 1982012 – navecervo@gmail.com\nIngresso: gratuito \nScarica il programma degli incontri.
URL:https://turismo.comunesbt.it/evento/parliamone-presentazioni-e-incontri-con-autori-ed-editori/
LOCATION:Palazzina Azzurra
CATEGORIES:Culture
ATTACH;FMTTYPE=image/jpeg:https://turismo.comunesbt.it/wp-content/uploads/2025/06/Parliamone-1.jpg
END:VEVENT
BEGIN:VEVENT
DTSTART;VALUE=DATE:20250622
DTEND;VALUE=DATE:20250624
DTSTAMP:20260425T112133
CREATED:20250617T061052Z
LAST-MODIFIED:20250617T061052Z
UID:10000829-1750550400-1750723199@turismo.comunesbt.it
SUMMARY:Astri in Festa
DESCRIPTION:Il 22 e 23 giugno 2025\, dalle 17.00 alle 23.00\, il Giardino Creuza de Ma’ di Porto d’Ascoli ospita Astri in Festa\, festival dedicato ad astrologia\, tarologia e crescita personale. \nUn evento pensato per chi vuole conoscersi meglio e ritrovare connessione con sé stesso\, attraverso letture del tema natale\, consulenze individuali e approfondimenti spirituali.\nLe giornate saranno animate da professioniste dell’Astrological Academy: Nada Artemisia\, Ilaria Vannini\, Anna Caprara e Francesca Fini\, tutte esperte in astrologia psicologica evolutiva\, counseling e tarologia. Domenica 23\, la festa si concluderà con la celebrazione del solstizio d’estate e una meditazione collettiva sotto le stelle. \nIn sintesi\nEvento: Astri in Festa\nQuando: 22 e 23 giugno 2025\, dalle ore 17.00 alle 23.00\nDove: Giardino Creuza de Ma’\, Porto d’Ascoli\nA cura di: Astrological Academy\nInfo: astrienonsolo@gmail.com – tel. +39 345 6009043 / +39 333 5878359 (anche WhatsApp)\nIngresso: gratuito con prenotazione consigliata \nScarica la locandina dell’evento.
URL:https://turismo.comunesbt.it/evento/astri-in-festa/
LOCATION:Crêuza de Mä
CATEGORIES:Culture
ATTACH;FMTTYPE=image/jpeg:https://turismo.comunesbt.it/wp-content/uploads/2025/06/astri-in-festa-1.jpg
END:VEVENT
END:VCALENDAR