BEGIN:VCALENDAR
VERSION:2.0
PRODID:-//SBT Tourism - Turismo San Benedetto del Tronto - ECPv6.15.11//NONSGML v1.0//EN
CALSCALE:GREGORIAN
METHOD:PUBLISH
X-WR-CALNAME:SBT Tourism - Turismo San Benedetto del Tronto
X-ORIGINAL-URL:https://turismo.comunesbt.it
X-WR-CALDESC:Eventi per SBT Tourism - Turismo San Benedetto del Tronto
REFRESH-INTERVAL;VALUE=DURATION:PT1H
X-Robots-Tag:noindex
X-PUBLISHED-TTL:PT1H
BEGIN:VTIMEZONE
TZID:Europe/Rome
BEGIN:DAYLIGHT
TZOFFSETFROM:+0100
TZOFFSETTO:+0200
TZNAME:CEST
DTSTART:20250330T010000
END:DAYLIGHT
BEGIN:STANDARD
TZOFFSETFROM:+0200
TZOFFSETTO:+0100
TZNAME:CET
DTSTART:20251026T010000
END:STANDARD
BEGIN:DAYLIGHT
TZOFFSETFROM:+0100
TZOFFSETTO:+0200
TZNAME:CEST
DTSTART:20260329T010000
END:DAYLIGHT
BEGIN:STANDARD
TZOFFSETFROM:+0200
TZOFFSETTO:+0100
TZNAME:CET
DTSTART:20261025T010000
END:STANDARD
BEGIN:DAYLIGHT
TZOFFSETFROM:+0100
TZOFFSETTO:+0200
TZNAME:CEST
DTSTART:20270328T010000
END:DAYLIGHT
BEGIN:STANDARD
TZOFFSETFROM:+0200
TZOFFSETTO:+0100
TZNAME:CET
DTSTART:20271031T010000
END:STANDARD
END:VTIMEZONE
BEGIN:VEVENT
DTSTART;TZID=Europe/Rome:20260130T210000
DTEND;TZID=Europe/Rome:20260130T230000
DTSTAMP:20260423T113335
CREATED:20260122T090457Z
LAST-MODIFIED:20260122T090753Z
UID:10001001-1769806800-1769814000@turismo.comunesbt.it
SUMMARY:Club Viscardi on Tour - Full Band
DESCRIPTION:Venerdì 30 gennaio\, ore 21\, Viscardi arriva a San Benedetto del Tronto con il suo Club Viscardi on Tour – Full Band\, portando sul palco del Teatro Concordia uno dei live più attesi della nuova scena soul italiana. \nAll’anagrafe Vincenzo Viscardi\, classe 2000\, nato e cresciuto tra Salerno e Napoli\, l’artista ha pubblicato nel 2024 l’EP d’esordio Lady\, prodotto da Giada De Prisco. Un progetto che fonde i grandi classici dell’R&B americano con lingua napoletana\, hip hop e neo soul\, dando vita a un sound raffinato e potente. Nel 2025 è tra i protagonisti assoluti di X Factor\, arrivando al quinto live e conquistando pubblico e critica grazie a un’identità sonora originale e a una presenza scenica magnetica. Dal vivo\, Viscardi è intenso\, coinvolgente\, davvero unico nel suo genere. \nIn sintesi\n• Evento: Club Viscardi on Tour – Full Band\n• Quando: venerdì 30 gennaio\, ore 21\n• Dove: Teatro Concordia\n• Info: Biglietteria Teatro Concordia 0735-588246 ; AMAT 071-2072439\n• Ingresso: Biglietti €15 – ridotto €12 ; online su vivaticket.com \, o presso biglietterie circuito AMAT/Vivaticket.
URL:https://turismo.comunesbt.it/evento/club-viscardi-on-tour-full-band/
LOCATION:Teatro Concordia
CATEGORIES:Music & Fun
ATTACH;FMTTYPE=image/png:https://turismo.comunesbt.it/wp-content/uploads/2026/01/Viscardi.png
END:VEVENT
BEGIN:VEVENT
DTSTART;VALUE=DATE:20260404
DTEND;VALUE=DATE:20260406
DTSTAMP:20260423T113335
CREATED:20260403T080246Z
LAST-MODIFIED:20260403T103932Z
UID:10001031-1775260800-1775433599@turismo.comunesbt.it
SUMMARY:Pasqua in rosso con le Ducati Campioni del Mondo
DESCRIPTION:Le moto Ducati Campioni del Mondo arrivano nel cuore di San Benedetto del Tronto per un weekend all’insegna dei motori e della solidarietà. Protagonista assoluta sarà la MotoGP di Marc Marquez\, esposta nel villaggio di viale Moretti insieme alla SuperBike e ai nuovi modelli della gamma 2026\, disponibili anche per test-ride gratuiti (previa iscrizione: 071.9694301). \nL’evento unisce l’adrenalina dello sport a un forte impegno sociale. Grazie alla collaborazione con la Croce Rossa\, verranno donati giocattoli e uova di Pasqua ai bambini delle case famiglia. Il programma prevede inoltre dj-set con Simon\, la partecipazione delle Miss Grand Prix e lo stand di Radio Azzurra. Un’iniziativa inclusiva\, patrocinata dal Comune\, che promuove la sicurezza stradale e celebra la passione motociclistica senza distinzioni di genere. \nScarica la locandina dell’evento.
URL:https://turismo.comunesbt.it/evento/pasqua-in-rosso-con-le-ducati-campioni-del-mondo/
LOCATION:Viale Secondo Moretti
CATEGORIES:Music & Fun
ATTACH;FMTTYPE=image/jpeg:https://turismo.comunesbt.it/wp-content/uploads/2026/04/FOTO-EVENTI-SITO-2026.jpg
END:VEVENT
BEGIN:VEVENT
DTSTART;VALUE=DATE:20260430
DTEND;VALUE=DATE:20260504
DTSTAMP:20260423T113335
CREATED:20260423T053704Z
LAST-MODIFIED:20260423T060354Z
UID:10001036-1777507200-1777852799@turismo.comunesbt.it
SUMMARY:Primo Maggio Agraria 2026
DESCRIPTION:Primo Maggio all’Agraria: dal 30 aprile al 3 maggio si rinnova con la 54° edizione un appuntamento storico per la città e per tutto il territorio\, capace ogni anno di richiamare migliaia di visitatori e trasformare Piazza Pertini e le vie del quartiere in un grande spazio aperto\, inclusivo e condiviso. Anche per il 2026\, tutti gli eventi saranno a ingresso gratuito. \nMercoledì 30 aprile si apre ufficialmente il festival con il Food Truck Festival e una serata all’insegna dell’ironia e della musica: sul palco i BardoMagno\, tra folk-rock e satira medievale\, seguiti dal dj set “Fammi Ballà”. A completare la serata anche RetroManiaTV\, con il meglio della televisione anni ’80. \nGiovedì 1° maggio\, cuore della manifestazione\, sarà una giornata ricchissima di eventi fin dal mattino:\n– fiera del Primo Maggio ed esposizioni artigianali\n– attività educative sulla sicurezza con FISA House\n– Festival dei Mattoncini dedicato al mondo LEGO\n– drift show ed esposizione di auto d’epoca\n– Villaggio Pompieropoli per i più piccoli \nNel pomeriggio spazio a spettacoli e intrattenimento\, mentre la sera sarà dominata dalla grande musica con RetroMania80\, uno show coinvolgente tra hit\, animazione e nostalgia\, accompagnato da dj set fino a notte fonda. \nVenerdì 2 maggio sarà la serata internazionale del festival: protagonista Alborosie & Shengen Clan\, uno dei nomi più importanti del reggae mondiale\, per un concerto gratuito che promette energia e vibrazioni positive. A seguire\, spazio alla dancehall con Muccigna Crew. \nSabato 3 maggio\, giornata conclusiva\, si apre con attività sportive e per famiglie: la Sgravellata in bici\, il villaggio dei bambini e dei ragazzi con gonfiabili e animazione\, oltre al Festival dei Mattoncini dedicato al mondo LEGO. La sera gran finale con il live dei Vizi e Virtù\, tribute band dedicata a Vasco Rossi\, per un concerto all’insegna del rock italiano. \nScarica la brochure completa del Primo Maggio all’Agraria.
URL:https://turismo.comunesbt.it/evento/primo-maggio-agraria-2026/
LOCATION:Campo sportivo Nelson Mandela
CATEGORIES:Music & Fun
ATTACH;FMTTYPE=image/jpeg:https://turismo.comunesbt.it/wp-content/uploads/2026/04/1-maggio-agraria-26.jpg
END:VEVENT
BEGIN:VEVENT
DTSTART;VALUE=DATE:20260625
DTEND;VALUE=DATE:20260628
DTSTAMP:20260423T113336
CREATED:20260324T145802Z
LAST-MODIFIED:20260420T131314Z
UID:10001025-1782345600-1782604799@turismo.comunesbt.it
SUMMARY:San.B Sound 2026: Chiello\, Kid Yugi ed Enrico Brignano a San Benedetto
DESCRIPTION:Svelati i tre grandi eventi previsti al San.B Sound 2026 a San Benedetto del Tronto: Chiello\, Kid Yugi e Enrico Brignano protagonisti all’Arena Nelson Mandela. \nGiovedì 25 giugno 2026\nChiello\, classe 1999\, grazie al talento e a un’attitudine unica\, si afferma tra i protagonisti di spicco della scena trap. Dopo importanti collaborazioni e brani\, Chiello partecipa al 75° Festival di Sanremo come ospite nella serata delle cover con Rose Villain e il suo primo tour nei club italiani. A dicembre 2025 esce il singolo “Lupo”. A febbraio 2026 partecipa al 76° Festival di Sanremo con il brano “Ti penso sempre”. \nVenerdì 26 giugno 2026\nSi parte venerdì 26 giugno con Kid Yugi\, tra gli artisti più ascoltati della scena rap italiana\, in tour con “Anche gli eroi muoiono Summer Tour”. Sul palco porterà i brani del nuovo album\, già doppio disco di platino\, insieme alle hit che lo hanno consacrato con milioni di stream. \nSabato 27 giugno 2026\nSabato 27 giugno alle ore 21:00 sarà invece la volta di Enrico Brignano con il one man show “Bello di mamma!”\, uno spettacolo tra comicità e riflessione sul presente\, accompagnato da un’orchestra di 10 elementi e due coriste. Entrambi gli appuntamenti rientrano nel cartellone del San.B Sound Festival.
URL:https://turismo.comunesbt.it/evento/san-b-sound-2026-kid-yugi-e-enrico-brignano-a-san-benedetto/
LOCATION:Campo sportivo Nelson Mandela
CATEGORIES:Culture,Music & Fun
ATTACH;FMTTYPE=image/jpeg:https://turismo.comunesbt.it/wp-content/uploads/2026/03/san-b-sound.jpg
END:VEVENT
END:VCALENDAR