BEGIN:VCALENDAR
VERSION:2.0
PRODID:-//SBT Tourism - Turismo San Benedetto del Tronto - ECPv6.15.11//NONSGML v1.0//EN
CALSCALE:GREGORIAN
METHOD:PUBLISH
X-WR-CALNAME:SBT Tourism - Turismo San Benedetto del Tronto
X-ORIGINAL-URL:https://turismo.comunesbt.it
X-WR-CALDESC:Eventi per SBT Tourism - Turismo San Benedetto del Tronto
REFRESH-INTERVAL;VALUE=DURATION:PT1H
X-Robots-Tag:noindex
X-PUBLISHED-TTL:PT1H
BEGIN:VTIMEZONE
TZID:Europe/Rome
BEGIN:DAYLIGHT
TZOFFSETFROM:+0100
TZOFFSETTO:+0200
TZNAME:CEST
DTSTART:20230326T010000
END:DAYLIGHT
BEGIN:STANDARD
TZOFFSETFROM:+0200
TZOFFSETTO:+0100
TZNAME:CET
DTSTART:20231029T010000
END:STANDARD
BEGIN:DAYLIGHT
TZOFFSETFROM:+0100
TZOFFSETTO:+0200
TZNAME:CEST
DTSTART:20240331T010000
END:DAYLIGHT
BEGIN:STANDARD
TZOFFSETFROM:+0200
TZOFFSETTO:+0100
TZNAME:CET
DTSTART:20241027T010000
END:STANDARD
BEGIN:DAYLIGHT
TZOFFSETFROM:+0100
TZOFFSETTO:+0200
TZNAME:CEST
DTSTART:20250330T010000
END:DAYLIGHT
BEGIN:STANDARD
TZOFFSETFROM:+0200
TZOFFSETTO:+0100
TZNAME:CET
DTSTART:20251026T010000
END:STANDARD
END:VTIMEZONE
BEGIN:VEVENT
DTSTART;VALUE=DATE:20240624
DTEND;VALUE=DATE:20240901
DTSTAMP:20260422T175231
CREATED:20240611T150343Z
LAST-MODIFIED:20240611T150343Z
UID:10000036-1719187200-1725148799@turismo.comunesbt.it
SUMMARY:Sport al Parco
DESCRIPTION:Attività sportiva gratuita nei parchi cittadini. Un’occasione per praticare sport all’aria aperta\, migliorare il benessere fisico e sociale\, e godere degli spazi verdi della città. Un’iniziativa aperta a tutte le età e livelli di preparazione\, che si svolge in vari parchi della città\, in differenti orari. Scarica il programma completo per tutti i dettagli.\nA cura di: Assessorato allo Sport.\nScarica il programma completo 2024
URL:https://turismo.comunesbt.it/evento/sport-al-parco/
LOCATION:Parchi della città
CATEGORIES:Sport
ATTACH;FMTTYPE=image/jpeg:https://turismo.comunesbt.it/wp-content/uploads/2024/06/64-1.jpg
END:VEVENT
BEGIN:VEVENT
DTSTART;TZID=Europe/Rome:20240706T210000
DTEND;TZID=Europe/Rome:20240706T230000
DTSTAMP:20260422T175231
CREATED:20240627T160015Z
LAST-MODIFIED:20240627T160015Z
UID:10000069-1720299600-1720306800@turismo.comunesbt.it
SUMMARY:From Freedom To Love
DESCRIPTION:Un’esibizione di ginnastica artistica e scenografica. Un evento che combina abilità tecniche e creatività\, offrendo una performance coinvolgente e dinamica. Un’occasione per vedere all’opera atleti che uniscono eleganza e forza in coreografie spettacolari.\nA cura di: A.S.D. Ma.Mo.Ti. \n 
URL:https://turismo.comunesbt.it/evento/ginnastica-artistica-scenografica/
LOCATION:Viale Secondo Moretti
CATEGORIES:Sport
ATTACH;FMTTYPE=image/jpeg:https://turismo.comunesbt.it/wp-content/uploads/2024/06/ginnastica-artistica-scenografica-1.jpg
END:VEVENT
BEGIN:VEVENT
DTSTART;TZID=Europe/Rome:20240707T093000
DTEND;TZID=Europe/Rome:20240707T173000
DTSTAMP:20260422T175231
CREATED:20240629T082757Z
LAST-MODIFIED:20240629T082757Z
UID:10000073-1720344600-1720373400@turismo.comunesbt.it
SUMMARY:Campionato provinciale Traina Costiera
DESCRIPTION:Campionato Provinciale di Traina Costiera\, un evento imperdibile per gli appassionati di pesca sportiva. Questa competizione rappresenta una selettiva per i Campionati Italiani di specialità\, offrendo l’opportunità ai pescatori locali di mettere in mostra le loro abilità e guadagnarsi un posto tra i migliori a livello nazionale. Unisciti a noi per una giornata di sport\, passione e sfide in mare\, dove la bravura e la strategia saranno messe alla prova. Non perdere l’occasione di vivere l’emozione della gara e sostenere i talenti della nostra provincia.\nA cura di Circolo Nautico Sambenedettese. \n 
URL:https://turismo.comunesbt.it/evento/campionato-provinciale-traina-costiera-2/
LOCATION:Moletto Parasabbia Tiziano
CATEGORIES:Sport
ATTACH;FMTTYPE=image/jpeg:https://turismo.comunesbt.it/wp-content/uploads/2024/06/59-1.jpg
END:VEVENT
BEGIN:VEVENT
DTSTART;TZID=Europe/Rome:20240712T080000
DTEND;TZID=Europe/Rome:20240712T110000
DTSTAMP:20260422T175231
CREATED:20240709T145955Z
LAST-MODIFIED:20240709T145955Z
UID:10000234-1720771200-1720782000@turismo.comunesbt.it
SUMMARY:Giro d'Italia Femminile - 6ª tappa
DESCRIPTION:Entusiasmante passaggio del Giro d’Italia Femminile a San Benedetto del Tronto\, con la sesta tappa che vedrà le atlete partire dalla nostra città per tagliare il traguardo\, dopo 159 km di pianure\, salite e discese\, nella città di Chieti. Lo start di questa emozionante tappa è previsto sul lungomare alle ore 8:00.\nTutte le info sul sito ufficiale del Giro d’Italia Femminile.\nA cura di: RCS Sport. \n 
URL:https://turismo.comunesbt.it/evento/giro-ditalia-femminile-6a-tappa/
LOCATION:Lungomare Rinascimento
CATEGORIES:Sport
ATTACH;FMTTYPE=image/jpeg:https://turismo.comunesbt.it/wp-content/uploads/2024/07/giro-italia-femminile-1.jpg
END:VEVENT
BEGIN:VEVENT
DTSTART;VALUE=DATE:20240713
DTEND;VALUE=DATE:20240728
DTSTAMP:20260422T175231
CREATED:20240629T150142Z
LAST-MODIFIED:20240629T150142Z
UID:10000094-1720828800-1722124799@turismo.comunesbt.it
SUMMARY:36° Ragnoliade
DESCRIPTION:Storica manifestazione sportiva\, che prevede due settimane dedicate allo sport\, con modalità mini-olimpiade\, promossa da ragazze e ragazzi del quartiere Ragnola. Diverse discipline sportive\, che offrono ai partecipanti l’opportunità di cimentarsi in varie attività e competere in un clima di amicizia e sano divertimento.\nA cura di: ASD Amici della Ragnoliade. \n 
URL:https://turismo.comunesbt.it/evento/36-ragnoliade/
LOCATION:Piazza Sacra Famiglia
CATEGORIES:Sport
ATTACH;FMTTYPE=image/jpeg:https://turismo.comunesbt.it/wp-content/uploads/2024/06/ragnoliade-1.jpg
END:VEVENT
BEGIN:VEVENT
DTSTART;VALUE=DATE:20240715
DTEND;VALUE=DATE:20240717
DTSTAMP:20260422T175231
CREATED:20240630T180844Z
LAST-MODIFIED:20240630T180844Z
UID:10000100-1721001600-1721174399@turismo.comunesbt.it
SUMMARY:Nastro Rosa - Marina Militare Tour
DESCRIPTION:Fa tappa a San Benedetto del Tronto il format sportivo “italiano” del Nastro Rosa\, innovativo e spettacolare\, rappresentato da un tour velico di importanza internazionale\, che coinvolge le coste e i fari più belli e importanti del Mediterraneo. Un spettacolo unico\, da non perdere. \n 
URL:https://turismo.comunesbt.it/evento/nastro-rosa-marina-militare-tour/
LOCATION:Piazza Caduti del Mare
CATEGORIES:Sport
ATTACH;FMTTYPE=image/jpeg:https://turismo.comunesbt.it/wp-content/uploads/2024/06/nastro-rosa-tour-1.jpg
END:VEVENT
BEGIN:VEVENT
DTSTART;TZID=Europe/Rome:20240720T183000
DTEND;TZID=Europe/Rome:20240720T233000
DTSTAMP:20260422T175231
CREATED:20240701T140238Z
LAST-MODIFIED:20240701T140238Z
UID:10000117-1721500200-1721518200@turismo.comunesbt.it
SUMMARY:Si Kayak
DESCRIPTION:Un’occasione unica per gli appassionati di canoa: una suggestiva pagaiata in notturna. I partecipanti si ritroveranno al calar del sole per un’escursione in acqua sotto le stelle\, immersi nella tranquillità della notte e accompagnati solo dal suono delle loro pagaie. Un’esperienza indimenticabile per vivere la natura da una prospettiva diversa e godere della magia notturna in compagnia di altri canoisti.\nA cura di: Lega Navale Italiana – Sezione di San Benedetto del Tronto \n 
URL:https://turismo.comunesbt.it/evento/si-kayak/
LOCATION:Concessione n. 45 bis
CATEGORIES:Sport
ATTACH;FMTTYPE=image/jpeg:https://turismo.comunesbt.it/wp-content/uploads/2024/07/si-kayak-1.jpg
END:VEVENT
BEGIN:VEVENT
DTSTART;VALUE=DATE:20240721
DTEND;VALUE=DATE:20240722
DTSTAMP:20260422T175231
CREATED:20240701T155321Z
LAST-MODIFIED:20240701T155321Z
UID:10000120-1721520000-1721606399@turismo.comunesbt.it
SUMMARY:Trofeo Drifting Catari'
DESCRIPTION:La gara di pesca con modalità drifting offre un’esperienza unica per gli appassionati di pesca sportiva. I partecipanti si sfideranno sfruttando le correnti marine per rendere la competizione ancora più avvincente. Un evento perfetto per chi ama il mare e la pesca\, con la possibilità di vivere un’avventura emozionante e di misurarsi con altri pescatori in un contesto dinamico e suggestivo.\nA cura di: Circolo Nautico Sambenedettese. \n 
URL:https://turismo.comunesbt.it/evento/trofeo-drifting-catari/
LOCATION:Moletto Parasabbia Tiziano
CATEGORIES:Sport
ATTACH;FMTTYPE=image/jpeg:https://turismo.comunesbt.it/wp-content/uploads/2024/06/57-1.jpg
END:VEVENT
BEGIN:VEVENT
DTSTART;VALUE=DATE:20240728
DTEND;VALUE=DATE:20240729
DTSTAMP:20260422T175231
CREATED:20240702T063953Z
LAST-MODIFIED:20240702T063953Z
UID:10000144-1722124800-1722211199@turismo.comunesbt.it
SUMMARY:Palio Velico - Festa Madonna della Marina
DESCRIPTION:Il Palio è un’emozionante competizione velica che vede i quartieri di San Benedetto del Tronto sfidarsi nelle acque dell’Adriatico. Un evento che unisce tradizione e sport\, coinvolgendo la comunità locale\, in un’atmosfera festosa e ricca di storia.\nA cura di: Circolo nautico Sambenedettese. \n 
URL:https://turismo.comunesbt.it/evento/palio-velico-festa-madonna-della-marina/
LOCATION:Moletto Parasabbia Tiziano
CATEGORIES:Sport
ATTACH;FMTTYPE=image/jpeg:https://turismo.comunesbt.it/wp-content/uploads/2024/06/54-1.jpg
END:VEVENT
BEGIN:VEVENT
DTSTART;VALUE=DATE:20240728
DTEND;VALUE=DATE:20240729
DTSTAMP:20260422T175231
CREATED:20240702T065127Z
LAST-MODIFIED:20240702T065127Z
UID:10000146-1722124800-1722211199@turismo.comunesbt.it
SUMMARY:Trofeo Challenger J. La Bolina e G. Latini
DESCRIPTION:La città ospita il primo trofeo di questa prima regata velica\, un evento che promette emozioni per appassionati e curiosi. Le imbarcazioni partecipanti si sfideranno lungo un percorso suggestivo\, offrendo una splendida occasione per ammirare le abilità dei velisti e godere delle bellezze del panorama marittimo sambenedettese.\nA cura di: Lega Navale Italiana Sezione di San Benedetto del Tronto. \n 
URL:https://turismo.comunesbt.it/evento/trofeo-challenger-j-la-bolina-e-g-latini/
LOCATION:Mare antistante la costa sambenedettese
CATEGORIES:Sport
ATTACH;FMTTYPE=image/jpeg:https://turismo.comunesbt.it/wp-content/uploads/2024/07/j.-la-bolina-1.jpg
END:VEVENT
END:VCALENDAR