BEGIN:VCALENDAR
VERSION:2.0
PRODID:-//SBT Tourism - Turismo San Benedetto del Tronto - ECPv6.15.11//NONSGML v1.0//EN
CALSCALE:GREGORIAN
METHOD:PUBLISH
X-ORIGINAL-URL:https://turismo.comunesbt.it
X-WR-CALDESC:Eventi per SBT Tourism - Turismo San Benedetto del Tronto
REFRESH-INTERVAL;VALUE=DURATION:PT1H
X-Robots-Tag:noindex
X-PUBLISHED-TTL:PT1H
BEGIN:VTIMEZONE
TZID:Europe/Rome
BEGIN:DAYLIGHT
TZOFFSETFROM:+0100
TZOFFSETTO:+0200
TZNAME:CEST
DTSTART:20230326T010000
END:DAYLIGHT
BEGIN:STANDARD
TZOFFSETFROM:+0200
TZOFFSETTO:+0100
TZNAME:CET
DTSTART:20231029T010000
END:STANDARD
BEGIN:DAYLIGHT
TZOFFSETFROM:+0100
TZOFFSETTO:+0200
TZNAME:CEST
DTSTART:20240331T010000
END:DAYLIGHT
BEGIN:STANDARD
TZOFFSETFROM:+0200
TZOFFSETTO:+0100
TZNAME:CET
DTSTART:20241027T010000
END:STANDARD
BEGIN:DAYLIGHT
TZOFFSETFROM:+0100
TZOFFSETTO:+0200
TZNAME:CEST
DTSTART:20250330T010000
END:DAYLIGHT
BEGIN:STANDARD
TZOFFSETFROM:+0200
TZOFFSETTO:+0100
TZNAME:CET
DTSTART:20251026T010000
END:STANDARD
END:VTIMEZONE
BEGIN:VEVENT
DTSTART;VALUE=DATE:20240624
DTEND;VALUE=DATE:20240901
DTSTAMP:20260422T162107
CREATED:20240611T150343Z
LAST-MODIFIED:20240611T150343Z
UID:10000036-1719187200-1725148799@turismo.comunesbt.it
SUMMARY:Sport al Parco
DESCRIPTION:Attività sportiva gratuita nei parchi cittadini. Un’occasione per praticare sport all’aria aperta\, migliorare il benessere fisico e sociale\, e godere degli spazi verdi della città. Un’iniziativa aperta a tutte le età e livelli di preparazione\, che si svolge in vari parchi della città\, in differenti orari. Scarica il programma completo per tutti i dettagli.\nA cura di: Assessorato allo Sport.\nScarica il programma completo 2024
URL:https://turismo.comunesbt.it/evento/sport-al-parco/
LOCATION:Parchi della città
CATEGORIES:Sport
ATTACH;FMTTYPE=image/jpeg:https://turismo.comunesbt.it/wp-content/uploads/2024/06/64-1.jpg
END:VEVENT
BEGIN:VEVENT
DTSTART;VALUE=DATE:20240804
DTEND;VALUE=DATE:20240805
DTSTAMP:20260422T162107
CREATED:20240703T070551Z
LAST-MODIFIED:20240703T070551Z
UID:10000169-1722729600-1722815999@turismo.comunesbt.it
SUMMARY:Lega all'amo
DESCRIPTION:Un evento dedicato ai più piccoli\, la gara di pesca per bambini offre una giornata di divertimento all’aria aperta\, in cui  sfidarsi in un’atmosfera amichevole e stimolante. Un’esperienza a contatto con il mare e la magia della pesca. \n 
URL:https://turismo.comunesbt.it/evento/lega-allamo/
LOCATION:Litorale sambenedettese
CATEGORIES:Sport
ATTACH;FMTTYPE=image/jpeg:https://turismo.comunesbt.it/wp-content/uploads/2024/07/pesca-bambini-1.jpg
END:VEVENT
BEGIN:VEVENT
DTSTART;VALUE=DATE:20240805
DTEND;VALUE=DATE:20240808
DTSTAMP:20260422T162107
CREATED:20240703T071754Z
LAST-MODIFIED:20240703T071754Z
UID:10000171-1722816000-1723075199@turismo.comunesbt.it
SUMMARY:Circolo Tennis Maggioni: storia e tradizione cittadina
DESCRIPTION:Un evento culturale che consenta di riscoprire e dare risalto a quello che è un punto di riferimento per la vita sociale e culturale di San Benedetto: il Circolo Tennis Maggioni.\nUn percorso espositivo fotografico\, compendiato anche in un piccolo pamphlet\, e una serata con il racconto del responsabile dell’Archivio Storico Comunale\, Dott. Giuseppe Merlini\, consentiranno di ripercorrere la storia del Circolo\, partendo dalla realizzazione del lungomare da parte dell’Ing. Onorati\, fino ai giorni attuali\, che vedono il Circolo inserito stabilmente nel circuito ATP.\nPer tre giornate\, inoltre\, nel Circolo Maggioni verrà esposta la Coppa Davis vinta dall’Italia nel 2023\, ricollegandosi idealmente ai giorni del 1972 in cui tale manifestazione di grande prestigio venne ospitata proprio dal C.T. Maggioni. \nPROGRAMMA\n5 agosto\, ore 19:00 – Inaugurazione dell’esposizione\n6-7 agosto\, dalle ore 10:00 alle ore 23:00 – Esposizione della coppa e percorso fotografico\n7 agosto\, ore 21:30 – “Il Circolo Tennis Maggioni. Storia e tradizione sportiva cittadina”. Incontro a cura dello storico Giuseppe Merlini e del Gruppo FAI Giovani sul ruolo del Circolo nella comunità sambenedettese. \nA cura di: FAI Giovani Delegazione di Ascoli Piceno Gruppo di San Benedetto del Tronto. \nScarica la locandina dell’evento.
URL:https://turismo.comunesbt.it/evento/circolo-tennis-maggioni-storia-e-tradizione-cittadina/
LOCATION:Circolo Tennis Maggioni
CATEGORIES:Sport
ATTACH;FMTTYPE=image/jpeg:https://turismo.comunesbt.it/wp-content/uploads/2024/07/maggioni-evento-1.jpg
END:VEVENT
BEGIN:VEVENT
DTSTART;VALUE=DATE:20240811
DTEND;VALUE=DATE:20240812
DTSTAMP:20260422T162107
CREATED:20240703T074012Z
LAST-MODIFIED:20240703T074012Z
UID:10000179-1723334400-1723420799@turismo.comunesbt.it
SUMMARY:Trofeo Challenger J. La Bolina e G. Latini
DESCRIPTION:La città ospita il primo trofeo di questa seconda regata velica\, un evento che promette emozioni per appassionati e curiosi. Le imbarcazioni partecipanti si sfideranno lungo un percorso suggestivo\, offrendo una splendida occasione per ammirare le abilità dei velisti e godere delle bellezze del panorama marittimo sambenedettese.\nA cura di: Lega Navale Italiana Sezione di San Benedetto del Tronto. \n 
URL:https://turismo.comunesbt.it/evento/trofeo-challenger-j-la-bolina-e-g-latini-2/
LOCATION:Mare antistante la costa sambenedettese
CATEGORIES:Sport
ATTACH;FMTTYPE=image/jpeg:https://turismo.comunesbt.it/wp-content/uploads/2024/07/j.-la-bolina-1.jpg
END:VEVENT
BEGIN:VEVENT
DTSTART;VALUE=DATE:20240811
DTEND;VALUE=DATE:20240812
DTSTAMP:20260422T162107
CREATED:20240703T175810Z
LAST-MODIFIED:20240703T175810Z
UID:10000189-1723334400-1723420799@turismo.comunesbt.it
SUMMARY:Regata Perla Verde
DESCRIPTION:Un’emozionante regata tra numerose imbarcazioni si svolgerà su un percorso di lunga distanza. Un evento imperdibile per gli appassionati di vela e per chiunque ami il mare e l’adrenalina delle gare.\nA cura di: Circolo Nautico Ragn’a vela. \n 
URL:https://turismo.comunesbt.it/evento/regata-perla-verde/
LOCATION:Giardino Circolo Nautico “Ragn’a vela”
CATEGORIES:Sport
ATTACH;FMTTYPE=image/jpeg:https://turismo.comunesbt.it/wp-content/uploads/2024/06/21-1.jpg
END:VEVENT
BEGIN:VEVENT
DTSTART;TZID=Europe/Rome:20240814T043000
DTEND;TZID=Europe/Rome:20240814T110000
DTSTAMP:20260422T162107
CREATED:20240703T074639Z
LAST-MODIFIED:20240703T074639Z
UID:10000183-1723609800-1723633200@turismo.comunesbt.it
SUMMARY:Si Kayak Alba in musica
DESCRIPTION:Un’occasione unica per gli appassionati di canoa: una suggestiva pagaiata all’alba. I partecipanti si ritroveranno al sorgere del sole per un’escursione in acqua sotto una luce magica\, immersi nella tranquillità e accompagnati solo dal suono delle loro pagaie. Dopo l’approdo alla Riserva Naturale Sentina\, concerto musicale.\nA cura di: Lega Navale Italiana – Sezione di San Benedetto del Tronto \nPer info e prenotazioni:\nmobile 348 5153422\nemail sanbenedettodeltronto@leganavale.it \n 
URL:https://turismo.comunesbt.it/evento/si-kayak-2/
LOCATION:Concessione n. 45 bis
CATEGORIES:Sport
ATTACH;FMTTYPE=image/jpeg:https://turismo.comunesbt.it/wp-content/uploads/2024/07/si-kayak-1.jpg
END:VEVENT
BEGIN:VEVENT
DTSTART;VALUE=DATE:20240815
DTEND;VALUE=DATE:20240816
DTSTAMP:20260422T162107
CREATED:20240704T071350Z
LAST-MODIFIED:20240704T071350Z
UID:10000197-1723680000-1723766399@turismo.comunesbt.it
SUMMARY:Regata di Ferragosto
DESCRIPTION:Un’emozionante gara velica nel mare antistante la nostra città. Le imbarcazioni si sfideranno per la gioia di appassionati di vela e amanti del mare.\nA cura di: Circolo Nautico Ragn’a vela. \n 
URL:https://turismo.comunesbt.it/evento/regata-di-ferragosto/
LOCATION:Giardino Circolo Nautico “Ragn’a vela”
CATEGORIES:Sport
ATTACH;FMTTYPE=image/jpeg:https://turismo.comunesbt.it/wp-content/uploads/2024/06/22-1.jpg
END:VEVENT
BEGIN:VEVENT
DTSTART;VALUE=DATE:20240825
DTEND;VALUE=DATE:20240826
DTSTAMP:20260422T162107
CREATED:20240709T073245Z
LAST-MODIFIED:20240709T073245Z
UID:10000220-1724544000-1724630399@turismo.comunesbt.it
SUMMARY:Trofeo Challenger J. La Bolina e G. Latini
DESCRIPTION:La città ospita il primo trofeo di questa terza regata velica\, un evento che promette emozioni per appassionati e curiosi. Le imbarcazioni partecipanti si sfideranno lungo un percorso suggestivo\, offrendo una splendida occasione per ammirare le abilità dei velisti e godere delle bellezze del panorama marittimo sambenedettese.\nA cura di: Lega Navale Italiana Sezione di San Benedetto del Tronto. \n 
URL:https://turismo.comunesbt.it/evento/trofeo-challenger-j-la-bolina-e-g-latini-3/
LOCATION:Mare antistante la costa sambenedettese
CATEGORIES:Sport
ATTACH;FMTTYPE=image/jpeg:https://turismo.comunesbt.it/wp-content/uploads/2024/07/j.-la-bolina-1.jpg
END:VEVENT
END:VCALENDAR