BEGIN:VCALENDAR
VERSION:2.0
PRODID:-//SBT Tourism - Turismo San Benedetto del Tronto - ECPv6.15.11//NONSGML v1.0//EN
CALSCALE:GREGORIAN
METHOD:PUBLISH
X-WR-CALNAME:SBT Tourism - Turismo San Benedetto del Tronto
X-ORIGINAL-URL:https://turismo.comunesbt.it
X-WR-CALDESC:Eventi per SBT Tourism - Turismo San Benedetto del Tronto
REFRESH-INTERVAL;VALUE=DURATION:PT1H
X-Robots-Tag:noindex
X-PUBLISHED-TTL:PT1H
BEGIN:VTIMEZONE
TZID:Europe/Rome
BEGIN:DAYLIGHT
TZOFFSETFROM:+0100
TZOFFSETTO:+0200
TZNAME:CEST
DTSTART:20230326T010000
END:DAYLIGHT
BEGIN:STANDARD
TZOFFSETFROM:+0200
TZOFFSETTO:+0100
TZNAME:CET
DTSTART:20231029T010000
END:STANDARD
BEGIN:DAYLIGHT
TZOFFSETFROM:+0100
TZOFFSETTO:+0200
TZNAME:CEST
DTSTART:20240331T010000
END:DAYLIGHT
BEGIN:STANDARD
TZOFFSETFROM:+0200
TZOFFSETTO:+0100
TZNAME:CET
DTSTART:20241027T010000
END:STANDARD
BEGIN:DAYLIGHT
TZOFFSETFROM:+0100
TZOFFSETTO:+0200
TZNAME:CEST
DTSTART:20250330T010000
END:DAYLIGHT
BEGIN:STANDARD
TZOFFSETFROM:+0200
TZOFFSETTO:+0100
TZNAME:CET
DTSTART:20251026T010000
END:STANDARD
END:VTIMEZONE
BEGIN:VEVENT
DTSTART;TZID=Europe/Rome:20240908T100000
DTEND;TZID=Europe/Rome:20240908T150000
DTSTAMP:20260422T145910
CREATED:20240821T083236Z
LAST-MODIFIED:20240821T083236Z
UID:10000503-1725789600-1725807600@turismo.comunesbt.it
SUMMARY:Trofeo Manuela Sgattoni
DESCRIPTION:Tradizionale regata velica organizzata dal Circolo Nautico Sambenedettese che richiama gli amanti della vela d’altura. Il campo di regata sarà allestito nell’area di mare antistante il porto di San Benedetto del Tronto.\nA cura di: Circolo Nautico Sambenedettese. \n 
URL:https://turismo.comunesbt.it/evento/trofeo-manuela-sgattoni/
LOCATION:Area Portuale
CATEGORIES:Sport
ATTACH;FMTTYPE=image/jpeg:https://turismo.comunesbt.it/wp-content/uploads/2024/06/54-1.jpg
END:VEVENT
BEGIN:VEVENT
DTSTART;VALUE=DATE:20240913
DTEND;VALUE=DATE:20240916
DTSTAMP:20260422T145910
CREATED:20240826T090801Z
LAST-MODIFIED:20240826T090801Z
UID:10000510-1726185600-1726444799@turismo.comunesbt.it
SUMMARY:La Sfida - 24° Memorial Massimo De Nardis
DESCRIPTION:Entusiasmante manifestazione di pesca sportiva al Circolo Nautico Sambenedettese con la disputa della XXIV edizione del Memorial “Massimo De Nardis” (socio storico del circolo e personalità amata da tutti)\, challenge a coppia di Big Game – Drifting. \nQuesta prestigiosa e sentita gara di pesca sportiva – che si svolge sotto l’egida della Federazione Italiana Pesca Sportiva – è una competizione che ha grande valore per il territorio e la marineria del Circolo ed è la più storica gara di Catch&Release (tipo di pesca in cui è previsto il rilascio obbligatorio senza danneggiare il pesce) dell’Adriatico e una delle prime in Italia \nLa Sfida\, da più di due decenni\, rappresenta un punto di riferimento per la pesca sportiva in Adriatico e un’occasione per grandi emozioni\, sportive e umane.  \nA cura di: Circolo Nautico Sambenedettese. \n 
URL:https://turismo.comunesbt.it/evento/la-sfida-24-memorial-massimo-de-nardis/
LOCATION:Circolo Nautico Sambenedettese
CATEGORIES:Sport
ATTACH;FMTTYPE=image/jpeg:https://turismo.comunesbt.it/wp-content/uploads/2024/08/sfida-de-nardis-1.jpg
END:VEVENT
BEGIN:VEVENT
DTSTART;VALUE=DATE:20240929
DTEND;VALUE=DATE:20240930
DTSTAMP:20260422T145910
CREATED:20240826T090937Z
LAST-MODIFIED:20240826T090937Z
UID:10000511-1727568000-1727654399@turismo.comunesbt.it
SUMMARY:Match Race Sociale
DESCRIPTION:Evento dedicato agli appassionati di vela con la regata velica Match Race Sociale. Una giornata di competizione in mare\, dove i partecipanti si sfideranno in gare avvincenti. Un’occasione per vivere lo spirito sportivo e la passione per la vela\, condividendo l’esperienza con altri velisti.\nA cura di: Circolo Nautico Sambenedettese. \n 
URL:https://turismo.comunesbt.it/evento/match-race-sociale-2/
LOCATION:Moletto Parasabbia Tiziano
CATEGORIES:Sport
ATTACH;FMTTYPE=image/jpeg:https://turismo.comunesbt.it/wp-content/uploads/2024/06/91-1.jpg
END:VEVENT
END:VCALENDAR