BEGIN:VCALENDAR
VERSION:2.0
PRODID:-//SBT Tourism - Turismo San Benedetto del Tronto - ECPv6.15.11//NONSGML v1.0//EN
CALSCALE:GREGORIAN
METHOD:PUBLISH
X-WR-CALNAME:SBT Tourism - Turismo San Benedetto del Tronto
X-ORIGINAL-URL:https://turismo.comunesbt.it
X-WR-CALDESC:Eventi per SBT Tourism - Turismo San Benedetto del Tronto
REFRESH-INTERVAL;VALUE=DURATION:PT1H
X-Robots-Tag:noindex
X-PUBLISHED-TTL:PT1H
BEGIN:VTIMEZONE
TZID:Europe/Rome
BEGIN:DAYLIGHT
TZOFFSETFROM:+0100
TZOFFSETTO:+0200
TZNAME:CEST
DTSTART:20240331T010000
END:DAYLIGHT
BEGIN:STANDARD
TZOFFSETFROM:+0200
TZOFFSETTO:+0100
TZNAME:CET
DTSTART:20241027T010000
END:STANDARD
BEGIN:DAYLIGHT
TZOFFSETFROM:+0100
TZOFFSETTO:+0200
TZNAME:CEST
DTSTART:20250330T010000
END:DAYLIGHT
BEGIN:STANDARD
TZOFFSETFROM:+0200
TZOFFSETTO:+0100
TZNAME:CET
DTSTART:20251026T010000
END:STANDARD
BEGIN:DAYLIGHT
TZOFFSETFROM:+0100
TZOFFSETTO:+0200
TZNAME:CEST
DTSTART:20260329T010000
END:DAYLIGHT
BEGIN:STANDARD
TZOFFSETFROM:+0200
TZOFFSETTO:+0100
TZNAME:CET
DTSTART:20261025T010000
END:STANDARD
END:VTIMEZONE
BEGIN:VEVENT
DTSTART;VALUE=DATE:20250419
DTEND;VALUE=DATE:20250422
DTSTAMP:20260422T040317
CREATED:20250408T121440Z
LAST-MODIFIED:20250408T121440Z
UID:10000682-1745020800-1745279999@turismo.comunesbt.it
SUMMARY:Pasqua in rosso con le Ducati
DESCRIPTION:Dal 19 al 21 aprile\, il cuore di San Benedetto del Tronto batte a ritmo di motori e passione. \nTorna per il terzo anno consecutivo Pasqua in Rosso\, evento dedicato agli amanti delle due ruote e non solo.\nProtagoniste assolute le moto Ducati campioni del mondo 2024\, tra cui la MotoGP di Francesco Bagnaia e la SuperBike\, esposte in un villaggio tematico in viale Secondo Moretti. \nTest-ride gratuiti\, dj-set con Simon (vincitore del Takes Over 2024)\, modelli Ducati 2025 da provare (tramite iscrizione gratuita si potranno provare le moto della gamma Ducati 2025: tel. 349/7652564 –\nmarketing.brothersmoto@gmail.com)\, Miss Grand Prix\, ospitalità firmata Caffè Mokambo e un tocco vintage con il trailer americano: ce n’è per tutti. \nSpazio anche alla solidarietà con giochi e regali per i bambini delle Case Famiglia e ospedali marchigiani\, grazie alla Croce Rossa e ai partner dell’evento. \nUn mix di emozioni\, motori e cuore… tutto rigorosamente “in rosso”. \n﻿
URL:https://turismo.comunesbt.it/evento/pasqua-in-rosso-con-le-ducati/
LOCATION:Viale Secondo Moretti
CATEGORIES:Music & Fun,Sport
ATTACH;FMTTYPE=image/png:https://turismo.comunesbt.it/wp-content/uploads/2025/04/Pasqua-in-rosso-1-1.png
END:VEVENT
END:VCALENDAR