BEGIN:VCALENDAR
VERSION:2.0
PRODID:-//SBT Tourism - Turismo San Benedetto del Tronto - ECPv6.15.11//NONSGML v1.0//EN
CALSCALE:GREGORIAN
METHOD:PUBLISH
X-ORIGINAL-URL:https://turismo.comunesbt.it
X-WR-CALDESC:Eventi per SBT Tourism - Turismo San Benedetto del Tronto
REFRESH-INTERVAL;VALUE=DURATION:PT1H
X-Robots-Tag:noindex
X-PUBLISHED-TTL:PT1H
BEGIN:VTIMEZONE
TZID:Europe/Rome
BEGIN:DAYLIGHT
TZOFFSETFROM:+0100
TZOFFSETTO:+0200
TZNAME:CEST
DTSTART:20250330T010000
END:DAYLIGHT
BEGIN:STANDARD
TZOFFSETFROM:+0200
TZOFFSETTO:+0100
TZNAME:CET
DTSTART:20251026T010000
END:STANDARD
BEGIN:DAYLIGHT
TZOFFSETFROM:+0100
TZOFFSETTO:+0200
TZNAME:CEST
DTSTART:20260329T010000
END:DAYLIGHT
BEGIN:STANDARD
TZOFFSETFROM:+0200
TZOFFSETTO:+0100
TZNAME:CET
DTSTART:20261025T010000
END:STANDARD
BEGIN:DAYLIGHT
TZOFFSETFROM:+0100
TZOFFSETTO:+0200
TZNAME:CEST
DTSTART:20270328T010000
END:DAYLIGHT
BEGIN:STANDARD
TZOFFSETFROM:+0200
TZOFFSETTO:+0100
TZNAME:CET
DTSTART:20271031T010000
END:STANDARD
END:VTIMEZONE
BEGIN:VEVENT
DTSTART;VALUE=DATE:20260313
DTEND;VALUE=DATE:20260316
DTSTAMP:20260423T161328
CREATED:20260309T143400Z
LAST-MODIFIED:20260314T175712Z
UID:10001017-1773360000-1773619199@turismo.comunesbt.it
SUMMARY:Tirreno Adriatico 2026 a San Benedetto del Tronto
DESCRIPTION:Tirreno Adriatico 2026 a San Benedetto del Tronto il gran finale della Corsa dei Due Mari\, con l’ultima tappa: il 15 marzo arrivo sul lungomare e circuito finale in città. \nLa 61ª edizione della Tirreno Adriatico\, la celebre “Corsa dei Due Mari”\, prenderà il via lunedì 9 marzo 2026 da Lido di Camaiore e attraverserà cinque regioni italiane prima di concludersi domenica 15 marzo a San Benedetto del Tronto con la tappa finale Civitanova Marche – San Benedetto del Tronto. \nLa gara raggiungerà il territorio sambenedettese\, dove i corridori affronteranno quattro giri del circuito cittadino finale\, prima dell’arrivo sul lungomare. \nIn occasione della tappa conclusiva tornano anche le iniziative dedicate alla storia e alla cultura della bicicletta. Alla Palazzina Azzurra sarà allestita la mostra “Le Bici dei Campioni”\, a cura dell’Associazione Kronos\, mentre nel centro cittadino verrà riproposto il concorso “Bike Mon Amour”\, con l’esposizione di biciclette d’epoca nelle vetrine degli esercizi commerciali. \nVenerdì 13 marzo\nIl programma degli eventi collaterali si apre venerdì 13 marzo alle ore 11 alla Palazzina Azzurra con l’inaugurazione della mostra “Le Bici dei Campioni”\, alla presenza di Gianni Bugno\, ex ciclista professionista su strada e due volte campione del mondo. Nel pomeriggio\, alle ore 17\, sempre alla Palazzina Azzurra\, è in programma un incontro-intervista con Bugno\, con gli interventi del collezionista Gianfranco Trevisan e delle associazioni cittadine Pedale Rossoblù e Bicigustando. L’incontro sarà moderato dai giornalisti Massimiliano Mariotti e Giuseppe Buscemi. \nSabato 14 marzo\nDalle ore 17\, alla Palazzina Azzurra si terrà un nuovo appuntamento dedicato alla cultura ciclistica con Marco Gios\, titolare della storica azienda torinese Biciclette Gios\, fornitrice del campione Roger De Vlaeminck\, vincitore di sei edizioni della Tirreno Adriatico. Interverrà anche Giancarlo Brocci\, fondatore della celebre corsa cicloturistica d’epoca L’Eroica. L’incontro sarà moderato dal giornalista Massimiliano Mariotti. \nDomenica 15 marzo\nDomenica sarà il giorno della grande festa dello sport.\nAlle ore 14\, sul lungomare di San Benedetto\, è previsto l’arrivo della 7ª tappa della Tirreno Adriatico e l’inizio dei quattro giri del circuito finale cittadino. La tappa si concluderà alle ore 16 in piazza Giorgini\, dove si svolgeranno le premiazioni ufficiali. \nAlle ore 17 alla Palazzina Azzurra la giornata proseguirà con una coreografia sulle musiche di Domenico Modugno\, a cura dell’Associazione di danza Koreutica.\nA seguire si terrà la premiazione del concorso “Bike Mon Amour”\, che celebra il fascino senza tempo delle biciclette storiche esposte nelle vetrine del centro.
URL:https://turismo.comunesbt.it/evento/tirreno-adriatico-2026-a-san-benedetto-del-tronto/
LOCATION:Piazza Giorgini
CATEGORIES:Sport
ATTACH;FMTTYPE=image/jpeg:https://turismo.comunesbt.it/wp-content/uploads/2026/03/tirreno-adriatico.jpg
END:VEVENT
BEGIN:VEVENT
DTSTART;VALUE=DATE:20260411
DTEND;VALUE=DATE:20260413
DTSTAMP:20260423T161328
CREATED:20260402T064810Z
LAST-MODIFIED:20260402T123740Z
UID:10001028-1775865600-1776038399@turismo.comunesbt.it
SUMMARY:Mezza Maratona dei Fiori 2026
DESCRIPTION:La Mezza Maratona dei Fiori si conferma l’evento sportivo di punta della primavera in Riviera\, con oltre 2.500 partecipanti attesi per la gara nazionale di 21\,097 km. Il percorso\, veloce e interamente pianeggiante\, attraversa i tratti più suggestivi del lungomare sambenedettese\, offrendo agli atleti la possibilità di migliorare i propri crono in una cornice naturale unica. \nIl weekend non è solo agonismo: il programma prevede un coinvolgimento totale della città con attività dedicate ai più piccoli e camminate per tutti. \nSabato 11 Aprile – Giornata dei Giovani \nOre 15:30: Inizio gare giovanili in Viale Buozzi e Piazza Giorgini su varie distanze.\nIn contemporanea: “Caccia al Tesoro” alla scoperta della città\, riservata a bambini e famiglie\, curata dall’associazione Omnia Locis. \nPomeriggio: Apertura Expo Village per il ritiro pettorali e pacchi gara. \nDomenica 12 Aprile – La Grande Corsa \nOre 07:30: Ritrovo atleti presso Piazza Giorgini. \nOre 09:15: Partenza ufficiale Mezza Maratona (21\,097 km) e Stracittadina (10\,5 km). \nA seguire: Partenza gare non competitive e camminate di 4 km aperte a tutti. \nOre 11:30: Cerimonia di premiazione e chiusura evento.
URL:https://turismo.comunesbt.it/evento/mezza-maratona-dei-fiori-2026/
CATEGORIES:Sport
ATTACH;FMTTYPE=image/jpeg:https://turismo.comunesbt.it/wp-content/uploads/2026/04/cover-Maratona.jpg
END:VEVENT
BEGIN:VEVENT
DTSTART;VALUE=DATE:20260411
DTEND;VALUE=DATE:20260413
DTSTAMP:20260423T161328
CREATED:20260408T074829Z
LAST-MODIFIED:20260408T074829Z
UID:10001032-1775865600-1776038399@turismo.comunesbt.it
SUMMARY:Campionato Regionale di Ginnastica Ritmica
DESCRIPTION:Il Palazzetto dello Sport “Bernardo Speca” di San Benedetto del Tronto si trasforma nel cuore pulsante della ginnastica ritmica marchigiana. Sabato 11 e domenica 12 aprile\, la città accoglie il Campionato Regionale Serie C e Serie D organizzato dalla Libertas Roma\, con il supporto tecnico e logistico della società locale Progetto Ritmica San Benedetto. \nLa manifestazione vedrà scendere in pedana circa 500 atlete in rappresentanza di 11 prestigiose società provenienti da tutta la Regione Marche. Un appuntamento di alto livello tecnico che mette in luce il talento e la disciplina delle giovani ginnaste\, impegnate in coreografie che fondono eleganza e precisione atletica.
URL:https://turismo.comunesbt.it/evento/campionato-regionale-di-ginnastica-ritmica/
LOCATION:Palazzetto dello Sport B. Speca
CATEGORIES:Sport
ATTACH;FMTTYPE=image/jpeg:https://turismo.comunesbt.it/wp-content/uploads/2026/04/danza-sito.jpg
END:VEVENT
BEGIN:VEVENT
DTSTART;VALUE=DATE:20260419
DTEND;VALUE=DATE:20260603
DTSTAMP:20260423T161328
CREATED:20260410T132643Z
LAST-MODIFIED:20260410T134909Z
UID:10001034-1776556800-1780444799@turismo.comunesbt.it
SUMMARY:San Benedetto Riviera dello Sport: primavera 2026
DESCRIPTION:La Riviera delle Palme si conferma polo d’attrazione per gli eventi sportivi con un calendario d’eccellenza. L’evento clou è la Granfondo San Benedetto del Tronto (10 maggio): il Festival quest’anno amplia i propri orizzonti iniziando già dal mercoledì con un convegno sulla violenza contro le donne che vedrà la partecipazione della pluricampionessa Valentina Vezzali. \nIl weekend sarà arricchito dalla Pedalata Rosa\, dalla gimkana per bambini in Viale Buozzi e dal tradizionale Pasta Party a base di pesce dell’Adriatico presso il Geko Village. \nEcco gli principali appuntamenti in programma\, che portano in città agonismo\, emozioni e tanta passione in molte discipline differenti. \n→ 19 aprile: 2° Criterium regionale Pugilato Giovanile – Palazzetto dello Sporto B. Speca \n→ 24-25 aprile 2026: “Un’onda di bene” 24 ore di nuoto – Piscina comunale “P.Gregori” \n→ 25-26 aprile: Campionato interregionale Centro-Sud Danza Sportiva – Palazzetto dello Sporto B. Speca \n→ 28 aprile – 3 maggio: Campionato Nazionale Ginnastica Ritmica Libertas – Palazzetto dello Sporto B. Speca \n→ 7-10 maggio: Campionati Nazionali Tennis Tavolo CSI – Palazzetto dello Sporto B. Speca \n→ 10 maggio: Granfondo San Benedetto del Tronto  – Lungomare e varie zone del territorio \n→ 24 maggio: Corri con Martina – Corsa podistica solidale – Lungomare \n→ 30 maggio – 2 giugno: 12^ Summer Football Cup – Impianti sportivi comunali
URL:https://turismo.comunesbt.it/evento/san-benedetto-riviera-dello-sport-primavera-2026/
LOCATION:Vari luoghi
CATEGORIES:Sport
ATTACH;FMTTYPE=image/jpeg:https://turismo.comunesbt.it/wp-content/uploads/2026/04/sport-sito.jpg
END:VEVENT
BEGIN:VEVENT
DTSTART;TZID=Europe/Rome:20260524T093000
DTEND;TZID=Europe/Rome:20260524T170000
DTSTAMP:20260423T161328
CREATED:20260423T122257Z
LAST-MODIFIED:20260423T122355Z
UID:10001037-1779615000-1779642000@turismo.comunesbt.it
SUMMARY:CorriCorriconMartina
DESCRIPTION:La solidarietà torna a correre sul lungomare di San Benedetto del Tronto con l’undicesima edizione della CorriconMartina\, evento inserito nel Circuito Criterium Piceni&Pretuzi 2026. La manifestazione si snoda su un percorso certificato Bandiera Azzurra FIDAL-ANCI\, sinonimo di eccellenza per la promozione del benessere e della salute. \n \nL’iniziativa propone tre varianti: la gara podistica competitiva di 8\,6 km\, la passeggiata ludico-motoria (4\,6 o 8\,6 km) e la divertente Bau Run dedicata agli amici a quattro zampe. L’obiettivo di quest’anno è l’acquisto di uno “Scalp Cooler” per l’Oncologia dell’Ospedale “Madonna del Soccorso”\, un dispositivo fondamentale per ridurre l’alopecia da chemioterapia. In Piazza Giorgini sarà inoltre allestito il Corner della Salute con screening gratuiti e consulenze mediche a cura della Croce Rossa. \n 
URL:https://turismo.comunesbt.it/evento/corricorriconmartina/
LOCATION:Varie zone della città
CATEGORIES:Sport
ATTACH;FMTTYPE=image/jpeg:https://turismo.comunesbt.it/wp-content/uploads/2026/04/CorriConMartina-sito.jpg
END:VEVENT
END:VCALENDAR