BEGIN:VCALENDAR
VERSION:2.0
PRODID:-//SBT Tourism - Turismo San Benedetto del Tronto - ECPv6.15.11//NONSGML v1.0//EN
CALSCALE:GREGORIAN
METHOD:PUBLISH
X-ORIGINAL-URL:https://turismo.comunesbt.it
X-WR-CALDESC:Eventi per SBT Tourism - Turismo San Benedetto del Tronto
REFRESH-INTERVAL;VALUE=DURATION:PT1H
X-Robots-Tag:noindex
X-PUBLISHED-TTL:PT1H
BEGIN:VTIMEZONE
TZID:Europe/Rome
BEGIN:DAYLIGHT
TZOFFSETFROM:+0100
TZOFFSETTO:+0200
TZNAME:CEST
DTSTART:20230326T010000
END:DAYLIGHT
BEGIN:STANDARD
TZOFFSETFROM:+0200
TZOFFSETTO:+0100
TZNAME:CET
DTSTART:20231029T010000
END:STANDARD
BEGIN:DAYLIGHT
TZOFFSETFROM:+0100
TZOFFSETTO:+0200
TZNAME:CEST
DTSTART:20240331T010000
END:DAYLIGHT
BEGIN:STANDARD
TZOFFSETFROM:+0200
TZOFFSETTO:+0100
TZNAME:CET
DTSTART:20241027T010000
END:STANDARD
BEGIN:DAYLIGHT
TZOFFSETFROM:+0100
TZOFFSETTO:+0200
TZNAME:CEST
DTSTART:20250330T010000
END:DAYLIGHT
BEGIN:STANDARD
TZOFFSETFROM:+0200
TZOFFSETTO:+0100
TZNAME:CET
DTSTART:20251026T010000
END:STANDARD
END:VTIMEZONE
BEGIN:VEVENT
DTSTART;VALUE=DATE:20240624
DTEND;VALUE=DATE:20240901
DTSTAMP:20260422T192851
CREATED:20240611T150343Z
LAST-MODIFIED:20240611T150343Z
UID:10000036-1719187200-1725148799@turismo.comunesbt.it
SUMMARY:Sport al Parco
DESCRIPTION:Attività sportiva gratuita nei parchi cittadini. Un’occasione per praticare sport all’aria aperta\, migliorare il benessere fisico e sociale\, e godere degli spazi verdi della città. Un’iniziativa aperta a tutte le età e livelli di preparazione\, che si svolge in vari parchi della città\, in differenti orari. Scarica il programma completo per tutti i dettagli.\nA cura di: Assessorato allo Sport.\nScarica il programma completo 2024
URL:https://turismo.comunesbt.it/evento/sport-al-parco/
LOCATION:Parchi della città
CATEGORIES:Sport
ATTACH;FMTTYPE=image/jpeg:https://turismo.comunesbt.it/wp-content/uploads/2024/06/64-1.jpg
END:VEVENT
BEGIN:VEVENT
DTSTART;VALUE=DATE:20240713
DTEND;VALUE=DATE:20240728
DTSTAMP:20260422T192851
CREATED:20240629T150142Z
LAST-MODIFIED:20240629T150142Z
UID:10000094-1720828800-1722124799@turismo.comunesbt.it
SUMMARY:36° Ragnoliade
DESCRIPTION:Storica manifestazione sportiva\, che prevede due settimane dedicate allo sport\, con modalità mini-olimpiade\, promossa da ragazze e ragazzi del quartiere Ragnola. Diverse discipline sportive\, che offrono ai partecipanti l’opportunità di cimentarsi in varie attività e competere in un clima di amicizia e sano divertimento.\nA cura di: ASD Amici della Ragnoliade. \n 
URL:https://turismo.comunesbt.it/evento/36-ragnoliade/
LOCATION:Piazza Sacra Famiglia
CATEGORIES:Sport
ATTACH;FMTTYPE=image/jpeg:https://turismo.comunesbt.it/wp-content/uploads/2024/06/ragnoliade-1.jpg
END:VEVENT
BEGIN:VEVENT
DTSTART;TZID=Europe/Rome:20240720T183000
DTEND;TZID=Europe/Rome:20240720T233000
DTSTAMP:20260422T192851
CREATED:20240701T140238Z
LAST-MODIFIED:20240701T140238Z
UID:10000117-1721500200-1721518200@turismo.comunesbt.it
SUMMARY:Si Kayak
DESCRIPTION:Un’occasione unica per gli appassionati di canoa: una suggestiva pagaiata in notturna. I partecipanti si ritroveranno al calar del sole per un’escursione in acqua sotto le stelle\, immersi nella tranquillità della notte e accompagnati solo dal suono delle loro pagaie. Un’esperienza indimenticabile per vivere la natura da una prospettiva diversa e godere della magia notturna in compagnia di altri canoisti.\nA cura di: Lega Navale Italiana – Sezione di San Benedetto del Tronto \n 
URL:https://turismo.comunesbt.it/evento/si-kayak/
LOCATION:Concessione n. 45 bis
CATEGORIES:Sport
ATTACH;FMTTYPE=image/jpeg:https://turismo.comunesbt.it/wp-content/uploads/2024/07/si-kayak-1.jpg
END:VEVENT
END:VCALENDAR