BEGIN:VCALENDAR
VERSION:2.0
PRODID:-//SBT Tourism - Turismo San Benedetto del Tronto - ECPv6.15.11//NONSGML v1.0//EN
CALSCALE:GREGORIAN
METHOD:PUBLISH
X-WR-CALNAME:SBT Tourism - Turismo San Benedetto del Tronto
X-ORIGINAL-URL:https://turismo.comunesbt.it
X-WR-CALDESC:Eventi per SBT Tourism - Turismo San Benedetto del Tronto
REFRESH-INTERVAL;VALUE=DURATION:PT1H
X-Robots-Tag:noindex
X-PUBLISHED-TTL:PT1H
BEGIN:VTIMEZONE
TZID:Europe/Rome
BEGIN:DAYLIGHT
TZOFFSETFROM:+0100
TZOFFSETTO:+0200
TZNAME:CEST
DTSTART:20240331T010000
END:DAYLIGHT
BEGIN:STANDARD
TZOFFSETFROM:+0200
TZOFFSETTO:+0100
TZNAME:CET
DTSTART:20241027T010000
END:STANDARD
BEGIN:DAYLIGHT
TZOFFSETFROM:+0100
TZOFFSETTO:+0200
TZNAME:CEST
DTSTART:20250330T010000
END:DAYLIGHT
BEGIN:STANDARD
TZOFFSETFROM:+0200
TZOFFSETTO:+0100
TZNAME:CET
DTSTART:20251026T010000
END:STANDARD
BEGIN:DAYLIGHT
TZOFFSETFROM:+0100
TZOFFSETTO:+0200
TZNAME:CEST
DTSTART:20260329T010000
END:DAYLIGHT
BEGIN:STANDARD
TZOFFSETFROM:+0200
TZOFFSETTO:+0100
TZNAME:CET
DTSTART:20261025T010000
END:STANDARD
END:VTIMEZONE
BEGIN:VEVENT
DTSTART;TZID=Europe/Rome:20250503T080000
DTEND;TZID=Europe/Rome:20250504T170000
DTSTAMP:20260422T040719
CREATED:20250503T143941Z
LAST-MODIFIED:20250623T134202Z
UID:10000690-1746259200-1746378000@turismo.comunesbt.it
SUMMARY:Lega Navale Italiana di San Benedetto: eventi per il 2025
DESCRIPTION:La Lega Navale Italiana di San Benedetto del Tronto lancia la sua stagione 2025 con un ricco calendario di eventi sportivi e culturali aperti alla cittadinanza. Con una tradizione che dura dal 1957 e una profonda vocazione all’inclusione\, alla promozione sportiva e alla tutela del mare\, la Sezione si conferma punto di riferimento per l’Adriatico. \nTra le novità\, spicca il Campionato Regionale Open di Ocean Racing (4 maggio)\, prima competizione di questo genere nel tratto marchigiano\, valida per il circuito nazionale FICK e aperta ad atleti da tutta Italia. \nCalendario eventi 2025 – Lega Navale Italiana San Benedetto del Tronto \n4 maggio\nOcean Racing – Surfski/Canoa – Canoa in acque mosse\, prima assoluta nelle Marche. \n18 maggio\nOpen Day Sport Nautici – Prove gratuite di sport in mare. \n25 maggio\nOpen Day Pesca Sportiva – Giornata aperta a tutti\, canna in mano. \n2 giugno\nOpen Day Sport Nautici – Vela Day FIV – Evento nazionale per avvicinarsi alla vela. \n15 giugno\nAdriatic Cup – Coastal Rowing – Canottaggio in mare aperto. \n22 giugno\nMemorial Sgattoni – Gara di pesca sportiva in ricordo. \n6 luglio\nSi Kayak – In canoa al chiaro di luna + Jazzap – Pagaiare sotto le stelle con musica dal vivo. \n27 luglio / 10 e 24 agosto / 31 agosto (recupero)\nJack la Bolina – Regate veliche dedicate a Giovanni Latini. \n3 agosto\nLega all’Amo – Gara di pesca per bambini. \n14 agosto\nSi Kayak – Alba in musica nella Riserva della Sentina. \n23 novembre\nUna cima rossa per fermare la violenza – Iniziativa contro la violenza sulle donne. \n30 novembre\nTutti a bordo con la Lega\, nessuno escluso – Giornata per l’inclusione. \n7 dicembre\nPranzo di Natale – Momento conviviale per i soci. \n20 dicembre\nBabbo Natale viene dal mare – Tradizione e magia per grandi e piccoli. \nScarica il programma degli eventi. \nPer info e aggiornamenti:\nLega Navale Italiana SBT: tel. 0735-569063 – mob. +39 348-5153422 – e-mail: sanbenedettodeltronto@leganavale.it\nSegreteria LNI SBT: Sig. Sabrina – tel. 0735 569063 – mob. 3485153422 – e-mail: sanbenedettodeltronto@leganavale.it\nDirigente LNI SBT: Achille Ambrosini – tel. 345 9090563 – e-mail: achilleambrosini58@gmail.com\nIstruttore Federale FICK: Mirko
URL:https://turismo.comunesbt.it/evento/lega-navale-italiana-di-san-benedetto-eventi-per-il-2025/
LOCATION:Piazzale Pinguino
CATEGORIES:Sport
ATTACH;FMTTYPE=image/png:https://turismo.comunesbt.it/wp-content/uploads/2025/05/lega-navale-1.png
END:VEVENT
END:VCALENDAR