BEGIN:VCALENDAR
VERSION:2.0
PRODID:-//SBT Tourism - Turismo San Benedetto del Tronto - ECPv6.15.11//NONSGML v1.0//EN
CALSCALE:GREGORIAN
METHOD:PUBLISH
X-ORIGINAL-URL:https://turismo.comunesbt.it
X-WR-CALDESC:Eventi per SBT Tourism - Turismo San Benedetto del Tronto
REFRESH-INTERVAL;VALUE=DURATION:PT1H
X-Robots-Tag:noindex
X-PUBLISHED-TTL:PT1H
BEGIN:VTIMEZONE
TZID:Europe/Rome
BEGIN:DAYLIGHT
TZOFFSETFROM:+0100
TZOFFSETTO:+0200
TZNAME:CEST
DTSTART:20240331T010000
END:DAYLIGHT
BEGIN:STANDARD
TZOFFSETFROM:+0200
TZOFFSETTO:+0100
TZNAME:CET
DTSTART:20241027T010000
END:STANDARD
BEGIN:DAYLIGHT
TZOFFSETFROM:+0100
TZOFFSETTO:+0200
TZNAME:CEST
DTSTART:20250330T010000
END:DAYLIGHT
BEGIN:STANDARD
TZOFFSETFROM:+0200
TZOFFSETTO:+0100
TZNAME:CET
DTSTART:20251026T010000
END:STANDARD
BEGIN:DAYLIGHT
TZOFFSETFROM:+0100
TZOFFSETTO:+0200
TZNAME:CEST
DTSTART:20260329T010000
END:DAYLIGHT
BEGIN:STANDARD
TZOFFSETFROM:+0200
TZOFFSETTO:+0100
TZNAME:CET
DTSTART:20261025T010000
END:STANDARD
END:VTIMEZONE
BEGIN:VEVENT
DTSTART;TZID=Europe/Rome:20250303T173000
DTEND;TZID=Europe/Rome:20250303T190000
DTSTAMP:20260425T190325
CREATED:20250207T134356Z
LAST-MODIFIED:20250207T134356Z
UID:10000624-1741023000-1741028400@turismo.comunesbt.it
SUMMARY:I lunedì del Circolo dei Sambenedettesi
DESCRIPTION:Il Circolo dei Sambenedettesi ospita presso la propria sede quattro appuntamenti culturali\, in programma ogni lunedì dal 10 febbraio al 3 marzo\, che spaziano dalla scienza al cinema\, passando dal dialetto alle tradizioni cittadine\, come il carnevale.\nGli incontri sono gratuiti e hanno lo scopo di riunire interessati e appassionati in un’occasione di condivisione e socialità.
URL:https://turismo.comunesbt.it/evento/i-lunedi-del-circolo-dei-sambenedettesi/2025-03-03/
LOCATION:Circolo dei Sambenedettesi
CATEGORIES:Culture
ATTACH;FMTTYPE=image/png:https://turismo.comunesbt.it/wp-content/uploads/2025/02/1-2.png
END:VEVENT
BEGIN:VEVENT
DTSTART;TZID=Europe/Rome:20250224T173000
DTEND;TZID=Europe/Rome:20250224T190000
DTSTAMP:20260425T190325
CREATED:20250207T134356Z
LAST-MODIFIED:20250207T134356Z
UID:10000623-1740418200-1740423600@turismo.comunesbt.it
SUMMARY:I lunedì del Circolo dei Sambenedettesi
DESCRIPTION:Il Circolo dei Sambenedettesi ospita presso la propria sede quattro appuntamenti culturali\, in programma ogni lunedì dal 10 febbraio al 3 marzo\, che spaziano dalla scienza al cinema\, passando dal dialetto alle tradizioni cittadine\, come il carnevale.\nGli incontri sono gratuiti e hanno lo scopo di riunire interessati e appassionati in un’occasione di condivisione e socialità.
URL:https://turismo.comunesbt.it/evento/i-lunedi-del-circolo-dei-sambenedettesi/2025-02-24/
LOCATION:Circolo dei Sambenedettesi
CATEGORIES:Culture
ATTACH;FMTTYPE=image/png:https://turismo.comunesbt.it/wp-content/uploads/2025/02/1-2.png
END:VEVENT
BEGIN:VEVENT
DTSTART;TZID=Europe/Rome:20250217T173000
DTEND;TZID=Europe/Rome:20250217T190000
DTSTAMP:20260425T190325
CREATED:20250207T134356Z
LAST-MODIFIED:20250207T134356Z
UID:10000622-1739813400-1739818800@turismo.comunesbt.it
SUMMARY:I lunedì del Circolo dei Sambenedettesi
DESCRIPTION:Il Circolo dei Sambenedettesi ospita presso la propria sede quattro appuntamenti culturali\, in programma ogni lunedì dal 10 febbraio al 3 marzo\, che spaziano dalla scienza al cinema\, passando dal dialetto alle tradizioni cittadine\, come il carnevale.\nGli incontri sono gratuiti e hanno lo scopo di riunire interessati e appassionati in un’occasione di condivisione e socialità.
URL:https://turismo.comunesbt.it/evento/i-lunedi-del-circolo-dei-sambenedettesi/2025-02-17/
LOCATION:Circolo dei Sambenedettesi
CATEGORIES:Culture
ATTACH;FMTTYPE=image/png:https://turismo.comunesbt.it/wp-content/uploads/2025/02/1-2.png
END:VEVENT
BEGIN:VEVENT
DTSTART;TZID=Europe/Rome:20250210T173000
DTEND;TZID=Europe/Rome:20250210T190000
DTSTAMP:20260425T190325
CREATED:20250207T134356Z
LAST-MODIFIED:20250207T134356Z
UID:10000621-1739208600-1739214000@turismo.comunesbt.it
SUMMARY:I lunedì del Circolo dei Sambenedettesi
DESCRIPTION:Il Circolo dei Sambenedettesi ospita presso la propria sede quattro appuntamenti culturali\, in programma ogni lunedì dal 10 febbraio al 3 marzo\, che spaziano dalla scienza al cinema\, passando dal dialetto alle tradizioni cittadine\, come il carnevale.\nGli incontri sono gratuiti e hanno lo scopo di riunire interessati e appassionati in un’occasione di condivisione e socialità.
URL:https://turismo.comunesbt.it/evento/i-lunedi-del-circolo-dei-sambenedettesi/2025-02-10/
LOCATION:Circolo dei Sambenedettesi
CATEGORIES:Culture
ATTACH;FMTTYPE=image/png:https://turismo.comunesbt.it/wp-content/uploads/2025/02/1-2.png
END:VEVENT
END:VCALENDAR