BEGIN:VCALENDAR
VERSION:2.0
PRODID:-//SBT Tourism - Turismo San Benedetto del Tronto - ECPv6.15.11//NONSGML v1.0//EN
CALSCALE:GREGORIAN
METHOD:PUBLISH
X-ORIGINAL-URL:https://turismo.comunesbt.it
X-WR-CALDESC:Eventi per SBT Tourism - Turismo San Benedetto del Tronto
REFRESH-INTERVAL;VALUE=DURATION:PT1H
X-Robots-Tag:noindex
X-PUBLISHED-TTL:PT1H
BEGIN:VTIMEZONE
TZID:Europe/Rome
BEGIN:DAYLIGHT
TZOFFSETFROM:+0100
TZOFFSETTO:+0200
TZNAME:CEST
DTSTART:20240331T010000
END:DAYLIGHT
BEGIN:STANDARD
TZOFFSETFROM:+0200
TZOFFSETTO:+0100
TZNAME:CET
DTSTART:20241027T010000
END:STANDARD
BEGIN:DAYLIGHT
TZOFFSETFROM:+0100
TZOFFSETTO:+0200
TZNAME:CEST
DTSTART:20250330T010000
END:DAYLIGHT
BEGIN:STANDARD
TZOFFSETFROM:+0200
TZOFFSETTO:+0100
TZNAME:CET
DTSTART:20251026T010000
END:STANDARD
BEGIN:DAYLIGHT
TZOFFSETFROM:+0100
TZOFFSETTO:+0200
TZNAME:CEST
DTSTART:20260329T010000
END:DAYLIGHT
BEGIN:STANDARD
TZOFFSETFROM:+0200
TZOFFSETTO:+0100
TZNAME:CET
DTSTART:20261025T010000
END:STANDARD
END:VTIMEZONE
BEGIN:VEVENT
DTSTART;TZID=Europe/Rome:20250722T203000
DTEND;TZID=Europe/Rome:20250722T233000
DTSTAMP:20260425T232010
CREATED:20250716T061022Z
LAST-MODIFIED:20250716T061022Z
UID:10000900-1753216200-1753227000@turismo.comunesbt.it
SUMMARY:Gran Galà di beneficenza “Con il Cuore a Betlemme”
DESCRIPTION:Il 22 luglio alle 20:30\, al ristorante Harena di San Benedetto del Tronto\, si terrà il Gran Galà di beneficenza “Con il Cuore a Betlemme”\, promosso dal Lions Club Ascoli Piceno Urbs Turrita\, presieduto dall’Avv. Giuseppe Falciani. L’evento nasce per sostenere l’orfanotrofio internazionale “La Creche” di Betlemme\, in collaborazione con il progetto di solidarietà della fondazione LCIF del Lions International. \nCon il patrocinio dei Comuni di Ascoli Piceno e San Benedetto del Tronto\, la serata sarà un momento conviviale con cena e musica dal vivo. Il ricavato contribuirà all’ampliamento della struttura gestita dalle suore Figlie della Carità di San Vincenzo de’ Paoli\, che accoglie oltre 70 bambini in fuga da guerra e povertà. L’obiettivo è arrivare a ospitarne più di 100. Alla presentazione dell’iniziativa sono intervenuti rappresentanti istituzionali\, soci del club e la Dott.ssa Patrizia Ferrara\, titolare del ristorante Harena. \nScarica la locandina dell’evento. \nIn sintesi\nEvento: Gran Galà di beneficenza “Con il Cuore a Betlemme”\nQuando: 22 luglio\, ore 20:30\nDove: Ristorante Harena\, San Benedetto del Tronto\nA cura di: Lions Club Ascoli Piceno Urbs Turrita\nInfo: Contattare Lions Club Ascoli Piceno Urbs Turrita per dettagli e prenotazioni\nIngresso: A pagamento\, prenotazione obbligatoria
URL:https://turismo.comunesbt.it/evento/gran-gala-di-beneficenza-con-il-cuore-a-betlemme/
LOCATION:Harena
CATEGORIES:Culture
ATTACH;FMTTYPE=image/jpeg:https://turismo.comunesbt.it/wp-content/uploads/2025/07/gran-gala-beneficenza.jpg
END:VEVENT
BEGIN:VEVENT
DTSTART;TZID=Europe/Rome:20250228T180000
DTEND;TZID=Europe/Rome:20250228T193000
DTSTAMP:20260425T232010
CREATED:20250226T073936Z
LAST-MODIFIED:20250226T073936Z
UID:10000639-1740765600-1740771000@turismo.comunesbt.it
SUMMARY:Incontri con l'Autore - Daniele Mencarelli
DESCRIPTION:Daniele Mencarelli presenta il suo ultimo libro “Brucia l’origine” “venerdì” 28 febbraio alle ore 18\,00 all’Harena. Modera Giovanna Frastalli. \nDaniele Mencarelli\, poeta e narratore\, nasce a Roma nel 1974. La sua più recente opera poetica è Degli amanti\, non degli eroi (Mondadori\, 2024). Del 2018 è il suo romanzo d’esordio\, La casa degli sguardi\, Mondadori (premio Volponi\, premio Severino Cesari opera prima\, premio John Fante opera prima). Nel 2020 esce “Tutto chiede salvezza”\, Mondadori (finalista al premio Strega\, vincitore del premio Strega Giovani\, del premio Segafredo Zanetti-un libro un film\, e del premio Anima per il sociale). Da questo romanzo è stata tratta per Netflix la serie omonima\, con regia di Francesco Bruni. Sempre tornare (Mondadori\, 2021\, premio Flaiano) chiude la sua ideale trilogia autobiografica. Nel 2023\, sempre per Mondadori\, è uscito Fame d’aria (premio Clara Sereni). Collabora\, scrivendo di cultura e società\, con quotidiani e riviste. \nIl libro\nDa quattro anni Gabriele Bilancini non tornava a casa. Casa è il quartiere Tuscolano a Roma\, dove è nato e vissuto insieme ai genitori\, la sorella e una compagnia di amici inseparabili. Oggi Gabriele abita a Milano ed è tra i dieci designer emergenti più quotati al mondo. E ora\, dopo quattro anni\, torna.\nA casa tutto è rimasto identico\, a partire dalla vita dei suoi amici\, come se il tempo non fosse trascorso\, stesse abitudini\, stesse giornate – al posto della scuola il lavoro – che si concludono ai tavolini del bar del sor Antonio. L’abbraccio in cui lo avvolge il suo passato è la cosa più dolce e al contempo soffocante che potesse ricevere e lo costringe a prendere atto della frattura che lo abita.\nMencarelli ci offre il quadro appassionante\, la tranche de vie\, di un quartiere della periferia romana che potrebbe essere una qualsiasi periferia\, concreta ed esistenziale\, in cui il protagonista coltiva un desiderio di esprimersi che non si appaga mai\, un bisogno di appartenenza che non sa come incarnarsi. \nPer maggiori informazioni: 3664349288.
URL:https://turismo.comunesbt.it/evento/incontri-con-lautore-daniele-mencarelli/
LOCATION:Harena
CATEGORIES:Culture
ATTACH;FMTTYPE=image/png:https://turismo.comunesbt.it/wp-content/uploads/2025/02/Libro-Mancarelli-1.png
END:VEVENT
END:VCALENDAR