BEGIN:VCALENDAR
VERSION:2.0
PRODID:-//SBT Tourism - Turismo San Benedetto del Tronto - ECPv6.15.11//NONSGML v1.0//EN
CALSCALE:GREGORIAN
METHOD:PUBLISH
X-ORIGINAL-URL:https://turismo.comunesbt.it
X-WR-CALDESC:Eventi per SBT Tourism - Turismo San Benedetto del Tronto
REFRESH-INTERVAL;VALUE=DURATION:PT1H
X-Robots-Tag:noindex
X-PUBLISHED-TTL:PT1H
BEGIN:VTIMEZONE
TZID:Europe/Rome
BEGIN:DAYLIGHT
TZOFFSETFROM:+0100
TZOFFSETTO:+0200
TZNAME:CEST
DTSTART:20230326T010000
END:DAYLIGHT
BEGIN:STANDARD
TZOFFSETFROM:+0200
TZOFFSETTO:+0100
TZNAME:CET
DTSTART:20231029T010000
END:STANDARD
BEGIN:DAYLIGHT
TZOFFSETFROM:+0100
TZOFFSETTO:+0200
TZNAME:CEST
DTSTART:20240331T010000
END:DAYLIGHT
BEGIN:STANDARD
TZOFFSETFROM:+0200
TZOFFSETTO:+0100
TZNAME:CET
DTSTART:20241027T010000
END:STANDARD
BEGIN:DAYLIGHT
TZOFFSETFROM:+0100
TZOFFSETTO:+0200
TZNAME:CEST
DTSTART:20250330T010000
END:DAYLIGHT
BEGIN:STANDARD
TZOFFSETFROM:+0200
TZOFFSETTO:+0100
TZNAME:CET
DTSTART:20251026T010000
END:STANDARD
END:VTIMEZONE
BEGIN:VEVENT
DTSTART;TZID=Europe/Rome:20240627T210000
DTEND;TZID=Europe/Rome:20240627T230000
DTSTAMP:20260422T105546
CREATED:20240611T151616Z
LAST-MODIFIED:20240611T151616Z
UID:10000041-1719522000-1719529200@turismo.comunesbt.it
SUMMARY:Parliamone!
DESCRIPTION:Presentazioni e incontri con autori ed editori. Melissa Panarello presenta “Storia dei miei soldi”\, ed. Bompiani. Un’occasione per esplorare i temi trattati nel libro e discutere con l’autore il suo processo creativo e le sue ispirazioni. Un incontro per conoscere meglio le opere e gli autori contemporanei.\nA cura di: Libreria Nave Cervo. \nScarica il programma completo dell’evento. \n 
URL:https://turismo.comunesbt.it/evento/parliamone-2/
LOCATION:Palazzina Azzurra
CATEGORIES:Culture
ATTACH;FMTTYPE=image/jpeg:https://turismo.comunesbt.it/wp-content/uploads/2024/06/5-1-1.jpg
END:VEVENT
BEGIN:VEVENT
DTSTART;TZID=Europe/Rome:20240626T213000
DTEND;TZID=Europe/Rome:20240626T233000
DTSTAMP:20260422T105546
CREATED:20240611T150919Z
LAST-MODIFIED:20240611T150919Z
UID:10000038-1719437400-1719444600@turismo.comunesbt.it
SUMMARY:Maxxx Trio - Racconti Mediterranei
DESCRIPTION:Il Maxxx Trio presenta “Racconti Mediterranei”\, un’esibizione che omaggia Pino Daniele con una selezione di sue cover. Il trio reinterpreta i brani dell’artista napoletano\, attraverso le varie atmosfere mediterranee. Un momento di musica e cultura dedicato a uno dei grandi protagonisti della scena musicale italiana. Ingresso libero. \nPer informazioni sullo svolgimento dell’evento\, in particolare in caso di maltempo\, contattare l’organizzazione al numero di telefono 348 410 3909. \nA cura di: Associazione Novart. \n 
URL:https://turismo.comunesbt.it/evento/maxxx-trio-racconti-mediterranei/
LOCATION:Palazzina Azzurra
CATEGORIES:Music & Fun
ATTACH;FMTTYPE=image/jpeg:https://turismo.comunesbt.it/wp-content/uploads/2024/06/foto-maxxx-trio-1.jpg
END:VEVENT
BEGIN:VEVENT
DTSTART;TZID=Europe/Rome:20240622T100000
DTEND;TZID=Europe/Rome:20240622T170000
DTSTAMP:20260422T105546
CREATED:20240611T145206Z
LAST-MODIFIED:20240611T145206Z
UID:10000033-1719050400-1719075600@turismo.comunesbt.it
SUMMARY:Saggio di fine anno accademico
DESCRIPTION:L’anno accademico si conclude con un’esibizione di chiusura\, dove gli studenti UTES metteranno in mostra le competenze acquisite durante il corso. Un’occasione per vedere i progressi e i talenti dei partecipanti attraverso varie performance. L’evento celebra l’impegno e la dedizione degli studenti e dei docenti.\nA cura di: UTES.
URL:https://turismo.comunesbt.it/evento/saggio-di-fine-anno-accademico/
LOCATION:Palazzina Azzurra
CATEGORIES:Music & Fun
ATTACH;FMTTYPE=image/jpeg:https://turismo.comunesbt.it/wp-content/uploads/2024/06/kyle-head-p6rNTdAPbuk-unsplash-1.jpg
END:VEVENT
BEGIN:VEVENT
DTSTART;TZID=Europe/Rome:20240621T210000
DTEND;TZID=Europe/Rome:20240621T230000
DTSTAMP:20260422T105546
CREATED:20240611T143832Z
LAST-MODIFIED:20240611T143832Z
UID:10000029-1719003600-1719010800@turismo.comunesbt.it
SUMMARY:Festa Europea della Musica
DESCRIPTION:Libere esibizioni musicali di artisti per celebrare il solstizio d’estate. Un’occasione per godere di performance dal vivo in un’atmosfera festosa e conviviale. Musicisti di vari generi si esibiranno\, offrendo un’esperienza unica e coinvolgente per tutti i partecipanti.\nA cura di Associazione Arte Viva.
URL:https://turismo.comunesbt.it/evento/festa-europea-della-musica/
LOCATION:Palazzina Azzurra
CATEGORIES:Music & Fun
ATTACH;FMTTYPE=image/jpeg:https://turismo.comunesbt.it/wp-content/uploads/2024/06/chris-bair-A10y2Eq7OHY-unsplash-1.jpg
END:VEVENT
BEGIN:VEVENT
DTSTART;TZID=Europe/Rome:20240620T210000
DTEND;TZID=Europe/Rome:20240620T230000
DTSTAMP:20260422T105546
CREATED:20240611T142816Z
LAST-MODIFIED:20240611T142816Z
UID:10000025-1718917200-1718924400@turismo.comunesbt.it
SUMMARY:Parliamone!
DESCRIPTION:Presentazioni e incontri con autori ed editori. Antonio Attorre presenta il suo libro “Il giusto della terra”\, edito da AndreaLivi. Un’occasione per esplorare i temi trattati nel libro e discutere con l’autore il suo processo creativo e le sue ispirazioni. Un incontro per conoscere meglio le opere e gli autori contemporanei.\nA cura di Libreria Nave Cervo. \n 
URL:https://turismo.comunesbt.it/evento/parliamone/
LOCATION:Palazzina Azzurra
CATEGORIES:Culture
ATTACH;FMTTYPE=image/jpeg:https://turismo.comunesbt.it/wp-content/uploads/2024/06/siora-photography-hgFY1mZY-Y0-unsplash-1.jpg
END:VEVENT
BEGIN:VEVENT
DTSTART;TZID=Europe/Rome:20240619T210000
DTEND;TZID=Europe/Rome:20240619T230000
DTSTAMP:20260422T105546
CREATED:20240611T142600Z
LAST-MODIFIED:20240611T142600Z
UID:10000024-1718830800-1718838000@turismo.comunesbt.it
SUMMARY:Finalisti Premio Strega
DESCRIPTION:Incontro con gli autori finalisti del Premio Strega. Un’occasione per ascoltare i protagonisti della narrativa contemporanea italiana\, scoprire le loro opere e approfondire i temi trattati nei libri in concorso. Un momento di dialogo e confronto con alcuni dei migliori scrittori del panorama letterario attuale.\nA cura di I Luoghi della Scrittura.
URL:https://turismo.comunesbt.it/evento/finalisti-premio-strega/
LOCATION:Palazzina Azzurra
CATEGORIES:Culture
ATTACH;FMTTYPE=image/jpeg:https://turismo.comunesbt.it/wp-content/uploads/2024/06/92-1.jpg
END:VEVENT
BEGIN:VEVENT
DTSTART;TZID=Europe/Rome:20240617T210000
DTEND;TZID=Europe/Rome:20240617T230000
DTSTAMP:20260422T105546
CREATED:20240611T142322Z
LAST-MODIFIED:20240611T142322Z
UID:10000023-1718658000-1718665200@turismo.comunesbt.it
SUMMARY:Ti porto dove batte il sole
DESCRIPTION:Presentazione del libro di Raffaella Caponi. L’autrice discuterà della sua opera insieme alla giornalista Alessandra Addari. Un’occasione per esplorare i temi del libro e conoscere più da vicino il percorso creativo di Caponi.
URL:https://turismo.comunesbt.it/evento/ti-porto-dove-batte-il-sole/
LOCATION:Palazzina Azzurra
CATEGORIES:Culture
ATTACH;FMTTYPE=image/jpeg:https://turismo.comunesbt.it/wp-content/uploads/2024/06/sincerely-media-dGxOgeXAXm8-unsplash-1.jpg
END:VEVENT
BEGIN:VEVENT
DTSTART;TZID=Europe/Rome:20240616T210000
DTEND;TZID=Europe/Rome:20240616T230000
DTSTAMP:20260422T105546
CREATED:20240611T141415Z
LAST-MODIFIED:20240611T141415Z
UID:10000020-1718571600-1718578800@turismo.comunesbt.it
SUMMARY:Incontro con l'autore Pino Casamassima
DESCRIPTION:Pino Casamassima presenta il suo ultimo libro “Tempesta. Storia di Giacomo Matteotti”\, edito da Baldini + Castoldi. Durante l’evento\, l’autore parlerà della vita e delle vicende di Giacomo Matteotti\, offrendo un’interessante panoramica storica. Un’opportunità per conoscere più da vicino il lavoro di Casamassima e approfondire un importante capitolo della storia italiana.\nA cura di Associazione I Luoghi della Scrittura.
URL:https://turismo.comunesbt.it/evento/incontro-con-lautore-pino-casamassima/
LOCATION:Palazzina Azzurra
CATEGORIES:Culture
ATTACH;FMTTYPE=image/jpeg:https://turismo.comunesbt.it/wp-content/uploads/2024/06/2-1-1.jpg
END:VEVENT
BEGIN:VEVENT
DTSTART;TZID=Europe/Rome:20240614T170000
DTEND;TZID=Europe/Rome:20240614T200000
DTSTAMP:20260422T105546
CREATED:20240611T133500Z
LAST-MODIFIED:20240611T133500Z
UID:10000014-1718384400-1718395200@turismo.comunesbt.it
SUMMARY:Donne e sport - La lunga strada verso la parità
DESCRIPTION:Un convegno per promuovere il valore universale dello sport e discutere le sfide e i successi delle donne nel mondo sportivo. L’evento\, aperto a tutti\, offrirà una piattaforma per confrontarsi sulle questioni di parità di genere nello sport\, con interventi di atlete\, esperti e rappresentanti delle istituzioni. Un’occasione unica per riflettere insieme sul percorso compiuto e sui passi ancora da fare per raggiungere una vera uguaglianza.\nA cura di Soroptimistic Club di Ascoli Piceno.
URL:https://turismo.comunesbt.it/evento/donne-e-sport-la-lunga-strada-verso-la-parita/
LOCATION:Palazzina Azzurra
CATEGORIES:Culture
ATTACH;FMTTYPE=image/jpeg:https://turismo.comunesbt.it/wp-content/uploads/2024/06/68-1.jpg
END:VEVENT
BEGIN:VEVENT
DTSTART;TZID=Europe/Rome:20240611T080000
DTEND;TZID=Europe/Rome:20240611T170000
DTSTAMP:20260422T105546
CREATED:20240611T140754Z
LAST-MODIFIED:20240611T140754Z
UID:10000019-1718092800-1718125200@turismo.comunesbt.it
SUMMARY:Incontro con gli autori Valerio De Gioia e Adriana Pannitteri
DESCRIPTION:Un evento culturale imperdibile: Valerio de Gioia e Adriana Pannitteri presenteranno il loro nuovo libro\, “Il sangue delle donne”\, edito da Vallecchi. Durante l’incontro\, i due autori dialogheranno con la giornalista Cristina Perozzi\, offrendo al pubblico un’occasione per approfondire i temi trattati nel loro appassionante lavoro. Non perdete questa straordinaria opportunità di confronto e riflessione su una tematica tanto attuale quanto delicata.
URL:https://turismo.comunesbt.it/evento/incontro-con-gli-autori-valerio-de-gioia-e-adriana-pannitteri/
LOCATION:Palazzina Azzurra
CATEGORIES:Culture
ATTACH;FMTTYPE=image/jpeg:https://turismo.comunesbt.it/wp-content/uploads/2024/05/img_9-scaled-1.jpg
END:VEVENT
END:VCALENDAR