BEGIN:VCALENDAR
VERSION:2.0
PRODID:-//SBT Tourism - Turismo San Benedetto del Tronto - ECPv6.15.11//NONSGML v1.0//EN
CALSCALE:GREGORIAN
METHOD:PUBLISH
X-WR-CALNAME:SBT Tourism - Turismo San Benedetto del Tronto
X-ORIGINAL-URL:https://turismo.comunesbt.it
X-WR-CALDESC:Eventi per SBT Tourism - Turismo San Benedetto del Tronto
REFRESH-INTERVAL;VALUE=DURATION:PT1H
X-Robots-Tag:noindex
X-PUBLISHED-TTL:PT1H
BEGIN:VTIMEZONE
TZID:Europe/Rome
BEGIN:DAYLIGHT
TZOFFSETFROM:+0100
TZOFFSETTO:+0200
TZNAME:CEST
DTSTART:20230326T010000
END:DAYLIGHT
BEGIN:STANDARD
TZOFFSETFROM:+0200
TZOFFSETTO:+0100
TZNAME:CET
DTSTART:20231029T010000
END:STANDARD
BEGIN:DAYLIGHT
TZOFFSETFROM:+0100
TZOFFSETTO:+0200
TZNAME:CEST
DTSTART:20240331T010000
END:DAYLIGHT
BEGIN:STANDARD
TZOFFSETFROM:+0200
TZOFFSETTO:+0100
TZNAME:CET
DTSTART:20241027T010000
END:STANDARD
BEGIN:DAYLIGHT
TZOFFSETFROM:+0100
TZOFFSETTO:+0200
TZNAME:CEST
DTSTART:20250330T010000
END:DAYLIGHT
BEGIN:STANDARD
TZOFFSETFROM:+0200
TZOFFSETTO:+0100
TZNAME:CET
DTSTART:20251026T010000
END:STANDARD
END:VTIMEZONE
BEGIN:VEVENT
DTSTART;TZID=Europe/Rome:20240802T210000
DTEND;TZID=Europe/Rome:20240802T233000
DTSTAMP:20260424T161405
CREATED:20240710T133551Z
LAST-MODIFIED:20240710T133551Z
UID:10000244-1722632400-1722641400@turismo.comunesbt.it
SUMMARY:Fiabe al Parco - I viaggi di Sinbad il Marinaio
DESCRIPTION:Sindbad\, ricco mercante di Baghdad\, dopo aver sperperato tutti i beni che suo padre gli aveva lasciato in eredità raccoglie i suoi ultimi averi si imbarca e prende il mare: l’unica certezza è che vivrà avventure meravigliose. Il tema cardine di questa produzione è il viaggio fantastico\, conoscenza di mondi nuovi\, voglia di divertirsi e mettersi alla prova e attraverso questi elementi approdare alla conoscenza di se stesso. \nIl nostro marinaio affronterà un ciclope che tenterà di arrostirlo; malvagie creature che cavalcano l’uomo come se fosse un cavallo; serpenti affamati che cercheranno di ingoiarlo; enormi uccelli che lo trasporteranno attraverso il cielo e altri pericoli ancora. Ma alla fine la forza della fantasia prevarrà sui sogni cattivi e il nostro Sindbad si sveglierà arricchito di nuove esperienze con un velo di saggezza sugli occhi colmi di avventura.\nA cura di: compagnia “Fratelli di Taglia” di Rimini.\nPer informazioni: Michela Galieni 3805463939 \nScarica il programma completo dell’evento. \n 
URL:https://turismo.comunesbt.it/evento/fiabe-al-parco-i-viaggi-di-sinbad-il-marinaio/
LOCATION:Parco di Via Ferri
CATEGORIES:Culture
ATTACH;FMTTYPE=image/jpeg:https://turismo.comunesbt.it/wp-content/uploads/2024/07/sinbad-1.jpg
END:VEVENT
END:VCALENDAR