BEGIN:VCALENDAR
VERSION:2.0
PRODID:-//SBT Tourism - Turismo San Benedetto del Tronto - ECPv6.15.11//NONSGML v1.0//EN
CALSCALE:GREGORIAN
METHOD:PUBLISH
X-WR-CALNAME:SBT Tourism - Turismo San Benedetto del Tronto
X-ORIGINAL-URL:https://turismo.comunesbt.it
X-WR-CALDESC:Eventi per SBT Tourism - Turismo San Benedetto del Tronto
REFRESH-INTERVAL;VALUE=DURATION:PT1H
X-Robots-Tag:noindex
X-PUBLISHED-TTL:PT1H
BEGIN:VTIMEZONE
TZID:Europe/Rome
BEGIN:DAYLIGHT
TZOFFSETFROM:+0100
TZOFFSETTO:+0200
TZNAME:CEST
DTSTART:20240331T010000
END:DAYLIGHT
BEGIN:STANDARD
TZOFFSETFROM:+0200
TZOFFSETTO:+0100
TZNAME:CET
DTSTART:20241027T010000
END:STANDARD
BEGIN:DAYLIGHT
TZOFFSETFROM:+0100
TZOFFSETTO:+0200
TZNAME:CEST
DTSTART:20250330T010000
END:DAYLIGHT
BEGIN:STANDARD
TZOFFSETFROM:+0200
TZOFFSETTO:+0100
TZNAME:CET
DTSTART:20251026T010000
END:STANDARD
BEGIN:DAYLIGHT
TZOFFSETFROM:+0100
TZOFFSETTO:+0200
TZNAME:CEST
DTSTART:20260329T010000
END:DAYLIGHT
BEGIN:STANDARD
TZOFFSETFROM:+0200
TZOFFSETTO:+0100
TZNAME:CET
DTSTART:20261025T010000
END:STANDARD
END:VTIMEZONE
BEGIN:VEVENT
DTSTART;VALUE=DATE:20250529
DTEND;VALUE=DATE:20250818
DTSTAMP:20260422T162109
CREATED:20250326T185201Z
LAST-MODIFIED:20250326T185201Z
UID:10000675-1748476800-1755475199@turismo.comunesbt.it
SUMMARY:La cultura del cibo dalla costa ai borghi
DESCRIPTION:“La cultura del cibo tra costa e borghi del Piceno” è un’iniziativa che celebra l’autenticità e le eccellenze gastronomiche della Riviera delle Palme e del suo entroterra. Un viaggio che unisce mare e colline\, tradizione e innovazione\, comunità e visitatori\, attraverso un ricco calendario di eventi e attività culturali e di promozione. \nIl progetto mette al centro la relazione profonda tra cibo e cultura\, valorizzando i prodotti locali\, i luoghi simbolici\, le memorie collettive e la creatività di chi ogni giorno fa vivere il patrimonio enogastronomico del nostro territorio.\nIn particolare\, le finalità ultime del progetto\, oltre che valorizzare i prodotti tipici come attrattori culturali e turistici\, sono quelle di coinvolgere comunità locali\, produttori\, chef e ristoratori per rafforzare l’identità del territorio attraverso la narrazione del cibo e promuovere – di conseguenza – forme di turismo autentico\, esperienziale e sostenibile. \nIl programma degli appuntamenti si articola su più livelli\, con un impianto ben definito e distribuito nel corso dei mesi\, in grado di offrire un panorama di esperienze varie e coinvolgenti. \nLe conferenze con degustazione\nGli appuntamenti sono dedicati al racconto dei prodotti e delle tradizioni culinarie locali\, arricchiti da degustazioni guidate. Gli incontri si tengono in luoghi emblematici\, che hanno un legame reale e simbolico con i temi trattati. \nLe anteprime degli eventi\nLe anteprime del Festival del Pesce Azzurro\, del Tartufo d’Amare e del Benedetto Brodetto consistono in eventi esclusivi e a numero limitato\, che anticipano i festival principali e si svolgono in location selezionate come ristoranti e spazi dedicati. \nGli eventi principali\nLe manifestazioni principali del progetto\, aperte al pubblico e ospitate nelle piazze più rappresentative della città\, rappresentano il culmine dell’esperienza enogastronomica. \n\nFestival del Pesce Azzurro\nDal 29 maggio al 2 giugno\, in Piazza Giorgini e Viale Buozzi\, un tuffo nel gusto del pesce del nostro mare.\nTartufo d’Amare\nDal 10 al 13 luglio\, in Piazza Salvo D’Acquisto\, per assaporare l’originale connubio tra i sapori che mare e montagna sanno regalare.\nBenedetto Brodetto\nDal 13 al 17 agosto\, in Piazza Giorgini e Viale Buozzi\, si celebrano le tradizioni e l’eccellenza nostrane\, attraverso un piatto che parla di mare\, di terra e di storia.\n\n  \nIn queste occasioni\, showcooking\, degustazioni\, musica e laboratori animeranno il cuore delle città\, trasformandole in veri e propri palcoscenici del gusto. \nLe azioni di promozione \nA corredo\, nell’ottica di valorizzare e far conoscere il progetto a una più ampia platea\, è stata prevista la partecipazioni a eventi di carattere nazionali. La presenza a Fritto Misto (Ascoli Piceno\, 24 aprile – 4 maggio) e Vinòforum (Roma\, 8 – 14 settembre) rappresenta infatti una scelta strategica per raccontare e promuovere il nostro patrimonio gastronomico \nIniziative di Educational Tour con blogger\nImportante azioni di comunicazione esperienziale coinvolgono travel blogger e food blogger italiani\, che vivranno il territorio in prima persona e lo racconteranno attraverso i propri canali: il 15 marzo\, 29 marzo e 12 aprile le tappe previste riguardano i musei e le location culturali della nostra città\, mentre – durante i festival principali – i creator testimonieranno le loro esperienze “sul campo”. \nScarica la locandina dell’evento.
URL:https://turismo.comunesbt.it/evento/la-cultura-del-cibo-dalla-costa-ai-borghi/
LOCATION:Vari luoghi
CATEGORIES:Food & Drink
ATTACH;FMTTYPE=image/png:https://turismo.comunesbt.it/wp-content/uploads/2025/03/cultura-cibo-1.png
END:VEVENT
BEGIN:VEVENT
DTSTART;VALUE=DATE:20250516
DTEND;VALUE=DATE:20250519
DTSTAMP:20260422T162109
CREATED:20250513T061509Z
LAST-MODIFIED:20250513T061509Z
UID:10000693-1747353600-1747612799@turismo.comunesbt.it
SUMMARY:Grand Tour Musei nelle Marche
DESCRIPTION:Dal 16 al 18 maggio 2025\, la Regione Marche celebra la Giornata Internazionale dei Musei con una nuova edizione del Grand Tour Musei\, il progetto che mette in rete cultura\, territorio e partecipazione. \nIl tema scelto quest’anno da ICOM – “Il futuro dei musei nelle comunità in rapida trasformazione” – diventa il filo conduttore di tre appuntamenti speciali che uniscono riflessione\, musica e gioco. \nUn’occasione per vivere i musei in modo nuovo e coinvolgente\, tra incontri\, note e tecnologia immersiva. \nVenerdì 16 maggio – ore 16:00\nMUSEI E COMUNITÀ\nIncontro pubblico\nUn dialogo aperto con operatori culturali e istituzioni per esplorare il ruolo dei musei all’interno delle comunità locali\, tra sfide e opportunità.\nIngresso gratuito. \nSabato 17 maggio – ore 17:15 e 21:00\nMUSEI IN CONCERTO\nGli spazi museali si trasformano in palcoscenico grazie ai professori e agli allievi dell’Istituto Musicale “Antonio Vivaldi”. Un’esperienza unica dove la musica accompagna il patrimonio\, rendendo la visita un vero concerto dell’anima.\nIngresso gratuito – Prenotazione obbligatoria al 353 4109069. \nDomenica 18 maggio – ore 10:30\nIN MARE APERTO: UN GIORNO DA PICCOLI MARINAI\nMuseo del Mare – San Benedetto del Tronto\nUn’avventura pensata per bambini dai 6 ai 10 anni. Con i nuovi visori in realtà aumentata\, i piccoli esploratori seguiranno la giornata tipo di un marinaio e\, tra giochi e sfide\, conquisteranno il titolo di capitano!\nCosto: € 7 a bambino – Info e prenotazioni 353 4109069. \nIl Grand Tour Musei è promosso dall’Assessorato alla Cultura della Regione Marche e dalla Fondazione Marche Cultura\, in collaborazione con MiC Marche\, ICOM Italia – Coordinamento Regionale Marche\, il Sistema Museale Piceno\, Consorzio Il Picchio\, Integra – Servizi per la Cultura e il Turismo e Visit San Benedetto. \nScarica la locandina dell’evento.
URL:https://turismo.comunesbt.it/evento/grand-tour-musei-nelle-marche/
LOCATION:Vari luoghi
CATEGORIES:Culture
ATTACH;FMTTYPE=image/png:https://turismo.comunesbt.it/wp-content/uploads/2025/05/grand-tour-1.png
END:VEVENT
BEGIN:VEVENT
DTSTART;VALUE=DATE:20250501
DTEND;VALUE=DATE:20250818
DTSTAMP:20260422T162109
CREATED:20250523T090552Z
LAST-MODIFIED:20250523T090552Z
UID:10000695-1746057600-1755475199@turismo.comunesbt.it
SUMMARY:EcoFestival della Cucina Marinara e del Brodetto Sambenedettese
DESCRIPTION:Si accendono i riflettori sull’EcoFestival della Cucina Marinara e del Brodetto Sambenedettese\, che entra ufficialmente nel vivo con i primi due appuntamenti aperti al pubblico\, gratuiti e pensati per coinvolgere l’intera comunità. \nSan Benedetto del Tronto si trasforma in un laboratorio a cielo aperto\, dove la cultura marinara incontra la sostenibilità\, il gusto e la tradizione. Un’occasione unica per scoprire – e riscoprire – il valore del mare e di chi lo vive ogni giorno: pescatori\, chef\, studenti\, musei\, scienziati e operatori turistici sono i protagonisti di un ricco programma di eventi\, incontri\, degustazioni e attività divulgative. \nL’invito è aperto a tutti: residenti\, turisti\, studenti\, famiglie e appassionati di cucina e di mare. Un viaggio autentico tra sapori\, storie e saperi\, alla scoperta della pesca sostenibile e della grande tradizione del brodetto sambenedettese\, rivisitato con uno sguardo rivolto al futuro. \nL’EcoFestival è promosso dal Comune di San Benedetto del Tronto e cofinanziato dalla Regione Marche\, nell’ambito del Programma Nazionale del Fondo Europeo per gli Affari Marittimi\, la Pesca e l’Acquacoltura – Reg. (UE) 2021/1139 – Priorità 2\, Azione 4 – Codice Intervento 222402 – Promozione. \nInfo e aggiornamenti\nTELEFONO: 3516380479\nSITO WEB→ ecofestivalsbt.it\nINSTAGRAM\nFACEBOOK 
URL:https://turismo.comunesbt.it/evento/ecofestival-della-cucina-marinara-e-del-brodetto-sambenedettese/
LOCATION:Vari luoghi
CATEGORIES:Food & Drink
ATTACH;FMTTYPE=image/png:https://turismo.comunesbt.it/wp-content/uploads/2025/05/ecofestival-1.png
END:VEVENT
BEGIN:VEVENT
DTSTART;VALUE=DATE:20250423
DTEND;VALUE=DATE:20250501
DTSTAMP:20260422T162109
CREATED:20250415T092114Z
LAST-MODIFIED:20250415T092114Z
UID:10000689-1745366400-1746057599@turismo.comunesbt.it
SUMMARY:25 aprile 2025 - Celebrazioni della Liberazione
DESCRIPTION:Anche quest’anno San Benedetto del Tronto celebra il 25 aprile con un ricco programma di eventi che si estende per un’intera settimana\, dal 23 al 30 aprile. Un’occasione per ricordare\, riflettere\, ma anche condividere momenti di arte\, cultura e memoria collettiva. \nProiezioni cinematografiche\, incontri\, performance artistiche\, installazioni multimediali e musica: un calendario pensato per tutte le generazioni\, capace di intrecciare il valore della memoria storica con linguaggi creativi contemporanei. \nEventi in programma\nMercoledì 23 aprile – ore 17.30 e 21.15 – Cinema Teatro Concordia\nProiezione del film “Berlino Estate 42” di Andreas Dresen (Germania\, 2024).\nIntroduzione a cura di Costantino Di Sante\, Università del Molise.\nA cura del Cineforum “Buster Keaton”. \nGiovedì 24 aprile – ore 17.30 – Sala convegni Museo del Mare\nPresentazione del libro “La banda Paolini tra gloria e martirio”.\nDi Alessandro Pertosa e Gino Troli.\nA cura di ANPI e Istituto Provinciale per la Storia del Movimento di Liberazione nelle Marche. \nVenerdì 25 aprile – ore 11.30 – Viale Moretti / Largo Onorati\nCelebrazione ufficiale della Festa della Liberazione.\nDeposizione di corone ai Monumenti ai Caduti. \nOre 15.00 – Vie del Centro / Piazzetta Andrea Pazienza\nCorteo con soste alle targhe dedicate ai partigiani sambenedettesi e festa conclusiva in piazzetta.\nA cura dell’ANPI – Sezione di S. Benedetto del Tronto. \n25\, 26 e 27 aprile – dalle 20.00 alle 24.00 – Torre dei Gualtieri\nMaris – Luci\, suoni e immagini per raccontare il mare.\nTre serate in cui la piazza del Torrione risplende di luci e immagini nuove\, tra arte\, memoria e paesaggio. A cura di Pietro Cardarelli.\nL’evento si inserisce nel progetto “Riabitare il Paese Alto – La riqualificazione attraverso la cultura e il sociale”. \nSabato 26 aprile – ore 18.30 – Piazza Sacconi\nPreferisco il rumore del mare – Teatro di strada.\nUn’occasione per vivere il teatro in piena libertà\, come esperienza collettiva\, tra emozioni e creatività.\nA cura di Caleidoscopio APS.\nL’evento si inserisce nel progetto “Riabitare il Paese Alto – La riqualificazione attraverso la cultura e il sociale”. \nDomenica 27 aprile – ore 17.30 – Vie del Paese Alto\nFunk Off – Performance funky marchin’ band.\nPerformance dei Funk Off\, la prima funky marchin’ band italiana\, attiva da oltre 25 anni e con più di 1000 concerti alle spalle.\nL’evento si inserisce nel progetto “Riabitare il Paese Alto – La riqualificazione attraverso la cultura e il sociale”. \nMercoledì 30 aprile – Ore 21.00 – Piazza Bice Piacentini\nCirco Aerial Dance – Danza e acrobazie aeree.\nUn’esperienza tra sogno e realtà\, grazie alla forza ed eleganza delle danze aeree\, che illuminerà la notte del Paese Alto. A cura della Compagnia dei Folli.\nL’evento si inserisce nel progetto “Riabitare il Paese Alto – La riqualificazione attraverso la cultura e il sociale”. \nScarica il programma dell’evento.
URL:https://turismo.comunesbt.it/evento/25-aprile-2025-celebrazioni-della-liberazione/
LOCATION:Vari luoghi
CATEGORIES:Culture,Music & Fun
ATTACH;FMTTYPE=image/png:https://turismo.comunesbt.it/wp-content/uploads/2025/04/25-aprile-1-1.png
END:VEVENT
BEGIN:VEVENT
DTSTART;TZID=Europe/Rome:20250327T080000
DTEND;TZID=Europe/Rome:20250330T170000
DTSTAMP:20260422T162109
CREATED:20250326T111037Z
LAST-MODIFIED:20250326T111037Z
UID:10000673-1743062400-1743354000@turismo.comunesbt.it
SUMMARY:Gran Fondo San Benedetto del Tronto
DESCRIPTION:Il grande ciclismo torna protagonista a San Benedetto del Tronto con la 16ª edizione della Gran Fondo San Benedetto del Tronto – Riviera delle Palme\, in programma domenica 30 marzo. Una manifestazione attesa\, che unisce passione sportiva\, valorizzazione del territorio e attenzione al sociale. \nDue i percorsi in programma\, entrambi in partenza da Viale Buozzi alle ore 8:30: il lungo da 123 km e 1.900 metri di dislivello\, pensato per i ciclisti più esperti\, e il medio da 83 km e 1.000 metri di dislivello\, ideale per chi cerca il giusto equilibrio tra tecnica e bellezza paesaggistica. Entrambi attraversano l’entroterra piceno\, tra salite impegnative\, discese panoramiche e scorci spettacolari sui borghi e le colline marchigiane. \nMa la Gran Fondo è molto di più di una gara: è un evento corale che coinvolge tutta la città. Dal 27 al 30 marzo\, il weekend sarà animato da iniziative aperte a tutti. \nSi inizia giovedì 27 Marzo con il convegno “Forza e inclusione: lo sport senza barriere”\, che si terrà alle 10:00 all’auditorium comunale “Giovanni Tebaldini”\, un momento di confronto sul ruolo della donna nello sport e sulle barriere sociali da abbattere\, con il contributo di alcuni atleti paralimpici che interverranno sulle tematiche.\nScarica la locandina dell’evento. \nSecondo appuntamento venerdì 28 marzo\, sempre all’auditorium “Tebaldini”\, con un incontro educativo dedicato allo slow food e ai cambiamenti climatici. Esperti e professionisti affronteranno il tema dell’alimentazione sana\, dell’agricoltura\, del cibo e di come questi sono cambiati e cambieranno in base all’evoluzione climatica. I partecipanti potranno inoltre godere di un pranzo con prodotti tipici locali e un tour alla scoperta del territorio.\nScarica la locandina dell’evento. \nSabato 29 Marzo la bicicletta sarà la protagonista di tutta la giornata. In piazza Giorgini si terrà la “Pedalata Rosa”\, momento sportivo e formativo realizzato in collaborazione associazione Giustizia Donna e Marche Living. L’appuntamento ha l’obiettivo di sensibilizzare i partecipanti alla Granfondo e il pubblico sul tema della violenza di genere.\nScarica la locandina dell’evento. \nSeguirà la “Gimkana per bambini”\, evento organizzata insieme all’associazione Pedale Rossoblu\, uno spazio dedicato ai più piccoli con attività ludiche e interattive per avvicinare i bambini al mondo dello sport in modo divertente e sicuro.\nConcluderà la giornata il concerto in Piazza Giorgini che vedrà avvicendarsi sul palco gli Sugar Friends e i Sacromud.\nScarica la locandina dell’evento. \nDurante i tre giorni della manifestazione sarà inoltre presente il gazebo dell’associazione Michelepertutti\, charity partner dell’evento\, a cui sarà possibile dare sostegno acquistando il Micheleuovo e la Michelecolomba. I fondi raccolti finanzieranno l’attività dell’associazione\, che si occupa da anni di assistenza ai bambini con lesioni cerebrali e fornisce supporto alle loro famiglie. \nUna festa per tutti\, su due ruote e non solo. \nPer maggiori info:\nEmail gfsanbenedettodeltronto@gmail.com\nTel +39 0735 591154
URL:https://turismo.comunesbt.it/evento/gran-fondo-san-benedetto-del-tronto/
LOCATION:Vari luoghi
CATEGORIES:Sport
ATTACH;FMTTYPE=image/png:https://turismo.comunesbt.it/wp-content/uploads/2025/03/gran-fondo-1.png
END:VEVENT
BEGIN:VEVENT
DTSTART;VALUE=DATE:20250322
DTEND;VALUE=DATE:20250324
DTSTAMP:20260422T162109
CREATED:20250311T194505Z
LAST-MODIFIED:20250311T194505Z
UID:10000644-1742601600-1742774399@turismo.comunesbt.it
SUMMARY:Giornate FAI di Primavera
DESCRIPTION:Sabato 22 e domenica 23 marzo 2025 tornano per la 33ª edizione le Giornate FAI di Primavera\, il principale evento di piazza dedicato al patrimonio culturale e paesaggistico italiano. \nPer questa edizione speciale\, che coincide con i 50 anni dalla nascita del FAI (Fondo per l’Ambiente Italiano)\, a San Benedetto verranno aperti dai volontari del Gruppo FAI San Benedetto del Tronto due luoghi importantissimi per la nostra cultura marinara: il Faro e i Cantieri navali. \nLe Giornate FAI di Primavera sono una grande festa all’insegna di arte\, cultura e natura\, un appuntamento entrato ormai nelle agende e nei cuori degli italiani. I luoghi aperti grazie all’impegno dei volontari FAI e degli Apprendisti Ciceroni (studenti appositamente formati in collaborazione con i loro docenti) sono spesso insoliti e normalmente inaccessibili\, oppure poco conosciuti e valorizzati. Ad ogni visita è possibile sostenere la missione e le attività della Fondazione con una donazione. \nPer la città di San Benedetto del Tronto saranno due giorni di festa nei quali sarà possibile visitare due luoghi fondamentali della sua area portuale: il Faro\, grazie all’accordo con lo Stato Maggiore della Difesa\, l’Autorità Portuale del Mare Adriatico centrale e la Capitaneria di Porto di San Benedetto\, e i Cantieri navali\, in collaborazione con la CNA Nautica Ascoli Piceno\, i proprietari dei cantieri e la Lega Navale Italiana. \nGli orari delle visite saranno 9.00-12.30 e 15.00-17.30\, sia sabato 22 marzo che domenica 23 marzo\, con i seguenti punti obbligatori di accesso: per il Faro presso il cancello di ingresso in viale Marinai d’Italia\, e per i Cantieri Navali presso le “casette di legno” del Villaggio della Piccola Pesca\, in via Pasqualini. \nL’apertura del Faro sarà organizzata in gruppi di dimensione limitata\, in osservanza alle misure di sicurezza\, con partenze ogni 30 minuti. Si rende noto che saranno possibili attese in coda e\, in caso di particolare affluenza\, l’accesso potrebbe non essere garantito. La visita\, data la presenza di passaggi ristretti e di 150 scalini\, è consigliata solo a persone in buone condizioni psico-fisiche. \nL’apertura dei Cantieri navali\, anch’essa organizzata in gruppi con partenza dal Villaggio della Piccola Pesca\, partirà proprio con il racconto di quest’ultima area di recente realizzazione. Si farà poi tappa presso la banchina della Lega Navale Italiana\, dove verrà esposta la lancetta “Tastutina”\, risalente al 1929 e restaurata pochi anni fa\, e verranno raccontate le reti e i nodi marinari\, oltre alla storia della pesca sambenedettese. Infine si farà visita ai cantieri navali Ascolani\, Ondamarina\, Fortek\, Navaltecnica e SEA\, dove si potranno osservare le lavorazioni svolte sulle imbarcazioni. \nAd affiancare i volontari e le volontarie FAI\, nelle due Giornate\, saranno gli Apprendisti Ciceroni dei seguenti istituti: il Liceo Scientifico e delle Scienze Umane “L. Mercantini” di Ripatransone\, il Liceo Scientifico “B. Rosetti” di San Benedetto del Tronto\, l’Istituto Tecnico per il Turismo “P. Fazzini” di Grottammare e l’IPSIA “A. Guastaferro” di San Benedetto del Tronto. \nL’evento ha ricevuto il Patrocinio da parte del Comune di San Benedetto del Tronto\, e a livello nazionale si svolge con il Patrocinio della Commissione europea\, del Ministero della Cultura e di tutte le Regioni e le Province Autonome italiane. \nPer informazioni è possibile contattare il Gruppo FAI San Benedetto del Tronto all’email sanbenedettodeltronto@gruppofai.fondoambiente.it o sui suoi profili Facebook e Instagram.
URL:https://turismo.comunesbt.it/evento/giornate-fai-di-primavera/
LOCATION:Vari luoghi
CATEGORIES:Culture
ATTACH;FMTTYPE=image/png:https://turismo.comunesbt.it/wp-content/uploads/2025/03/Fai-primavera-1.png
END:VEVENT
BEGIN:VEVENT
DTSTART;VALUE=DATE:20250308
DTEND;VALUE=DATE:20250409
DTSTAMP:20260422T162109
CREATED:20250303T161703Z
LAST-MODIFIED:20250303T161703Z
UID:10000641-1741392000-1744156799@turismo.comunesbt.it
SUMMARY:Marzo è Donna 2025
DESCRIPTION:Anche quest’anno\, San Benedetto del Tronto celebra la donna con un ricco programma di eventi culturali\, artistici e sportivi. La rassegna Marzo è Donna 2025 propone iniziative che spaziano dalla letteratura al teatro\, dallo sport alla memoria civile. \nSi parte l’8 marzo con la passeggiata “Panchine rosse tutto l’anno” e un incontro letterario con poetesse di fama nazionale. Il 9 marzo\, spazio alla cultura locale con la lettura del libro Donne Sambenedettesi\, mentre il 13 marzo il Teatro Concordia ospiterà Ambra Angiolini in Oliva Denaro. \nIl 15 marzo sarà dedicato al benessere con un corso di Nordic Walking\, seguito il 20 marzo da un incontro poetico con Enrica Loggi. Il 21 marzo\, la camminata “In cammino per la salute\, la pace e la legalità” renderà omaggio alle vittime della mafia. Il 25 marzo torna la rassegna In Art\, con un tributo a Emily Dickinson. \nDa non perdere\, dal 23 marzo al 27 aprile\, la mostra d’arte Disarmonia leggera di Paola Celi. Infine\, l’8 aprile si chiuderà con La ballata delle donne\, tra incontri letterari e musica. \nEventi in programma\nSabato 8 marzo\n9:30 – Passeggiata “Panchine rosse tutto l’anno” con partenza dal Centro Commerciale Porto Grande\n18:00 – Incontro letterario “La vita sognata” presso Auditorium G. Tebaldini \nDomenica 9 marzo\n18:00 – Letture dal libro “Donne Sambenedettesi” presso Associazione Pescatori Sambenedettesi \nLunedì 10 marzo\n17:30 – “Le matriarche e i freché – Infanzia e matriarcato nella San Benedetto marinara della tradizione” presso Museo del Mare \nGiovedì 13 marzo\n20:45 – Spettacolo teatrale “Oliva Denaro” con Ambra Angiolini presso Teatro Concordia \nSabato 15 marzo\n15:00-17:00 – Corso gratuito di Nordic Walking presso Ingresso Nord Riserva Naturale Sentina\, Via del Cacciatore \nVenerdì 21 marzo\n21:00-22:30 – Camminata “In cammino per la salute\, la pace e la legalità” presso Piazza Setti Carraro \nMartedì 25 marzo\nTeatro Concordia – IV Appuntamento della Rassegna In Art\n21:00 – Incontro con Marina Benedetto “Fa’ che io sia l’estate per te”\n22:00 – Concerto di Barbara Eramo “Cantando Emily” \nDal 23 marzo al 27 aprile\nMostra d’arte “Disarmonia leggera” di Paola Celi presso Palazzina Azzurra \nMartedì 8 aprile\nTeatro Concordia – V Appuntamento della Rassegna In Art “La Ballata delle Donne”\n21:00 – Incontro con Claudia Cundari “I palpiti delle donne”\n21:00 – Incontro con Rossella Seno “Canzoni e altre inquisizioni” \nScarica la locandina dell’evento.
URL:https://turismo.comunesbt.it/evento/marzo-e-donna-2025/
LOCATION:Vari luoghi
CATEGORIES:Culture
ATTACH;FMTTYPE=image/png:https://turismo.comunesbt.it/wp-content/uploads/2025/03/MARZO-DONNA-1.png
END:VEVENT
BEGIN:VEVENT
DTSTART;VALUE=DATE:20250221
DTEND;VALUE=DATE:20250531
DTSTAMP:20260422T162109
CREATED:20250220T085600Z
LAST-MODIFIED:20250220T085600Z
UID:10000637-1740096000-1748649599@turismo.comunesbt.it
SUMMARY:I Venerdì del Circolo dei Sambenedettesi
DESCRIPTION:Il Circolo dei Sambenedettesi presenta una nuova serie di incontri culturali che si terranno da febbraio a maggio 2025. Un’occasione per esplorare la storia\, l’arte\, la tradizione e il dialetto della città attraverso conferenze e approfondimenti curati da esperti del settore. \nGli eventi sono gratuiti e aperti a tutti\, un’opportunità per appassionati\, studiosi e cittadini di scoprire il ricco patrimonio storico e culturale di San Benedetto del Tronto. \nEcco il calendario degli appuntamenti: \nVenerdì 21 febbraio 2025\, ore 17:00\nIn ricordo di Gabriele Cavezzi: per una bibliografia completa di un protagonista della ricerca storica\nLuogo: Biblioteca Comunale “G. Lesca”\nInterventi: Roberta Spinelli\, Stefano Cavezzi\, Barbara Domini\, Giancarlo Brandimarti\, Giuseppe Merlini\, Gino Troli \nVenerdì 7 marzo 2025\, ore 17:30\nSeguendo la cometa: uno sguardo alla poesia vernacolare sambenedettese\nLuogo: Sala della Poesia\, Palazzo Piacentini\nA cura di: Giancarlo Brandimarti \nVenerdì 14 marzo 2025\, ore 17:00\nI 90 anni del Mercato Ittico di San Benedetto (1935-2025)\nLuogo: Biblioteca Comunale “G. Lesca”\nA cura di: Giuseppe Merlini e Gino Troli \nVenerdì 21 marzo 2025\, ore 17:30\nArchivi della memoria: l’Archivio Storico Comunale e gli altri archivi pubblici di San Benedetto del Tronto\nLuogo: Sala della Poesia\, Palazzo Piacentini\nA cura di: Giuseppe Merlini \nVenerdì 28 marzo 2025\, ore 17:30\nPer variopinti cieli: Giuseppe Pauri (1882-1949)\, pittore sambenedettese tra Liberty e Art Déco\nLuogo: Museo del Mare\nA cura di: Massimo Papetti \nVenerdì 4 aprile 2025\, ore 17:30\nPer non perdere la nostra lingua: fondazione di un’Accademia Popolare di Dialetto Sambenedettese\nLuogo: Associazione Pescatori Sambenedettesi\, Piazzale Caduti del Mare\, 6\nEvento speciale: Presentazione del progetto di scuola di dialetto \nVenerdì 11 aprile 2025\, ore 17:30\nTra etnografia e antropologia: usi e costumi della marineria sambenedettese\nLuogo: Sala della Poesia\, Palazzo Piacentini\nA cura di: Giuseppe Merlini \nVenerdì 16 maggio 2025\, ore 17:30\nUna vita culturale tra arte e cinema: Lectio di Paolo Consorti\nLuogo: Museo del Mare \nVenerdì 30 maggio 2025\, ore 17:30\nLu Campanò e la stampa periodica sambenedettese: mezzo secolo di storia attraverso le pagine del nostro giornale\nLuogo: Museo del Mare\nA cura di: Patrizio Patrizi \nUn viaggio tra passato e presente per riscoprire le radici della nostra città.\nPer maggiori informazioni: www.circolodeisambenedettesi.eu \nScarica il programma completo degli incontri.
URL:https://turismo.comunesbt.it/evento/i-venerdi-del-circolo-dei-sambenedettesi/
LOCATION:Vari luoghi
CATEGORIES:Culture
ATTACH;FMTTYPE=image/png:https://turismo.comunesbt.it/wp-content/uploads/2025/02/venerdi-del-circolo-1.png
END:VEVENT
END:VCALENDAR